BEGIN:VCALENDAR
VERSION:2.0
PRODID:-//Woluwe Saint Pierre - ECPv6.13.2//NONSGML v1.0//EN
CALSCALE:GREGORIAN
METHOD:PUBLISH
X-WR-CALNAME:Woluwe Saint Pierre
X-ORIGINAL-URL:https://www.woluwe1150.be
X-WR-CALDESC:Évènements pour Woluwe Saint Pierre
REFRESH-INTERVAL;VALUE=DURATION:PT1H
X-Robots-Tag:noindex
X-PUBLISHED-TTL:PT1H
BEGIN:VTIMEZONE
TZID:Europe/Brussels
BEGIN:DAYLIGHT
TZOFFSETFROM:+0100
TZOFFSETTO:+0200
TZNAME:CEST
DTSTART:20250330T010000
END:DAYLIGHT
BEGIN:STANDARD
TZOFFSETFROM:+0200
TZOFFSETTO:+0100
TZNAME:CET
DTSTART:20251026T010000
END:STANDARD
END:VTIMEZONE
BEGIN:VEVENT
DTSTART;TZID=Europe/Brussels:20250330T140000
DTEND;TZID=Europe/Brussels:20250330T173000
DTSTAMP:20260424T231854
CREATED:20241206T110331Z
LAST-MODIFIED:20250218T110519Z
UID:76227-1743343200-1743355800@www.woluwe1150.be
SUMMARY:Bourse aux graines et boutures
DESCRIPTION:Stockel durable vous invite à sa 5ème bourse aux graines et boutures \nVenez donner\, échanger et prendre des graines et des boutures. Tout est gratuit. \nN’hésitez pas à apporter vos graines et vos boutures ! \nVous n’avez rien à échanger ? pas grave\, vous repartirez avec de quoi enrichir votre jardin. A bientôt ! \n  \nQuand : dimanche 30 mars de 14H à 17H30 \nOù : à l’Habitat groupé\, 170 rue longue\, 1150 BXL \n  \nContact : stockeldurable@gmail.com
URL:https://www.woluwe1150.be/event/bourse-aux-graines-et-boutures/
LOCATION:Habitat Groupé Longue Vue\, rue Longue\, 170\, Bruxelles\, Woluwe-Saint-Pierre\, 1150\, Belgique
CATEGORIES:Développement Durable
ATTACH;FMTTYPE=image/jpeg:https://www.woluwe1150.be/app/uploads/2024/12/Woluwe1150_Atelier-faire-son-pain.jpg
END:VEVENT
END:VCALENDAR