BEGIN:VCALENDAR
VERSION:2.0
PRODID:-//Woluwe Saint Pierre - ECPv6.13.2//NONSGML v1.0//EN
CALSCALE:GREGORIAN
METHOD:PUBLISH
X-WR-CALNAME:Woluwe Saint Pierre
X-ORIGINAL-URL:https://www.woluwe1150.be
X-WR-CALDESC:Évènements pour Woluwe Saint Pierre
REFRESH-INTERVAL;VALUE=DURATION:PT1H
X-Robots-Tag:noindex
X-PUBLISHED-TTL:PT1H
BEGIN:VTIMEZONE
TZID:Europe/Brussels
BEGIN:DAYLIGHT
TZOFFSETFROM:+0100
TZOFFSETTO:+0200
TZNAME:CEST
DTSTART:20250330T010000
END:DAYLIGHT
BEGIN:STANDARD
TZOFFSETFROM:+0200
TZOFFSETTO:+0100
TZNAME:CET
DTSTART:20251026T010000
END:STANDARD
END:VTIMEZONE
BEGIN:VEVENT
DTSTART;TZID=Europe/Brussels:20250619T193000
DTEND;TZID=Europe/Brussels:20250619T223000
DTSTAMP:20260424T180046
CREATED:20250218T112205Z
LAST-MODIFIED:20250218T112205Z
UID:77657-1750361400-1750372200@www.woluwe1150.be
SUMMARY:Soirée couture – Stockel Durable
DESCRIPTION:SOIRÉES COUTURE – Les jeudis de la couture chaque mois de 19h30 à 22h30. \nCoudre\, réparer\, upcycler\, tricoter\, broder\, crocheter\, échanger\, papoter\, prendre le temps. \nCe n’est pas un cours mais un moment de partage. Apportez votre matériel (tissu\, machine\, …). Nous mettons à disposition l’espace\, une planche à repasser et un fer\, et un petit peu de matériel. \nDates prévues pour les jeudis de la couture: \n\n21 novembre\n19 décembre\n16 janvier\n20 février\n20 mars\n17 avril\n15 mai\n19 juin\n\nDe 19h30 à 22h30 à l’Habitat Groupé Longue Vue – 170 rue Longue\, 1150 \nGratuit \nInscription et questions: sophie.schuermans@gmail.com \n\n\nInformations\nWebsite : https://www.habitat-groupe.be/habitat-alternatif/habitat-ecologique/longue-vue/\nAdresse : rue Longue\, 170 – Bruxelles\, 1150
URL:https://www.woluwe1150.be/event/soiree-couture-stockel-durable-15/
LOCATION:Habitat Groupé Longue Vue\, rue Longue\, 170\, Bruxelles\, Woluwe-Saint-Pierre\, 1150\, Belgique
CATEGORIES:Animation,Développement Durable
ATTACH;FMTTYPE=image/png:https://www.woluwe1150.be/app/uploads/2023/09/Woluwe1150_Soiree-couture_Stockel-Durable.png
END:VEVENT
END:VCALENDAR