BEGIN:VCALENDAR
VERSION:2.0
PRODID:-//Woluwe Saint Pierre - ECPv6.13.2//NONSGML v1.0//EN
CALSCALE:GREGORIAN
METHOD:PUBLISH
X-ORIGINAL-URL:https://www.woluwe1150.be
X-WR-CALDESC:Évènements pour Woluwe Saint Pierre
REFRESH-INTERVAL;VALUE=DURATION:PT1H
X-Robots-Tag:noindex
X-PUBLISHED-TTL:PT1H
BEGIN:VTIMEZONE
TZID:Europe/Brussels
BEGIN:DAYLIGHT
TZOFFSETFROM:+0100
TZOFFSETTO:+0200
TZNAME:CEST
DTSTART:20250330T010000
END:DAYLIGHT
BEGIN:STANDARD
TZOFFSETFROM:+0200
TZOFFSETTO:+0100
TZNAME:CET
DTSTART:20251026T010000
END:STANDARD
END:VTIMEZONE
BEGIN:VEVENT
DTSTART;TZID=Europe/Brussels:20251012T100000
DTEND;TZID=Europe/Brussels:20251012T130000
DTSTAMP:20260424T125409
CREATED:20250728T114340Z
LAST-MODIFIED:20250728T114340Z
UID:81491-1760263200-1760274000@www.woluwe1150.be
SUMMARY:Conférence "Questions-réponses horticoles et bilan frelons asiatiques"
DESCRIPTION:Dimanche 12 octobre: conférence « Questions-réponses horticoles et bilan frelons asiatiques » (MM. Letor et Veys\, Jardins de Pomone\, Vespa Hunter 1150)\, organisée par le Cercle royal horticole et Avicole de Woluwe-Stockel. \n+ commandes groupées racines de chicon\, ballots paille\, ballots chanvres – revues.  \n\n\n\nDe 10h à 13h. Sur inscription.\n \nPrix : Gratuit pour les membres en ordre de cotisation 2025 (20€). Accès à la conférence à 8€.\nInscription préalable indispensable : info@cercle-horticole-woluwe.be – 0488 416 259.\n \nSite web : cercle-horticole-woluwe.be
URL:https://www.woluwe1150.be/event/conference-questions-reponses-horticoles-et-bilan-frelons-asiatiques-2/
CATEGORIES:Conférence,Développement Durable
ATTACH;FMTTYPE=image/png:https://www.woluwe1150.be/app/uploads/2024/06/Woluwe1150_Cercle-Royal-Horticol-et-Avicol.png
END:VEVENT
BEGIN:VEVENT
DTSTART;TZID=Europe/Brussels:20251012T140000
DTEND;TZID=Europe/Brussels:20251012T160000
DTSTAMP:20260424T125409
CREATED:20251007T114945Z
LAST-MODIFIED:20251007T114945Z
UID:84768-1760277600-1760284800@www.woluwe1150.be
SUMMARY:Balade "Découverte des champignons en Forêt de Soignes"
DESCRIPTION:Dimanche 12 octobre 2025-Découverte des champignons en Forêt de Soignes. \nOrganisation : Prenons le temps. \nThème : observer les champignons. \nRendez-vous : à 14 h. rue A. Balis\, devant le terrain de pétanque( W.S.P.) \nDurée de la promenade gratuite : environ 2 heures. \nCommentaires en français par les guides nature Bernard DETHY et Raymond DELAHAYE \nInscription obligatoire raymonddelahaye08@gmail.com  ou par message G.S.M. 0479 13 42 70 . \nAnnulation en cas de période de sécheresse. \n 
URL:https://www.woluwe1150.be/event/balade-decouverte-des-champignons-en-foret-de-soignes/
CATEGORIES:Développement Durable,Balade
ATTACH;FMTTYPE=image/jpeg:https://www.woluwe1150.be/app/uploads/2025/10/Woluwe1150_champignons.jpg
ORGANIZER;CN="Quartier Durable Prenons le Temps":MAILTO:info@prenonsletemps.be
END:VEVENT
END:VCALENDAR