BEGIN:VCALENDAR
VERSION:2.0
PRODID:-//Woluwe Saint Pierre - ECPv6.13.2//NONSGML v1.0//EN
CALSCALE:GREGORIAN
METHOD:PUBLISH
X-ORIGINAL-URL:https://www.woluwe1150.be
X-WR-CALDESC:Évènements pour Woluwe Saint Pierre
REFRESH-INTERVAL;VALUE=DURATION:PT1H
X-Robots-Tag:noindex
X-PUBLISHED-TTL:PT1H
BEGIN:VTIMEZONE
TZID:Europe/Brussels
BEGIN:DAYLIGHT
TZOFFSETFROM:+0100
TZOFFSETTO:+0200
TZNAME:CEST
DTSTART:20250330T010000
END:DAYLIGHT
BEGIN:STANDARD
TZOFFSETFROM:+0200
TZOFFSETTO:+0100
TZNAME:CET
DTSTART:20251026T010000
END:STANDARD
END:VTIMEZONE
BEGIN:VEVENT
DTSTART;TZID=Europe/Brussels:20251026T140000
DTEND;TZID=Europe/Brussels:20251026T160000
DTSTAMP:20260424T111812
CREATED:20251007T114648Z
LAST-MODIFIED:20251007T114648Z
UID:84763-1761487200-1761494400@www.woluwe1150.be
SUMMARY:Balade gratuite "La mythologie des arbres"
DESCRIPTION:Cette balade nature vise à intéresser et à sensibiliser le public à la protection des arbres d’une manière originale. \nIl n’est nullement question d’un plaidoyer vibrant pour la nature ni d’un texte ésotérique. C’est en montrant simplement le rôle important que nos arbres jouent dans toutes les civilisations sur le plan de la représentation de l’univers que nous tentons d’atteindre ces buts. \n  \nOrganisation : Prenons le temps \nQuand: 26/10/2025 \nRendez-vous : 14 h 00 à la place de l’Orée (près du passage couvert). \nDurée : environ 2 heures ; commentaires en français ; gratuit. \nBalade nature dans Joli-Bois \nSTIB : bus 36 \nInscription obligatoire par : \n\nmail beneton@gmail.com\nmessage au n° de G.S.M. 0479 13 42 70.
URL:https://www.woluwe1150.be/event/balade-gratuite-la-mythologie-des-arbres/
CATEGORIES:Développement Durable,Balade
ATTACH;FMTTYPE=image/jpeg:https://www.woluwe1150.be/app/uploads/2025/10/Woluwe1150_Mystique-arbre.jpg
ORGANIZER;CN="Prenons le Temps Joli-Bois":MAILTO:info@prenonsletemps.be
END:VEVENT
END:VCALENDAR