BEGIN:VCALENDAR
VERSION:2.0
PRODID:-//Woluwe Saint Pierre - ECPv6.13.2//NONSGML v1.0//EN
CALSCALE:GREGORIAN
METHOD:PUBLISH
X-ORIGINAL-URL:https://www.woluwe1150.be
X-WR-CALDESC:Évènements pour Woluwe Saint Pierre
REFRESH-INTERVAL;VALUE=DURATION:PT1H
X-Robots-Tag:noindex
X-PUBLISHED-TTL:PT1H
BEGIN:VTIMEZONE
TZID:Europe/Brussels
BEGIN:DAYLIGHT
TZOFFSETFROM:+0100
TZOFFSETTO:+0200
TZNAME:CEST
DTSTART:20250330T010000
END:DAYLIGHT
BEGIN:STANDARD
TZOFFSETFROM:+0200
TZOFFSETTO:+0100
TZNAME:CET
DTSTART:20251026T010000
END:STANDARD
END:VTIMEZONE
BEGIN:VEVENT
DTSTART;VALUE=DATE:20251217
DTEND;VALUE=DATE:20260101
DTSTAMP:20260424T072440
CREATED:20251204T083821Z
LAST-MODIFIED:20251204T083854Z
UID:88069-1765929600-1767225599@www.woluwe1150.be
SUMMARY:Portes ouvertes au Bab'l Market
DESCRIPTION:Sans être membre\, faites vous avez l’occasion de pouvoir faire vos courses jusque fin de l’année  au supermarché coopératif situé à Stockel. Plus d’info : babl-market.be    \n\n\n\n\n\n\n\n Oyé oyé\, c’est Portes Ouvertes chez Bab’l Market\, le supermarché coopératif de Stockel !\nVous en avez déjà entendu parler mais les shifts vous freinent\, ou vous n’osez pas entrer car vous n’êtes pas membre ? Rien de tout ça en novembre et décembre : tout le monde est le bienvenu pour faire ses courses ! \n L’objectif : redresser le chiffre d’affaires pour finir l’année à l’équilibre financier ! C’est un défi de taille\, alors à vous qui voyez cette publication\, faites un détour par Bab’l Market pour vos courses du jour\, de la semaine\, de Saint-Nicolas\, et de Fêtes de fin d’année ! \n\n\n Stuyvenberg 67\, 1150 WSP\n Mardi 12h-19h\, mercredi 10h-19h\, jeudi 15h-19h\, vendredi 12h-19h\, samedi 10h-19h\, dimanche 10h30-13h.  Fermé les jours fériés !\n\n\n 
URL:https://www.woluwe1150.be/event/portes-ouvertes-au-babl-market/
LOCATION:Bab’l Market\, 67 Stuyvenberg 1150\, Woluwe-Saint-Pierre\, Bruxelles\, 1150\, Belgique
CATEGORIES:Brocante,Développement Durable,Commerce/braderie
ATTACH;FMTTYPE=image/jpeg:https://www.woluwe1150.be/app/uploads/2025/12/Woluwe1150_-Babl-Market.jpg
ORGANIZER;CN="Bab'l Market":MAILTO:info@babl-market.be
END:VEVENT
BEGIN:VEVENT
DTSTART;VALUE=DATE:20251231
DTEND;VALUE=DATE:20260101
DTSTAMP:20260424T072440
CREATED:20251204T084156Z
LAST-MODIFIED:20251204T084156Z
UID:88074-1767139200-1767225599@www.woluwe1150.be
SUMMARY:Inspirons le Quartier : à vos idées\, prêts\, partez!
DESCRIPTION:Et si votre idée changeait le quartier ?\n L’appel à projets « Inspirons le Quartier » est ouvert ! Vous avez une idée pour rendre votre quartier plus vert\, plus solidaire ou plus vivant ? C’est le moment de la concrétiser \n Clôture des idées de projets : 31 décembre 2025\n Projets collectifs citoyens : nature et biodiversité\, alimentation\, ressources et déchets\, compost\, mobilité et propreté\n Infos & dépôt de projet : https://inspironslequartier.brussels/votre-projet\n Des questions ? Participez à une séance d’info les 17 ou 24 octobre 2025\n citizensprojects@environnement.brussels\n 0800 / 85 286\n——————————————————————–\n Wat als uw idee de wijk zou veranderen?\n De projectoproep “Vooruit met de Wijk” is geopend! Heeft u een idee om uw wijk groener\, meer solidair of levendiger te maken? Dit is het moment om het te realiseren \n Sluitingsdatum voor projectideeën: 31 december 2025\n Burgerprojecten\, natuur en biodiversiteit\, voeding\, hulpbronnen en afval\, compost\, mobiliteit en netheid\n Info & indiening van projecten : https://vooruitmetdewijk.brussels/uw-project/\n Info en indiening van je project: inspironslequartier.brussels\n Vragen? Neem deel aan een infosessie op 17 of 24 oktober 2025\n citizensprojects@environnement.brussels\n 0800 / 85 286\nWoluwe1150\nInspirons le Quartier / Vooruit met de Wijk
URL:https://www.woluwe1150.be/event/inspirons-le-quartier-a-vos-idees-prets-partez-2/
CATEGORIES:Développement Durable
ATTACH;FMTTYPE=image/jpeg:https://www.woluwe1150.be/app/uploads/2025/12/Woluwe1150_-Inspirons-le-Quartier.jpg
END:VEVENT
END:VCALENDAR