BEGIN:VCALENDAR
VERSION:2.0
PRODID:-//Woluwe Saint Pierre - ECPv6.13.2//NONSGML v1.0//EN
CALSCALE:GREGORIAN
METHOD:PUBLISH
X-ORIGINAL-URL:https://www.woluwe1150.be
X-WR-CALDESC:Évènements pour Woluwe Saint Pierre
REFRESH-INTERVAL;VALUE=DURATION:PT1H
X-Robots-Tag:noindex
X-PUBLISHED-TTL:PT1H
BEGIN:VTIMEZONE
TZID:Europe/Brussels
BEGIN:DAYLIGHT
TZOFFSETFROM:+0100
TZOFFSETTO:+0200
TZNAME:CEST
DTSTART:20260329T010000
END:DAYLIGHT
BEGIN:STANDARD
TZOFFSETFROM:+0200
TZOFFSETTO:+0100
TZNAME:CET
DTSTART:20261025T010000
END:STANDARD
END:VTIMEZONE
BEGIN:VEVENT
DTSTART;TZID=Europe/Brussels:20260221T140000
DTEND;TZID=Europe/Brussels:20260221T170000
DTSTAMP:20260424T071730
CREATED:20251204T082657Z
LAST-MODIFIED:20251204T082657Z
UID:88059-1771682400-1771693200@www.woluwe1150.be
SUMMARY:Conférence "Démonstration taille arbustes en jardin"
DESCRIPTION:Samedi 21 février : conférence « Démonstration taille arbustes en jardin » (Mme Denet)\, organisée par le Cercle royal horticole et Avicole de Woluwe-Stockel. \n\n\n\nDe 14h à 17h. Sur inscription.\n\n\n \nSi hiver trop rigoureux\, reporté au samedi 28 mars 2026. \n\n \n\nPrix : Gratuit pour les membres en ordre de cotisation 2025 (20€). Accès à la conférence à 8€.\nInscription préalable indispensable : info@cercle-horticole-woluwe.be – 0488 416 259.\n \nSite web : cercle-horticole-woluwe.be
URL:https://www.woluwe1150.be/event/conference-demonstration-taille-arbustes-en-jardin/
CATEGORIES:Conférence,Développement Durable
ATTACH;FMTTYPE=image/png:https://www.woluwe1150.be/app/uploads/2024/06/Woluwe1150_Cercle-Royal-Horticol-et-Avicol.png
END:VEVENT
END:VCALENDAR