BEGIN:VCALENDAR
VERSION:2.0
PRODID:-//Woluwe Saint Pierre - ECPv6.13.2//NONSGML v1.0//EN
CALSCALE:GREGORIAN
METHOD:PUBLISH
X-WR-CALNAME:Woluwe Saint Pierre
X-ORIGINAL-URL:https://www.woluwe1150.be
X-WR-CALDESC:Évènements pour Woluwe Saint Pierre
REFRESH-INTERVAL;VALUE=DURATION:PT1H
X-Robots-Tag:noindex
X-PUBLISHED-TTL:PT1H
BEGIN:VTIMEZONE
TZID:Europe/Brussels
BEGIN:DAYLIGHT
TZOFFSETFROM:+0100
TZOFFSETTO:+0200
TZNAME:CEST
DTSTART:20260329T010000
END:DAYLIGHT
BEGIN:STANDARD
TZOFFSETFROM:+0200
TZOFFSETTO:+0100
TZNAME:CET
DTSTART:20261025T010000
END:STANDARD
END:VTIMEZONE
BEGIN:VEVENT
DTSTART;TZID=Europe/Brussels:20260315T140000
DTEND;TZID=Europe/Brussels:20260315T160000
DTSTAMP:20260424T003021
CREATED:20260303T084236Z
LAST-MODIFIED:20260303T084236Z
UID:92794-1773583200-1773590400@www.woluwe1150.be
SUMMARY:Promenade gratuite "Qu'est-il arrivé à cet arbre?"
DESCRIPTION:Observation des arbres hors normes et des premières fleurs printanières en lisière de la Forêt de Soignes. \nOrganisation : Natura Woluwe et Prenons le temps. \nRendez-vous à 14 h.au rond-point de l’Orée devant le n° 495    de la rue au Bois à Woluwe-Saint-Pierre. \nDurée de la promenade guidée : environ 2 heures. Bottes ou bottines imperméables par temps humide. \nCommentaires en français. \nInformations et inscriptions : raymonddelahaye08@gmail.com ou par message G.S.M.0479 13 42 70 . Plus d’info.sur durable.woluwe1150.be
URL:https://www.woluwe1150.be/event/promenade-gratuite-quest-il-arrive-a-cet-arbre-2/
CATEGORIES:Animation,Développement Durable,Balade
ATTACH;FMTTYPE=image/jpeg:https://www.woluwe1150.be/app/uploads/2026/03/Woluwe1150_Arbres-1.jpg
ORGANIZER;CN="Natura Woluwe":MAILTO:raymonddelahaye08@gmail.com
END:VEVENT
BEGIN:VEVENT
DTSTART;TZID=Europe/Brussels:20260315T140000
DTEND;TZID=Europe/Brussels:20260315T173000
DTSTAMP:20260424T003021
CREATED:20260303T084428Z
LAST-MODIFIED:20260303T084555Z
UID:92803-1773583200-1773595800@www.woluwe1150.be
SUMMARY:Bourse aux graines et boutures
DESCRIPTION:Gratuit. \nDimanche 15 mars 2026 de 14H à 17H30\, à l’Habitat groupé\, 170 rue longue\, 1150 BXL. \nStockel durable vous invite à sa 6ème bourse aux graines et boutures \nVenez donner\, échanger et prendre des graines et des boutures. Tout est gratuit. \nN’hésitez pas à apporter vos graines et vos boutures ! \nVous n’avez rien à échanger ? pas grave\, vous repartirez avec de quoi enrichir votre jardin.  \nA bientôt ! \nSi vous avez des questions\, contactez-nous via stockeldurable@gmail.com
URL:https://www.woluwe1150.be/event/bourse-aux-graines-et-boutures-2/
LOCATION:Habitat Groupé Longue Vue\, rue Longue\, 170\, Bruxelles\, Woluwe-Saint-Pierre\, 1150\, Belgique
CATEGORIES:Brocante,Développement Durable
ATTACH;FMTTYPE=image/jpeg:https://www.woluwe1150.be/app/uploads/2026/03/Woluwe1150_Bourse-aux-graines.jpg
END:VEVENT
END:VCALENDAR