BEGIN:VCALENDAR
VERSION:2.0
PRODID:-//Woluwe Saint Pierre - ECPv6.13.2//NONSGML v1.0//EN
CALSCALE:GREGORIAN
METHOD:PUBLISH
X-ORIGINAL-URL:https://www.woluwe1150.be
X-WR-CALDESC:Évènements pour Woluwe Saint Pierre
REFRESH-INTERVAL;VALUE=DURATION:PT1H
X-Robots-Tag:noindex
X-PUBLISHED-TTL:PT1H
BEGIN:VTIMEZONE
TZID:Europe/Brussels
BEGIN:DAYLIGHT
TZOFFSETFROM:+0100
TZOFFSETTO:+0200
TZNAME:CEST
DTSTART:20260329T010000
END:DAYLIGHT
BEGIN:STANDARD
TZOFFSETFROM:+0200
TZOFFSETTO:+0100
TZNAME:CET
DTSTART:20261025T010000
END:STANDARD
END:VTIMEZONE
BEGIN:VEVENT
DTSTART;TZID=Europe/Brussels:20260323T190000
DTEND;TZID=Europe/Brussels:20260327T170000
DTSTAMP:20260424T014908
CREATED:20260127T150423Z
LAST-MODIFIED:20260127T150539Z
UID:91559-1774292400-1774630800@www.woluwe1150.be
SUMMARY:THE WEEK: think\, participate & share
DESCRIPTION:NL: De milieucrisis voelt vaak abstract en overweldigend aan.\n‘The Week’ is een manier om dit onderwerp echt aan te kaarten met\nvrienden\, familie\, collega’s en buren samen.\nHet vertelt ons niet wat we moeten doen\, maar stelt ons in staat om zelf\neen besluit te nemen.\nZodat we later kunnen zeggen: “Ik wist wat ik moest weten\, ik heb gedaan\nwat ik moest doen en ik heb geen spijt”?\n \nFR: Trop souvent\, la crise environnementale semble abstraite et insurmontable.\n‘The Week’ est un moyen d’aborder cette question de manière concrète\,\navec des amis\, la famille\, les collègues et voisins ensemble.\nElle ne nous dit pas quoi faire\, mais nous donne les moyens de prendre nos propres décisions.\nPour que nous puissions dire plus tard :\n“Je savais ce que je devais savoir\, j’ai fait ce que je devais faire et je n’ai aucun regret”.\n\nToo often\, the environmental crisis feels abstract and overwhelming. »\nEN: The Week’ is a way to engage this issue\, for real\, with friends\, family\, colleagues and neighbours together.\nIt doesn’t tell us what to do\, but empowers us to make up our own minds.\nSo that we can say down the line:\n“I knew what I needed to know\, I did what I needed to do\, and I have no regrets”.\n \n\nQuand ? 23+25+27/03 – 19:00>21:00\, gratis\n \nInfo en inschrijven/inscription: kontakt@vgc.be- 02 765 37 74\nWebsite: gckontakt.be/
URL:https://www.woluwe1150.be/event/the-week-think-participate-share/
LOCATION:GC Kontakt\, 54 avenue Orbanlaan\, Sint-Pieters-Woluwe\, 1150
CATEGORIES:Animation,Développement Durable,Centres de quartier
ATTACH;FMTTYPE=image/png:https://www.woluwe1150.be/app/uploads/2026/01/Woluwe1150_The-Week.png
ORGANIZER;CN="GC Kontakt":MAILTO:kontakt@vgc.be
END:VEVENT
BEGIN:VEVENT
DTSTART;TZID=Europe/Brussels:20260325T183000
DTEND;TZID=Europe/Brussels:20260325T200000
DTSTAMP:20260424T014908
CREATED:20260303T085816Z
LAST-MODIFIED:20260303T085816Z
UID:92826-1774463400-1774468800@www.woluwe1150.be
SUMMARY:Soirée d'info - Gestion des eaux pluviales à mon échelle
DESCRIPTION:Soirée d’information visant à outiller les citoyens pour mettre en place des solutions concrètes de gestion des eaux pluviales à l’échelle de leur parcelle\nFace aux changements climatiques et à la multiplication des épisodes de pluies intenses\, la gestion des eaux pluviales est devenue un enjeu majeur. \nTrop souvent encore\, l’eau de pluie est considérée comme un déchet qu’il faut évacuer au plus vite vers les égouts. Or\, cette ressource précieuse peut être retenue\, infiltrée ou réutilisée localement\, avec de nombreux bénéfices à la clé pour la qualité de vie\, l’environnement et l’aspect financier. \nNous organisons pour cela une présentation de solutions concrètes\, accessibles et directement applicables pour les citoyens à l’échelle de leur parcelle. \n\nQuand ? 25/03/2026 – 18:30 > 20:00 \nOù ? Auberge des Maïeurs \nGratuit \nInscription souhaitée: durable@woluwe1150.be 
URL:https://www.woluwe1150.be/event/soiree-dinfo-gestion-des-eaux-pluviales-a-mon-echelle/
LOCATION:Auberge des Maïeurs\, Parv. Saint-Pierre 1\, Woluwe-Saint-Pierre\, \, 1150\, Belgique
CATEGORIES:Conférence,Développement Durable
ATTACH;FMTTYPE=image/jpeg:https://www.woluwe1150.be/app/uploads/2026/03/Woluwe1150_GIEP.jpg
ORGANIZER;CN="Service D%C3%A9veloppement Durable":MAILTO:durable@woluwe1150.be
END:VEVENT
END:VCALENDAR