BEGIN:VCALENDAR
VERSION:2.0
PRODID:-//Woluwe Saint Pierre - ECPv6.13.2//NONSGML v1.0//EN
CALSCALE:GREGORIAN
METHOD:PUBLISH
X-WR-CALNAME:Woluwe Saint Pierre
X-ORIGINAL-URL:https://www.woluwe1150.be
X-WR-CALDESC:Évènements pour Woluwe Saint Pierre
REFRESH-INTERVAL;VALUE=DURATION:PT1H
X-Robots-Tag:noindex
X-PUBLISHED-TTL:PT1H
BEGIN:VTIMEZONE
TZID:Europe/Brussels
BEGIN:DAYLIGHT
TZOFFSETFROM:+0100
TZOFFSETTO:+0200
TZNAME:CEST
DTSTART:20260329T010000
END:DAYLIGHT
BEGIN:STANDARD
TZOFFSETFROM:+0200
TZOFFSETTO:+0100
TZNAME:CET
DTSTART:20261025T010000
END:STANDARD
END:VTIMEZONE
BEGIN:VEVENT
DTSTART;TZID=Europe/Brussels:20260421T200000
DTEND;TZID=Europe/Brussels:20260421T220000
DTSTAMP:20260424T002749
CREATED:20250612T082146Z
LAST-MODIFIED:20250612T090802Z
UID:80649-1776801600-1776808800@www.woluwe1150.be
SUMMARY:Green Total
DESCRIPTION:Théâtre le mardi 21.04.2026 à 20h (dès 12 ans) \nOù en serons-nous dans 250ans ? Deux comédiens incarnent des personnages du futur. D’épisode en épisode\, comme une série de SF\, le public explore une dystopie en puzzle: ville suborbitale\, culturels d’algues\, terres émergées\, usines de robots… Un voyage qui interroge notre avenir en construction. \nPar le biais de sondage en temps réel entre les épisodes\, le public se positionne et choisit comment il voudrait voir l’histoire évoluer. \nDans le cadre du Cycle Passerelle Transition. \nPrix conscient: 10€ (réduit); 15€ (juste); 20€ (solidaire).  \nInfos et réservation: whalll.be  \n 
URL:https://www.woluwe1150.be/event/green-total/
LOCATION:Centre culturel/cultureel centrum Whalll\, 93 avenue Charles Thielemanslaan\, WSP/SPW\, 1150
CATEGORIES:Spectacle,Développement Durable,Théâtre
ATTACH;FMTTYPE=image/png:https://www.woluwe1150.be/app/uploads/2025/06/Woluwe1150_Green-Total.png
ORGANIZER;CN="Whalll":MAILTO:billetterie@whalll.be
END:VEVENT
END:VCALENDAR