BEGIN:VCALENDAR
VERSION:2.0
PRODID:-//Woluwe Saint Pierre - ECPv6.13.2//NONSGML v1.0//EN
CALSCALE:GREGORIAN
METHOD:PUBLISH
X-WR-CALNAME:Woluwe Saint Pierre
X-ORIGINAL-URL:https://www.woluwe1150.be
X-WR-CALDESC:Évènements pour Woluwe Saint Pierre
REFRESH-INTERVAL;VALUE=DURATION:PT1H
X-Robots-Tag:noindex
X-PUBLISHED-TTL:PT1H
BEGIN:VTIMEZONE
TZID:Europe/Brussels
BEGIN:DAYLIGHT
TZOFFSETFROM:+0100
TZOFFSETTO:+0200
TZNAME:CEST
DTSTART:20260329T010000
END:DAYLIGHT
BEGIN:STANDARD
TZOFFSETFROM:+0200
TZOFFSETTO:+0100
TZNAME:CET
DTSTART:20261025T010000
END:STANDARD
END:VTIMEZONE
BEGIN:VEVENT
DTSTART;TZID=Europe/Brussels:20260423T190000
DTEND;TZID=Europe/Brussels:20260423T220000
DTSTAMP:20260423T184030
CREATED:20250612T082624Z
LAST-MODIFIED:20250612T082700Z
UID:80654-1776970800-1776981600@www.woluwe1150.be
SUMMARY:Fresque du numérique
DESCRIPTION:Atelier interactif pour le climat le 23.04.26 à 19h (dès 16 ans) \nEn 3 heures et en équipe : découvrez et appropriez-vous-en un temps record les données et enjeux environnementaux du numérique. Car pour agir\, il faut comprendre ! \nL’atelier permet d’identifier les impacts du secteur sur l’environnement\, de découvrir les actions les plus efficaces pour réduire cet impact\, et d’échanger en équipe autour de solutions concrètes pour un numérique plus durable. \nDans le cadre du Cycle Passerelle Transition. \nGratuit – sur inscription indispensable \nInfos et réservation: whalll.be 
URL:https://www.woluwe1150.be/event/fresque-du-numerique/
LOCATION:Centre culturel/cultureel centrum Whalll\, 93 avenue Charles Thielemanslaan\, WSP/SPW\, 1150
CATEGORIES:Animation,Conférence,Développement Durable
ATTACH;FMTTYPE=image/png:https://www.woluwe1150.be/app/uploads/2025/06/Woluwe1150_Fresque-du-Numerique.png
ORGANIZER;CN="Whalll":MAILTO:billetterie@whalll.be
END:VEVENT
BEGIN:VEVENT
DTSTART;TZID=Europe/Brussels:20260423T193000
DTEND;TZID=Europe/Brussels:20260423T210000
DTSTAMP:20260423T184030
CREATED:20260415T135243Z
LAST-MODIFIED:20260417T125617Z
UID:94319-1776972600-1776978000@www.woluwe1150.be
SUMMARY:Bigger than us - Projection à la salle Saint-Pierre
DESCRIPTION:Résumé: Depuis 6 ans\, Melati\, 18 ans\, combat la pollution plastique qui ravage son pays l’Indonésie. Comme elle\, des centaines de jeunes adultes à travers le monde luttent contre les dérèglements climatiques\, mais aussi pour les droits. \n  \nJeudi 23/04 à 19h30 \nSalle St-Pierre\, rue Deraeck 25\, 1150 \nGratuit  \nPlus d’infos: paroisses-vertes@tutamail.com \nRéfléchir en Unité Pastorale de la Woluwe à nos impacts environnementaux \n 
URL:https://www.woluwe1150.be/event/bigger-than-us-projection-a-la-salle-saint-pierre/
LOCATION:Eglise Saint-Pierre\, Parvis Saint-Pierre\, Woluwe-Saint-Pierre\, 1150
CATEGORIES:Cinéma,Développement Durable
ATTACH;FMTTYPE=image/jpeg:https://www.woluwe1150.be/app/uploads/2026/04/Woluwe1150_Bigger-than-us.jpg
ORGANIZER;CN="Service D%C3%A9veloppement Durable":MAILTO:durable@woluwe1150.be
END:VEVENT
BEGIN:VEVENT
DTSTART;TZID=Europe/Brussels:20260425T140000
DTEND;TZID=Europe/Brussels:20260425T160000
DTSTAMP:20260423T184030
CREATED:20260408T125553Z
LAST-MODIFIED:20260408T125553Z
UID:94118-1777125600-1777132800@www.woluwe1150.be
SUMMARY:Guides potagers - Visite de la parcelle nature et biodiversité au potager
DESCRIPTION:Connaissez-vous le réseau des guides potager ? C’est un réseau de citoyen.es pratiquant le potager et partageant volontiers graines\, plants et expériences avec les citoyen.es\n\n \n\nA l’occasion du festival nourrir Bruxelles\, les guides potager de Woluwe-Saint-Pierre organisent 2 visites:\n\n25/04 à 14h: visite de la parcelle nature et biodiversité au potager\n26/04 à 14h: visite du potager démo + un atelier semis de printemps\n\n\n\nPlus d’info: https://nourrir-humanite.org/event/viens-visiter-mon-potager/\n \nRegardez si il y a un.e guide potager près de chez vous via notre bottin en ligne.\nhttps://goodfood.brussels/…/reseau-des-guides-potager…
URL:https://www.woluwe1150.be/event/guides-potagers-visite-de-la-parcelle-nature-et-biodiversite-au-potager/
CATEGORIES:Développement Durable
ATTACH;FMTTYPE=image/jpeg:https://www.woluwe1150.be/app/uploads/2026/04/Woluwe1150_Viens-visiter-mon-potager.jpg
ORGANIZER;CN="Service D%C3%A9veloppement Durable":MAILTO:durable@woluwe1150.be
END:VEVENT
BEGIN:VEVENT
DTSTART;TZID=Europe/Brussels:20260425T140000
DTEND;TZID=Europe/Brussels:20260425T180000
DTSTAMP:20260423T184030
CREATED:20260402T140649Z
LAST-MODIFIED:20260402T140853Z
UID:94037-1777125600-1777140000@www.woluwe1150.be
SUMMARY:Fête du Printemps à la Ferme de la Trèflerie
DESCRIPTION:L’équipe de la ferme de la Trèflerie est ravie de vous inviter à sa toute première fête du printemps ! \nDans le cadre des 48h de l’agriculture urbaine\, on y célèbrera la paysannerie\, les fleurs\, pousses et bourgeons\, et surtout le lancement de la saison dans cette belle ferme qui prend forme. \nAu programme : visites\, jeux\, animations\, pépinière\, des illustrations et un bar avec de quoi grignoter. \nAu plaisir de vous y voir !
URL:https://www.woluwe1150.be/event/fete-du-printemps-a-la-ferme-de-la-treflerie/
LOCATION:Champ des Dames Blanches\, Tir aux Pigeons\, Woluwe-Saint-Pierre\, 1150
CATEGORIES:Animation,Développement Durable
ATTACH;FMTTYPE=image/jpeg:https://www.woluwe1150.be/app/uploads/2026/04/fete_printemps_dames_blanches.jpg
ORGANIZER;CN="Ferme de la Tr%C3%A8flerie":MAILTO:infolechamplibre@gmail.com
END:VEVENT
BEGIN:VEVENT
DTSTART;TZID=Europe/Brussels:20260426T100000
DTEND;TZID=Europe/Brussels:20260426T110000
DTSTAMP:20260423T184030
CREATED:20260303T085456Z
LAST-MODIFIED:20260303T085456Z
UID:92824-1777197600-1777201200@www.woluwe1150.be
SUMMARY:Donnerie - Joli-Bois
DESCRIPTION:Le dimanche 26 avril 2026\, Prenons le Temps / Quartier Durable\nJoli-Bois organise une DONNERIE pour vos objets inutilisés en\nbon état.\nNous vous accueillerons au Centre Communautaire de Joli-Bois\,\n100 avenue du Haras\, 1150 Woluwé-St-Pierre\nDépôts : de 10h00 à 11h00\nVenez chiner et emportez ce qui vous intéresse : de 11H30 à 13HOO \nPlus d’informations  à l’adresse mail : info@prenonsletemps.be
URL:https://www.woluwe1150.be/event/donnerie-joli-bois-2/
LOCATION:centre communautaire de Joli-Bois\, 15 drève des Shetlands\, Woluwe-Saint-Pierre\, 1150
CATEGORIES:Brocante,Développement Durable
ATTACH;FMTTYPE=image/jpeg:https://www.woluwe1150.be/app/uploads/2024/09/Woluwe1150_donnerie-Joli-Bois.jpg
ORGANIZER;CN="Prenons le Temps Joli-Bois":MAILTO:info@prenonsletemps.be
END:VEVENT
BEGIN:VEVENT
DTSTART;TZID=Europe/Brussels:20260426T140000
DTEND;TZID=Europe/Brussels:20260426T160000
DTSTAMP:20260423T184030
CREATED:20260408T125740Z
LAST-MODIFIED:20260408T125740Z
UID:94123-1777212000-1777219200@www.woluwe1150.be
SUMMARY:Guides potagers - Visite du potager démo + un atelier semis de printemps
DESCRIPTION:Connaissez-vous le réseau des guides potager ? C’est un réseau de citoyen.es pratiquant le potager et partageant volontiers graines\, plants et expériences avec les citoyen.es\n\n \n\nA l’occasion du festival nourrir Bruxelles\, les guides potager de Woluwe-Saint-Pierre organisent 2 visites:\n\n25/04 à 14h: visite de la parcelle nature et biodiversité au potager\n26/04 à 14h: visite du potager démo + un atelier semis de printemps\n\n\n\nPlus d’info: https://nourrir-humanite.org/event/atelier-semis/\n \nRegardez si il y a un.e guide potager près de chez vous via notre bottin en ligne.\nhttps://goodfood.brussels/…/reseau-des-guides-potager…
URL:https://www.woluwe1150.be/event/guides-potagers-visite-du-potager-demo-un-atelier-semis-de-printemps/
CATEGORIES:Développement Durable
ATTACH;FMTTYPE=image/jpeg:https://www.woluwe1150.be/app/uploads/2026/04/Woluwe1150_Atelier-Semi.jpg
ORGANIZER;CN="Service D%C3%A9veloppement Durable":MAILTO:durable@woluwe1150.be
END:VEVENT
BEGIN:VEVENT
DTSTART;TZID=Europe/Brussels:20260426T143000
DTEND;TZID=Europe/Brussels:20260426T163000
DTSTAMP:20260423T184030
CREATED:20260331T142154Z
LAST-MODIFIED:20260331T142154Z
UID:93640-1777213800-1777221000@www.woluwe1150.be
SUMMARY:Repair Café du Chant d'Oiseau
DESCRIPTION:Jeter ? Pas question ! Réparons ensemble ! Venez réparer ensemble vos petits électroménagers\, vélos\, vêtements\, ordinateurs\, etc.  \nTous les 4e dimanches du mois sauf en décembre\, en juillet et en août. \nDe 14h30 à 16h30. \nContact : repaircafé1150@gmail.com
URL:https://www.woluwe1150.be/event/repair-cafe-du-chant-doiseau-5/
LOCATION:Centre communautaire du Chant d’Oiseau\, 40 avenue du Chant d'Oiseau\, 1150 Woluwe-Saint-Pierre\, 1150\, Belgique
CATEGORIES:Développement Durable,Centres de quartier
ATTACH;FMTTYPE=image/jpeg:https://www.woluwe1150.be/app/uploads/2022/10/repair_cafe_ccco.jpeg
ORGANIZER;CN="Service D%C3%A9veloppement Durable":MAILTO:durable@woluwe1150.be
END:VEVENT
BEGIN:VEVENT
DTSTART;TZID=Europe/Brussels:20260429T163000
DTEND;TZID=Europe/Brussels:20260429T183000
DTSTAMP:20260423T184030
CREATED:20260317T110804Z
LAST-MODIFIED:20260317T110804Z
UID:93261-1777480200-1777487400@www.woluwe1150.be
SUMMARY:Soirée Pop-corn : Zootopie
DESCRIPTION:L’Habitat groupé Longue Vue organise un nouveau cycle de soirées cinéma à partir de mars 2026\, dont le fil rouge sera « Résister ». Voici le programme : \n\nMercredi 4 mars 2026 : La plus Précieuse des Marchandises\nMercredi 15 avril 2026 : La vague\nMercredi 29 avril 2026 (à 16h30) : Zootopie\nMercredi 27 mai 2026 : Tout simplement noir\n\nCes soirées sont ouvertes à toutes et tous. \nInscription par mail : hglongue@hotmail.com \nParticipation aux droits d’auteur : 5€\nAccueil à 19h45\, projection à 20h\, suivie d’un partage d’impressions.\nAdresse : 170 rue Longue.
URL:https://www.woluwe1150.be/event/soiree-pop-corn-zootopie/
LOCATION:Habitat Groupé Longue Vue\, rue Longue\, 170\, Bruxelles\, Woluwe-Saint-Pierre\, 1150\, Belgique
CATEGORIES:Cinéma,Développement Durable
ATTACH;FMTTYPE=image/jpeg:https://www.woluwe1150.be/app/uploads/2026/02/soirees_pop_corn_2026-rotated.jpg
ORGANIZER;CN="Service D%C3%A9veloppement Durable":MAILTO:durable@woluwe1150.be
END:VEVENT
END:VCALENDAR