BEGIN:VCALENDAR
VERSION:2.0
PRODID:-//Woluwe Saint Pierre - ECPv6.13.2//NONSGML v1.0//EN
CALSCALE:GREGORIAN
METHOD:PUBLISH
X-WR-CALNAME:Woluwe Saint Pierre
X-ORIGINAL-URL:https://www.woluwe1150.be
X-WR-CALDESC:Évènements pour Woluwe Saint Pierre
REFRESH-INTERVAL;VALUE=DURATION:PT1H
X-Robots-Tag:noindex
X-PUBLISHED-TTL:PT1H
BEGIN:VTIMEZONE
TZID:Europe/Brussels
BEGIN:DAYLIGHT
TZOFFSETFROM:+0100
TZOFFSETTO:+0200
TZNAME:CEST
DTSTART:20250330T010000
END:DAYLIGHT
BEGIN:STANDARD
TZOFFSETFROM:+0200
TZOFFSETTO:+0100
TZNAME:CET
DTSTART:20251026T010000
END:STANDARD
BEGIN:DAYLIGHT
TZOFFSETFROM:+0100
TZOFFSETTO:+0200
TZNAME:CEST
DTSTART:20260329T010000
END:DAYLIGHT
BEGIN:STANDARD
TZOFFSETFROM:+0200
TZOFFSETTO:+0100
TZNAME:CET
DTSTART:20261025T010000
END:STANDARD
END:VTIMEZONE
BEGIN:VEVENT
DTSTART;TZID=Europe/Brussels:20251011T000000
DTEND;TZID=Europe/Brussels:20251116T000000
DTSTAMP:20260424T180500
CREATED:20250924T133901Z
LAST-MODIFIED:20250924T133901Z
UID:83240-1760140800-1763251200@www.woluwe1150.be
SUMMARY:Fantaisies en couleurs
DESCRIPTION:Exposition de Gédéon Horvath du 11/10 au 16/11. \nVernissage le 11/10 de 10h à 12h30. \nAccès libre. 
URL:https://www.woluwe1150.be/event/fantaisies-en-couleurs/
LOCATION:Centre communautaire du Chant d’Oiseau\, 40 avenue du Chant d'Oiseau\, 1150 Woluwe-Saint-Pierre\, 1150\, Belgique
CATEGORIES:Exposition
ATTACH;FMTTYPE=image/png:https://www.woluwe1150.be/app/uploads/2025/09/expo_fantisie_ccco.png
ORGANIZER;CN="Centre communautaire du Chant d'Oiseau":MAILTO:ccco@woluwe1150.be
END:VEVENT
BEGIN:VEVENT
DTSTART;TZID=Europe/Brussels:20251017T000000
DTEND;TZID=Europe/Brussels:20260125T000000
DTSTAMP:20260424T180500
CREATED:20250922T140245Z
LAST-MODIFIED:20250922T140245Z
UID:83134-1760659200-1769299200@www.woluwe1150.be
SUMMARY:Exposition Verso-Recto. Collections inédites
DESCRIPTION:Photos\, illustrations\, livres\, installations rendent compte du projet participatif Verso-Recto initié par la Wittockiana en juillet 2024 en collaboration avec le photographe Vincen Beeckman. \nAprès une année de rencontres au vert\, le parc de Woluwe s’expose au musée dans toute sa diversité. Autant de liens noués et d’œuvres rassemblées en collections singulières qui démultiplient le regard. \nAvec la participation des visiteurs du musée\, des promeneurs du parc de Woluwe\, des membres d’EQLA et des étudiantes de l’atelier Design du Livre et du Papier de l’ENSAV La Cambre. \nExpo du 17/10/25 au 25/01/26. Vernissage le 16/10 à 18h.  \nInfos : https://wittockiana.org
URL:https://www.woluwe1150.be/event/exposition-verso-recto-collections-inedites/
LOCATION:Wittockiana\, 23 rue du Bémel\, Woluwe-Saint-Pierre\, 1150
CATEGORIES:Exposition
ATTACH;FMTTYPE=image/jpeg:https://www.woluwe1150.be/app/uploads/2025/09/expo-wittockiana.jpg
ORGANIZER;CN="Wittockiana":MAILTO:info@wittockiana.org
END:VEVENT
BEGIN:VEVENT
DTSTART;TZID=Europe/Brussels:20251105T000000
DTEND;TZID=Europe/Brussels:20251213T000000
DTSTAMP:20260424T180500
CREATED:20251028T092835Z
LAST-MODIFIED:20251028T092835Z
UID:86566-1762300800-1765584000@www.woluwe1150.be
SUMMARY:Exposition : Divers d’hiver
DESCRIPTION:Alors que l’hiver entame délicatement son retour et que les fêtes approchent\, l’exposition “Divers d’hiver” réunit une constellation d’artistes autour d’une idée simple : offrir à chacun la possibilité d’acquérir une œuvre originale et abordable\, porteuse de sens. \nPour ce faire\, j’ai invité 6 artistes à vous présenter leurs peintures\, dessins\, collages\, sculptures\, arts textiles… Ensemble\, ces créations forment une mosaïque de sensibilités. \n“Divers d’hiver” célèbre la diversité des expressions contemporaines tout en vous invitant à soutenir la création indépendante. \nExpo “Divers d’hiver” avec entre autres Marcel Arnould\, Martyn Baldwin\, Anne Bothuon\, Esti Reich\, Marie Claire Rey\, Anne Marie Vesco. \n 
URL:https://www.woluwe1150.be/event/exposition-divers-dhiver/
LOCATION:Bruno Matthys Gallery\, 34 avenue Jules de Trooz\, Woluwe-Saint-Pierre\, 1150
CATEGORIES:Exposition
ATTACH;FMTTYPE=image/jpeg:https://www.woluwe1150.be/app/uploads/2025/10/matthys_divers.jpg
ORGANIZER;CN="Bruno Matthys Gallery":MAILTO:Info@brunomatthys.art
END:VEVENT
BEGIN:VEVENT
DTSTART;TZID=Europe/Brussels:20251106T000000
DTEND;TZID=Europe/Brussels:20251109T000000
DTSTAMP:20260424T180500
CREATED:20251020T112601Z
LAST-MODIFIED:20251020T112601Z
UID:85673-1762387200-1762646400@www.woluwe1150.be
SUMMARY:Exposition annuelle des artistes de WSP
DESCRIPTION:Du vendredi 07.11 au dimanche 09.11.2025 de 12h à 18h.  \nVernissage le jeudi 06.11.2025 à 18h30 à la Salle Fabry. Accès libre.  \nÉvénement incontournable des artistes wolusanpétrusiens\, cette exposition est l’occasion d’apprécier les dernières créations de notre communauté artistique. \nL’édition 2025 a pour thème « Formes et couleurs ».
URL:https://www.woluwe1150.be/event/exposition-annuelle-des-artistes-de-wsp/
LOCATION:Centre culturel/cultureel centrum Whalll\, 93 avenue Charles Thielemanslaan\, WSP/SPW\, 1150
CATEGORIES:Exposition
ATTACH;FMTTYPE=image/jpeg:https://www.woluwe1150.be/app/uploads/2025/10/expo_artistes_def_fr-scaled.jpg
ORGANIZER;CN="Service de la Culture/Dienst Cultuur":MAILTO:ijozefek@woluwe1150.be
END:VEVENT
BEGIN:VEVENT
DTSTART;TZID=Europe/Brussels:20251107T000000
DTEND;TZID=Europe/Brussels:20251114T000000
DTSTAMP:20260424T180500
CREATED:20251015T133511Z
LAST-MODIFIED:20251015T133511Z
UID:85481-1762473600-1763078400@www.woluwe1150.be
SUMMARY:Exposition des aquarelles de Martine Pingaut 
DESCRIPTION:Martine Pingaut\, aquarelliste\, vous entrouvre les portes de son univers artistique.\nLaissez vous séduire par la lumière omniprésente qui éclaire ses œuvres inspirées des quatre saisons\, de sa passion pour les fleurs et de son amour pour la « douce France » chère à Charles Trenet\, qui l’entraîne parfois ailleurs jusqu’à une certaine abstraction. \nVernissage le vendredi 7 novembre de 18h à 21h. Exposition du 7 au 14 novembre.  \nEntrée libre. \n 
URL:https://www.woluwe1150.be/event/exposition-des-aquarelles-de-martine-pingaut/
LOCATION:Espace des 4 Saisons\, 147 rue François Desmedt\, Woluwe-Saint-Pierre\, 1150\, Belgium
CATEGORIES:Exposition
ATTACH;FMTTYPE=image/png:https://www.woluwe1150.be/app/uploads/2025/10/expo_aquarelle_4_saisons.png
ORGANIZER;CN="Espace des 4 Saisons":MAILTO:espace4saisons@gmail.com﻿
END:VEVENT
BEGIN:VEVENT
DTSTART;TZID=Europe/Brussels:20251114T180000
DTEND;TZID=Europe/Brussels:20251114T203000
DTSTAMP:20260424T180500
CREATED:20251028T094522Z
LAST-MODIFIED:20251028T094522Z
UID:86578-1763143200-1763152200@www.woluwe1150.be
SUMMARY:Vernissage exposition de pastels
DESCRIPTION:Exposition de pastels\, par Valérie Baetens\, bibliothécaire à Joli-Bois. \nVernissage : vendredi 14/11 de 18h à 20h30\, à la bibliothèque du Centre. L’artiste sera présente pour vous guider dans la visite de l’exposition et expliquer comment elle choisit les couleurs\, les papiers\, les sujets… de ses oeuvres. \nExposition : du 14/11 au 17/12 inclus. \nPlus d’infos
URL:https://www.woluwe1150.be/event/vernissage-exposition-de-pastels/
LOCATION:Bibliothèque du Centre\, 93 avenue Charles Thielemans\, 1150 Woluwe-Saint-Pierre\, 1150\, Belgique
CATEGORIES:Exposition
ATTACH;FMTTYPE=image/jpeg:https://www.woluwe1150.be/app/uploads/2025/10/Valerie-Baetens-pastels-scaled.jpg
ORGANIZER;CN="Biblioth%C3%A8que locale du Centre":MAILTO:bib.centre@woluwe1150.be
END:VEVENT
END:VCALENDAR