BEGIN:VCALENDAR
VERSION:2.0
PRODID:-//Woluwe Saint Pierre - ECPv6.13.2//NONSGML v1.0//EN
CALSCALE:GREGORIAN
METHOD:PUBLISH
X-WR-CALNAME:Woluwe Saint Pierre
X-ORIGINAL-URL:https://www.woluwe1150.be
X-WR-CALDESC:Évènements pour Woluwe Saint Pierre
REFRESH-INTERVAL;VALUE=DURATION:PT1H
X-Robots-Tag:noindex
X-PUBLISHED-TTL:PT1H
BEGIN:VTIMEZONE
TZID:Europe/Brussels
BEGIN:DAYLIGHT
TZOFFSETFROM:+0100
TZOFFSETTO:+0200
TZNAME:CEST
DTSTART:20260329T010000
END:DAYLIGHT
BEGIN:STANDARD
TZOFFSETFROM:+0200
TZOFFSETTO:+0100
TZNAME:CET
DTSTART:20261025T010000
END:STANDARD
END:VTIMEZONE
BEGIN:VEVENT
DTSTART;TZID=Europe/Brussels:20260114T000000
DTEND;TZID=Europe/Brussels:20260214T000000
DTSTAMP:20260424T124656
CREATED:20251209T141515Z
LAST-MODIFIED:20251209T141515Z
UID:88556-1768348800-1771027200@www.woluwe1150.be
SUMMARY:Exposition : Je t’aime !
DESCRIPTION:Et si on commençait cette année 2026 en s’aimant un peu ? \nSimplement\, gentiment et aussi légèrement que possible\, la Bruno Matthys Gallery vous propose un peu d’amour. Pour sa 33e exposition\, Bruno Matthys vous emmène dans le monde atypique et poétique de Marie Morel\, déjà exposée à la galerie. \nSes peintures coquines\, câlines et érotiques offrent un voyage intime dans l’univers souvent censuré du désir et du plaisir charnel.
URL:https://www.woluwe1150.be/event/exposition-je-taime/
LOCATION:Bruno Matthys Gallery\, 34 avenue Jules de Trooz\, Woluwe-Saint-Pierre\, 1150
CATEGORIES:Exposition
ATTACH;FMTTYPE=image/jpeg:https://www.woluwe1150.be/app/uploads/2025/12/bruno_matthys_amour.jpg
ORGANIZER;CN="Bruno Matthys Gallery":MAILTO:Info@brunomatthys.art
END:VEVENT
BEGIN:VEVENT
DTSTART;TZID=Europe/Brussels:20260207T160000
DTEND;TZID=Europe/Brussels:20260308T170000
DTSTAMP:20260424T124656
CREATED:20260126T084605Z
LAST-MODIFIED:20260126T084605Z
UID:90596-1770480000-1772989200@www.woluwe1150.be
SUMMARY:Exposition du Prix René Carcan 2026
DESCRIPTION:Le Prix international de gravure René Carcan est de retour à la Wittockiana\, le musée des Arts du livre et de la reliure. \nVernissage de l’exposition des lauréats le samedi 7 février à partir de 16h. Venez rencontrer les artistes et découvrir les diverses sources d’inspiration et techniques de la gravure contemporaine. \nVisite guidée gratuite de l’exposition avec Kiki Crêvecoeur le samedi 21 février à 14h30. Sur réservation via le site wittockiana.org ou par tel : 02/770.53.33.  
URL:https://www.woluwe1150.be/event/exposition-du-prix-rene-carcan-2026/
LOCATION:Wittockiana\, 23 rue du Bémel\, Woluwe-Saint-Pierre\, 1150
CATEGORIES:Exposition
ATTACH;FMTTYPE=image/png:https://www.woluwe1150.be/app/uploads/2026/01/Prix-Rene-Carcan-2026.png
ORGANIZER;CN="Wittockiana":MAILTO:info@wittockiana.org
END:VEVENT
END:VCALENDAR