BEGIN:VCALENDAR
VERSION:2.0
PRODID:-//Woluwe Saint Pierre - ECPv6.13.2//NONSGML v1.0//EN
CALSCALE:GREGORIAN
METHOD:PUBLISH
X-ORIGINAL-URL:https://www.woluwe1150.be
X-WR-CALDESC:Évènements pour Woluwe Saint Pierre
REFRESH-INTERVAL;VALUE=DURATION:PT1H
X-Robots-Tag:noindex
X-PUBLISHED-TTL:PT1H
BEGIN:VTIMEZONE
TZID:Europe/Brussels
BEGIN:DAYLIGHT
TZOFFSETFROM:+0100
TZOFFSETTO:+0200
TZNAME:CEST
DTSTART:20250330T010000
END:DAYLIGHT
BEGIN:STANDARD
TZOFFSETFROM:+0200
TZOFFSETTO:+0100
TZNAME:CET
DTSTART:20251026T010000
END:STANDARD
END:VTIMEZONE
BEGIN:VEVENT
DTSTART;TZID=Europe/Brussels:20250327T000000
DTEND;TZID=Europe/Brussels:20250921T000000
DTSTAMP:20260425T004311
CREATED:20250326T084957Z
LAST-MODIFIED:20250326T084957Z
UID:78683-1743033600-1758412800@www.woluwe1150.be
SUMMARY:Les éditions Tandem – florilège complice
DESCRIPTION:Cette exposition est une invitation à explorer l’activité des Editions Tandem\, crées en 1974\, par l’artiste Gabriel Belgeonne et son épouse Thérèse Dujeu. Dès ses origines\, l’association s’est fixée pour but le soutien aux artistes plasticiens\, en particulier dans le domaine de l’estampe. \nDerrière les recueils de gravures et les différentes publications se dessine un vaste réseau d’échanges\, de collaborations\, d’amitiés\, de convergences esthétiques. Autant de « constellations » particulières qui forment ce que on a choisi d’appeler aujourd’hui « la galaxie Tandem » et dont les diverses éditions\, exposées telles des planètes prodigieuses\, scintillent comme des étoiles. \nVernissage le 27 mars 2025 à 18h. \nExposition du 28 mars au 21 septembre 2025. 
URL:https://www.woluwe1150.be/event/les-editions-tandem-florilege-complice/
LOCATION:Wittockiana\, 23 rue du Bémel\, Woluwe-Saint-Pierre\, 1150
CATEGORIES:Exposition
ATTACH;FMTTYPE=image/jpeg:https://www.woluwe1150.be/app/uploads/2025/03/wittockiana_expo_tandem.jpg
ORGANIZER;CN="Wittockiana":MAILTO:info@wittockiana.org
END:VEVENT
BEGIN:VEVENT
DTSTART;TZID=Europe/Brussels:20250827T000000
DTEND;TZID=Europe/Brussels:20251004T000000
DTSTAMP:20260425T004311
CREATED:20250630T133000Z
LAST-MODIFIED:20250630T133000Z
UID:81048-1756252800-1759536000@www.woluwe1150.be
SUMMARY:Exposition "Vivant"
DESCRIPTION:Pour cette nouvelle exposition\, Bruno Matthys vous convie à rencontrer deux artistes françaises\, deux femmes aux sensibilités proches mais aux expressions différentes. \nL’une\, Emmanuelle Renard\, est peintre et dessinatrice\, l’autre\, Sophie Sainrapt\, est céramiste. \nChacune à sa façon nous emmène dans un dialogue entre vibration et sensualité\, qui révèle toute notre humanité. \nEn réunissant ces deux artistes féminines\, en créant la rencontre entre la peinture de l’une et la céramique de l’autre\, Bruno Mathys vous propose un chemin féminin\, sensible et coloré\, qui exprime la vie\, l’humain\, le corps\, dans tout ce qu’il a de vibrant\, d’émouvant et de palpitant. Une façon de retrouver sa nature profonde et se sentir simplement vivant. \n 
URL:https://www.woluwe1150.be/event/exposition-vivant/
LOCATION:Bruno Matthys Gallery\, 34 avenue Jules de Trooz\, Woluwe-Saint-Pierre\, 1150
CATEGORIES:Exposition
ATTACH;FMTTYPE=image/jpeg:https://www.woluwe1150.be/app/uploads/2025/06/expo_bruno_matthys_vivant.jpg
ORGANIZER;CN="Bruno Matthys Gallery":MAILTO:Info@brunomatthys.art
END:VEVENT
END:VCALENDAR