BEGIN:VCALENDAR
VERSION:2.0
PRODID:-//Woluwe Saint Pierre - ECPv6.13.2//NONSGML v1.0//EN
CALSCALE:GREGORIAN
METHOD:PUBLISH
X-WR-CALNAME:Woluwe Saint Pierre
X-ORIGINAL-URL:https://www.woluwe1150.be
X-WR-CALDESC:Évènements pour Woluwe Saint Pierre
REFRESH-INTERVAL;VALUE=DURATION:PT1H
X-Robots-Tag:noindex
X-PUBLISHED-TTL:PT1H
BEGIN:VTIMEZONE
TZID:Europe/Brussels
BEGIN:DAYLIGHT
TZOFFSETFROM:+0100
TZOFFSETTO:+0200
TZNAME:CEST
DTSTART:20250330T010000
END:DAYLIGHT
BEGIN:STANDARD
TZOFFSETFROM:+0200
TZOFFSETTO:+0100
TZNAME:CET
DTSTART:20251026T010000
END:STANDARD
BEGIN:DAYLIGHT
TZOFFSETFROM:+0100
TZOFFSETTO:+0200
TZNAME:CEST
DTSTART:20260329T010000
END:DAYLIGHT
BEGIN:STANDARD
TZOFFSETFROM:+0200
TZOFFSETTO:+0100
TZNAME:CET
DTSTART:20261025T010000
END:STANDARD
END:VTIMEZONE
BEGIN:VEVENT
DTSTART;TZID=Europe/Brussels:20251017T000000
DTEND;TZID=Europe/Brussels:20260125T000000
DTSTAMP:20260424T180708
CREATED:20250922T140245Z
LAST-MODIFIED:20250922T140245Z
UID:83134-1760659200-1769299200@www.woluwe1150.be
SUMMARY:Exposition Verso-Recto. Collections inédites
DESCRIPTION:Photos\, illustrations\, livres\, installations rendent compte du projet participatif Verso-Recto initié par la Wittockiana en juillet 2024 en collaboration avec le photographe Vincen Beeckman. \nAprès une année de rencontres au vert\, le parc de Woluwe s’expose au musée dans toute sa diversité. Autant de liens noués et d’œuvres rassemblées en collections singulières qui démultiplient le regard. \nAvec la participation des visiteurs du musée\, des promeneurs du parc de Woluwe\, des membres d’EQLA et des étudiantes de l’atelier Design du Livre et du Papier de l’ENSAV La Cambre. \nExpo du 17/10/25 au 25/01/26. Vernissage le 16/10 à 18h.  \nInfos : https://wittockiana.org
URL:https://www.woluwe1150.be/event/exposition-verso-recto-collections-inedites/
LOCATION:Wittockiana\, 23 rue du Bémel\, Woluwe-Saint-Pierre\, 1150
CATEGORIES:Exposition
ATTACH;FMTTYPE=image/jpeg:https://www.woluwe1150.be/app/uploads/2025/09/expo-wittockiana.jpg
ORGANIZER;CN="Wittockiana":MAILTO:info@wittockiana.org
END:VEVENT
END:VCALENDAR