BEGIN:VCALENDAR
VERSION:2.0
PRODID:-//Woluwe Saint Pierre - ECPv6.13.2//NONSGML v1.0//EN
CALSCALE:GREGORIAN
METHOD:PUBLISH
X-ORIGINAL-URL:https://www.woluwe1150.be
X-WR-CALDESC:Évènements pour Woluwe Saint Pierre
REFRESH-INTERVAL;VALUE=DURATION:PT1H
X-Robots-Tag:noindex
X-PUBLISHED-TTL:PT1H
BEGIN:VTIMEZONE
TZID:Europe/Brussels
BEGIN:DAYLIGHT
TZOFFSETFROM:+0100
TZOFFSETTO:+0200
TZNAME:CEST
DTSTART:20260329T010000
END:DAYLIGHT
BEGIN:STANDARD
TZOFFSETFROM:+0200
TZOFFSETTO:+0100
TZNAME:CET
DTSTART:20261025T010000
END:STANDARD
END:VTIMEZONE
BEGIN:VEVENT
DTSTART;TZID=Europe/Brussels:20260301T000000
DTEND;TZID=Europe/Brussels:20260331T000000
DTSTAMP:20260424T125122
CREATED:20260213T103622Z
LAST-MODIFIED:20260213T103622Z
UID:92289-1772323200-1774915200@www.woluwe1150.be
SUMMARY:Exposition: Motifs de la science-fiction
DESCRIPTION:Dans le cadre de la Langue Française en Fête\n\n\n\n\nEntre littérature\, bande dessinée et cinéma\, un grand voyage exploratoire dans les principaux thèmes du space opéra et de la science-fiction populaire. Cette exposition aborde les grandes étapes de l’histoire de la science-fiction\, de la littérature utopique et fantastique à la S-F contemporaine\, en passant par les illustrations et designs cultes du genre. \nTout le mois de mars\, expo visible aux heures d’ouverture de la bibliothèque. Accès gratuit. \nPlus d’infos
URL:https://www.woluwe1150.be/event/exposition-motifs-de-la-science-fiction/
LOCATION:bibliothèque de Joli-Bois\, Drève des Shetlands 15\, Woluwe-Saint-Pierre\, 1150
CATEGORIES:Exposition
ATTACH;FMTTYPE=image/png:https://www.woluwe1150.be/app/uploads/2026/02/expo_scifi.png
ORGANIZER;CN="Biblioth%C3%A8que de Joli-Bois":MAILTO:bib.jb@woluwe1150.be
END:VEVENT
BEGIN:VEVENT
DTSTART;TZID=Europe/Brussels:20260304T000000
DTEND;TZID=Europe/Brussels:20260418T000000
DTSTAMP:20260424T125122
CREATED:20260217T114223Z
LAST-MODIFIED:20260331T140541Z
UID:92450-1772582400-1776470400@www.woluwe1150.be
SUMMARY:Exposition "Welcome to the jungle"
DESCRIPTION:Comme à son habitude\, Bruno Matthys vous propose de découvrir deux artistes aux parcours différents mais aux sensibilités qui se rejoignent. \nDeux femmes\, deux regards sur nous-même qui passent par le monde animal. \nLeurs univers nous emmènent dans une jungle urbaine\, à la rencontre d’animaux fantastiques et fantasques\, éveillant avec humour notre propre bestialité. \n  \nCatherine Minala a déjà exposé à la Bruno Matthys Gallery fin 2021. Cette dessinatrice installée à Woluwe-Saint-Pierre)\, à l’origine photographe\, s’est mise au dessin pendant le confinement. Comme une occasion de revenir à la nature\, de recréer aussi la dynamique d’une ville bouillonnante\, à une époque de notre histoire où celle-ci était désertée. \nLes foules d’anonymes semblent danser dans un grouillement intense et coloré\, plein de vie\, plein d’une énergie animale et d’une vitalité exacerbée. \nCette représentation onirique et sensuelle\, libérée de tout réalisme\, nous ramène comme un miroir à nos rapports humains\, codifiés et civilisés\, coupés de toute naturalité. \nElle présente\, pour cette exposition\, un mélange de son travail passé et de créations plus récentes. \n  \nLa sculptrice Esti Reich\, elle aussi\, s’inspire du monde animal pour imaginer ses étranges créatures\, les « zorromorphytes ». \nNée en Suisse\, cette touche-à-tout s’est exprimée dans presque toutes les disciplines créatives. Elle a été tour à tour modiste\, styliste\, designer et décoratrice d’intérieur. Et chacune de ses expériences lui a permis d’affiner sa sensibilité et son approche des formes et des matières. \nSon travail\, bien sûr protéiforme\, nous ouvre les portes d’un monde imaginaire\, où des créatures merveilleuses s’ébattent\, dans une explosion de couleurs. Utilisant l’argile\, le paperclay et la porcelaine\, elle met au monde une nouvelle espèce fantasmagorique\, les « zorromorphytes ». Ses pièces uniques\, expressives et poétiques sont à la fois drôles et touchantes. \n  \nElle nous raconte des histoires fabuleuses et nous embarquent\, comme dans un rêve\, à la rencontre d’un tout nouveau monde\, où l’imaginaire est roi. \nRécemment\, elle s’est aussi exprimée dans un registre plus végétal dans des coupes aussi brutes par leurs imperfections calculées que précieuses par la profusion de détails et la richesse des couleurs. \n  \nVenez découvrir ces univers sauvages mais infiniment humains\, du 04 mars au 04 avril à la Bruno Matthys Gallery. \nVernissage le mercredi 4 mars de 17 à 20h en présence des artistes.
URL:https://www.woluwe1150.be/event/exposition-welcome-to-the-jungle/
LOCATION:Bruno Matthys Gallery\, 34 avenue Jules de Trooz\, Woluwe-Saint-Pierre\, 1150
CATEGORIES:Exposition
ATTACH;FMTTYPE=image/jpeg:https://www.woluwe1150.be/app/uploads/2026/02/matthys_gallery_jungle_0326.jpg
ORGANIZER;CN="Bruno Matthys Gallery":MAILTO:Info@brunomatthys.art
END:VEVENT
BEGIN:VEVENT
DTSTART;TZID=Europe/Brussels:20260314T000000
DTEND;TZID=Europe/Brussels:20260321T000000
DTSTAMP:20260424T125122
CREATED:20260213T104528Z
LAST-MODIFIED:20260213T104528Z
UID:92353-1773446400-1774051200@www.woluwe1150.be
SUMMARY:Science-fiction Expo
DESCRIPTION:Dans le cadre de la Langue Française en Fête\n\n\n\n\nLes élèves des cours d’arts de la Villa François Gay sont heureux d’exposer leurs œuvres sur le thème de la science-fiction toute la semaine de la langue française en fête.\nCette exposition accueillera également les fanzines réalisés sur le même thème par les élèves de la classe de 4ème primaire de l’école communale Stockel. Ces réalisations sont issues d’ateliers menés en classe par Médiathèque Nouvelle. \nLe vernissage de cette expo aura lieu le dimanche 15.03 de 16h à 18h. Tout le monde est le bienvenu! \nExpo visible du dimanche 14/3 au dimanche 21/3\, de 14h à 18h. \nPlus d’infos
URL:https://www.woluwe1150.be/event/science-fiction-expo/
LOCATION:Villa François Gay\, 326 rue François Gay\, Woluwe-Saint-Pierre\, 1150
CATEGORIES:Exposition
ATTACH;FMTTYPE=image/png:https://www.woluwe1150.be/app/uploads/2026/02/sciences-fiction-expo.png
ORGANIZER;CN="Villa Fran%C3%A7ois Gay":MAILTO:villafrancoisgay@gmail.com
END:VEVENT
BEGIN:VEVENT
DTSTART;TZID=Europe/Brussels:20260320T000000
DTEND;TZID=Europe/Brussels:20260927T000000
DTSTAMP:20260424T125122
CREATED:20260303T100559Z
LAST-MODIFIED:20260303T100559Z
UID:92837-1773964800-1790467200@www.woluwe1150.be
SUMMARY:a minima - exposition temporaire
DESCRIPTION:commissariat : didier decoux \ndates : 20.03-27.09.2026 \n  \nlivres blancs\nlivres vides\nou livres de peu \n  \npeu de mots\npeu d’images \nsouvent peu de pages \na minima rassemble à la wittockiana des ouvrages qui frôlent le silence et déplacent la pratique de la lecture. \nnée d’une collection privée\, enrichie de quelques prêts\, l’exposition traverse librement cent cinquante ans d’édition\, de 1876 à aujourd’hui. \ndes ombres fondatrices — mallarmé\, duchamp — y affleurent. mais c’est surtout le geste conceptuel\, apparu dans la seconde moitié du 20ᵉ siècle et prolongé par la poésie concrète et le livre d’artiste\, qui s’y déploie. \n  \nici\, le livre ne raconte pas : il suggère\, il retient\, il résiste. \nchaque œuvre\, dans son dépouillement\, ouvre un espace. lire devient alors un acte attentif\, émouvant\, critique\, parfois subversif.
URL:https://www.woluwe1150.be/event/a-minima-exposition-temporaire/
LOCATION:Wittockiana\, 23 rue du Bémel\, Woluwe-Saint-Pierre\, 1150
CATEGORIES:Exposition
ATTACH;FMTTYPE=image/jpeg:https://www.woluwe1150.be/app/uploads/2026/03/expo_wittockiana_aminima.jpg
ORGANIZER;CN="Wittockiana":MAILTO:info@wittockiana.org
END:VEVENT
END:VCALENDAR