BEGIN:VCALENDAR
VERSION:2.0
PRODID:-//Woluwe Saint Pierre - ECPv6.13.2//NONSGML v1.0//EN
CALSCALE:GREGORIAN
METHOD:PUBLISH
X-ORIGINAL-URL:https://www.woluwe1150.be
X-WR-CALDESC:Évènements pour Woluwe Saint Pierre
REFRESH-INTERVAL;VALUE=DURATION:PT1H
X-Robots-Tag:noindex
X-PUBLISHED-TTL:PT1H
BEGIN:VTIMEZONE
TZID:Europe/Brussels
BEGIN:DAYLIGHT
TZOFFSETFROM:+0100
TZOFFSETTO:+0200
TZNAME:CEST
DTSTART:20250330T010000
END:DAYLIGHT
BEGIN:STANDARD
TZOFFSETFROM:+0200
TZOFFSETTO:+0100
TZNAME:CET
DTSTART:20251026T010000
END:STANDARD
END:VTIMEZONE
BEGIN:VEVENT
DTSTART;TZID=Europe/Brussels:20250914T110000
DTEND;TZID=Europe/Brussels:20250914T180000
DTSTAMP:20260424T111605
CREATED:20250701T123422Z
LAST-MODIFIED:20250701T123422Z
UID:81190-1757847600-1757872800@www.woluwe1150.be
SUMMARY:Festiwhalll 2025
DESCRIPTION:Le WHalll\, la Commune et l’ensemble du tissu associatif de Woluwe-Saint-Pierre donnent le coup d’envoi de la saison culturelle avec un événement festif aux mille couleurs. \nAu programme : cirque en plein air\, théâtre en petit comité\, spectacles de danse et d’arts visuels pour tous les âges\, cinéma et spectacle d’improvisation sans parole\, concerts\, foodtrucks\, bar et ateliers créatifs en continu. \nUne journée gratuite\, joyeuse et ouverte à toutes et tous. \nPlus d’infos
URL:https://www.woluwe1150.be/event/festiwhalll-2025/
LOCATION:Centre culturel/cultureel centrum Whalll\, 93 avenue Charles Thielemanslaan\, WSP/SPW\, 1150
CATEGORIES:Animation,Enfants,Spectacle,Musique,Théâtre
ATTACH;FMTTYPE=image/jpeg:https://www.woluwe1150.be/app/uploads/2025/07/festiwhalll-illu.jpg
ORGANIZER;CN="Whalll":MAILTO:billetterie@whalll.be
END:VEVENT
BEGIN:VEVENT
DTSTART;TZID=Europe/Brussels:20250923T200000
DTEND;TZID=Europe/Brussels:20250923T220000
DTSTAMP:20260424T111605
CREATED:20250825T125207Z
LAST-MODIFIED:20250825T125207Z
UID:82026-1758657600-1758664800@www.woluwe1150.be
SUMMARY:Ouverture du Musical Club à Joli-Bois
DESCRIPTION:Une scène qui accueille tous les nouveaux talents du monde de la musique\, le mardi 23 septembre à 20h. \nEnsuite\, à partir d’octobre\, rendez-vous tous les premiers mardis du mois. \nL’épicerie « Chez Julien” proposera des sélections de vins\, fromages et charcuteries. \nEntrée libre. Info : centrejolibois.be
URL:https://www.woluwe1150.be/event/ouverture-du-musical-club-a-joli-bois/
LOCATION:centre communautaire de Joli-Bois\, 15 drève des Shetlands\, Woluwe-Saint-Pierre\, 1150
CATEGORIES:Musique
ATTACH;FMTTYPE=image/png:https://www.woluwe1150.be/app/uploads/2025/08/joli_bois_musical_club.png
ORGANIZER;CN="Centre communautaire de Joli-Bois":MAILTO:event.jolibois@gmail.com
END:VEVENT
BEGIN:VEVENT
DTSTART;TZID=Europe/Brussels:20250926T190000
DTEND;TZID=Europe/Brussels:20250926T203000
DTSTAMP:20260424T111605
CREATED:20250910T120320Z
LAST-MODIFIED:20250910T120320Z
UID:82813-1758913200-1758918600@www.woluwe1150.be
SUMMARY:Lecture musicale
DESCRIPTION:La poésie de Paul Blanjean et Etienne Bours accompagnée à l’accordéon par Didier Laloy.  \nÀ la médiathèque (salle Passerelle).  \nGratuit\, places limitées. Réservations : paulblanjean@hotmail.com  
URL:https://www.woluwe1150.be/event/lecture-musicale/
LOCATION:Médiathèque de Woluwe-Saint-Pierre\, 93 avenue Charles Thielemans\, Woluwe-Saint-Pierre\, 1150
CATEGORIES:Spectacle,Musique,Littérature
ATTACH;FMTTYPE=image/jpeg:https://www.woluwe1150.be/app/uploads/2025/09/lecture_musicale_mediatheque_0925.jpg
END:VEVENT
BEGIN:VEVENT
DTSTART;TZID=Europe/Brussels:20250926T200000
DTEND;TZID=Europe/Brussels:20250926T220000
DTSTAMP:20260424T111605
CREATED:20250825T130504Z
LAST-MODIFIED:20250825T130504Z
UID:82030-1758916800-1758924000@www.woluwe1150.be
SUMMARY:Zappeur Palace
DESCRIPTION:Zappeur Palace\, c’est tout d’abord une histoire d’amitié. Mais c’est surtout une passion pour la musique qui crée ce band montant de la scène belge francophone aux tonalités pop rock. \nRéservation : billetweb.fr/zappeur-palace
URL:https://www.woluwe1150.be/event/zappeur-palace/
LOCATION:centre communautaire de Joli-Bois\, 15 drève des Shetlands\, Woluwe-Saint-Pierre\, 1150
CATEGORIES:Musique
ATTACH;FMTTYPE=image/jpeg:https://www.woluwe1150.be/app/uploads/2025/08/joli_bois_zappeur.jpg
ORGANIZER;CN="Centre communautaire de Joli-Bois":MAILTO:event.jolibois@gmail.com
END:VEVENT
BEGIN:VEVENT
DTSTART;TZID=Europe/Brussels:20250930T200000
DTEND;TZID=Europe/Brussels:20250930T220000
DTSTAMP:20260424T111605
CREATED:20250729T134205Z
LAST-MODIFIED:20250729T134205Z
UID:81567-1759262400-1759269600@www.woluwe1150.be
SUMMARY:Michel Fugain
DESCRIPTION:Pour notre plus grand plaisir\, Michel Fugain revient au WHalll pour la rentrée de notre saison culturelle! \n50 ans !… et des brouettes. Trop long ! Si on lui avait dit à ses débuts\, en 1966\, que plus de 50 ans plus tard\, il serait encore sur scène\, dans la lumière\, chantant toujours\, et toujours aussi passionné par ce qui n’était au départ qu’un pari\, un passe-temps puis peu à peu un métier\, il aurait explosé de rire… parce que tout ça n’est pas sérieux. \nEt pourtant il a tracé un chemin tellement atypique ! Plus de 50 ans de chanson certes\, mais pas que.  \n2024 signe un retour avec un nouvel album « La Vie\, l’Amour etc… » et un spectacle portant le même nom. \nDes incontournables\, des éternelles et des inédites pour un spectacle qui a toutes les chances d’évoluer encore et encore…tant que Michel Fugain sera vivant ! \nInfos et réservations
URL:https://www.woluwe1150.be/event/michel-fugain/
LOCATION:Centre culturel/cultureel centrum Whalll\, 93 avenue Charles Thielemanslaan\, WSP/SPW\, 1150
CATEGORIES:Musique
ATTACH;FMTTYPE=image/jpeg:https://www.woluwe1150.be/app/uploads/2025/07/michel_fugain.jpg
ORGANIZER;CN="Whalll":MAILTO:billetterie@whalll.be
END:VEVENT
END:VCALENDAR