BEGIN:VCALENDAR
VERSION:2.0
PRODID:-//Woluwe Saint Pierre - ECPv6.13.2//NONSGML v1.0//EN
CALSCALE:GREGORIAN
METHOD:PUBLISH
X-WR-CALNAME:Woluwe Saint Pierre
X-ORIGINAL-URL:https://www.woluwe1150.be
X-WR-CALDESC:Évènements pour Woluwe Saint Pierre
REFRESH-INTERVAL;VALUE=DURATION:PT1H
X-Robots-Tag:noindex
X-PUBLISHED-TTL:PT1H
BEGIN:VTIMEZONE
TZID:Europe/Brussels
BEGIN:DAYLIGHT
TZOFFSETFROM:+0100
TZOFFSETTO:+0200
TZNAME:CEST
DTSTART:20250330T010000
END:DAYLIGHT
BEGIN:STANDARD
TZOFFSETFROM:+0200
TZOFFSETTO:+0100
TZNAME:CET
DTSTART:20251026T010000
END:STANDARD
END:VTIMEZONE
BEGIN:VEVENT
DTSTART;TZID=Europe/Brussels:20251005T110000
DTEND;TZID=Europe/Brussels:20251005T120000
DTSTAMP:20260424T094503
CREATED:20250918T142510Z
LAST-MODIFIED:20250918T142510Z
UID:83014-1759662000-1759665600@www.woluwe1150.be
SUMMARY:Bébé Concert
DESCRIPTION:Concert classique pour bébés de 0 à 2 ans et leur famille. \nPar le duo « Violinstree » avec Maya Grünebach au violon et Constance Schwarzer à l’accordéon. \nElles vous proposent un voyage musical de Bach jusque Pärt et invitent les petits et les grands auditeurs à se laisser emporter dans l’univers de la musique classique. \nInscription : villafrancoisgay@gmail.com
URL:https://www.woluwe1150.be/event/bebe-concert/
LOCATION:Villa François Gay\, 326 rue François Gay\, Woluwe-Saint-Pierre\, 1150
CATEGORIES:Enfants,Musique
ATTACH;FMTTYPE=image/jpeg:https://www.woluwe1150.be/app/uploads/2025/09/bebe_concert_villa_fg.jpg
ORGANIZER;CN="Villa Fran%C3%A7ois Gay":MAILTO:villafrancoisgay@gmail.com
END:VEVENT
BEGIN:VEVENT
DTSTART;TZID=Europe/Brussels:20251005T130000
DTEND;TZID=Europe/Brussels:20251005T160000
DTSTAMP:20260424T094503
CREATED:20250923T131854Z
LAST-MODIFIED:20250923T131854Z
UID:83182-1759669200-1759680000@www.woluwe1150.be
SUMMARY:Concert et culture du Japon pour les enfants
DESCRIPTION:Un concert gratuit animé par des musiciens japonais\, avec clarinette et piano numérique\, destiné aux jeunes enfants d’âge préscolaire. \nCafé et petite restauration japonaise sur place.  \n 
URL:https://www.woluwe1150.be/event/concert-et-culture-du-japon-pour-les-enfants/
LOCATION:Eglise de Stockel\, Rue Henri Vandermaelen 23\, Woluwe-Saint-Pierre\, 1150
CATEGORIES:Enfants,Musique
ATTACH;FMTTYPE=image/jpeg:https://www.woluwe1150.be/app/uploads/2025/09/concert_japon.jpg
END:VEVENT
BEGIN:VEVENT
DTSTART;TZID=Europe/Brussels:20251007T200000
DTEND;TZID=Europe/Brussels:20251007T220000
DTSTAMP:20260424T094503
CREATED:20250924T133520Z
LAST-MODIFIED:20250924T133520Z
UID:83235-1759867200-1759874400@www.woluwe1150.be
SUMMARY:Musical Club
DESCRIPTION:Tous les premiers mardis du mois à 20h. \nUne scène ouverte à tous les nouveaux talents du monde de la musique. Avec les vins et fromages de Chez Julien. \nEntrée libre. Info : www.centrejolibois.be  
URL:https://www.woluwe1150.be/event/musical-club/
LOCATION:centre communautaire de Joli-Bois\, 15 drève des Shetlands\, Woluwe-Saint-Pierre\, 1150
CATEGORIES:Musique
ATTACH;FMTTYPE=image/jpeg:https://www.woluwe1150.be/app/uploads/2025/09/musical_club_joli_bois.jpg
ORGANIZER;CN="Centre communautaire de Joli-Bois":MAILTO:event.jolibois@gmail.com
END:VEVENT
BEGIN:VEVENT
DTSTART;TZID=Europe/Brussels:20251008T200000
DTEND;TZID=Europe/Brussels:20251008T220000
DTSTAMP:20260424T094503
CREATED:20250922T124831Z
LAST-MODIFIED:20250922T124831Z
UID:83099-1759953600-1759960800@www.woluwe1150.be
SUMMARY:Just Vox (nouveau spectacle)
DESCRIPTION:Fans de voix pures\, ce concert a cappella est pour vous !\n\n\n\n\nPas d’instrument\, juste quatre voix et un beatboxer aux univers distincts qui se rassemblent pour n’en former plus qu’un. \nLeur spécialité est surtout de réinventer\, par des arrangements originaux\, des chansons de tous genres et de vous offrir ainsi un répertoire inédit. \nAvec leur énergie\, ces chanteurs vous font voyager à travers les époques et les styles et vous embarquent dans un tourbillon de musique et d’harmonies\, avec une touche d’humour. Redécouvrez les grands standards pop comme vous ne les avez jamais entendus ! \n4 voix et une infinité de possibilités\nLa voix offre de nombreuses alternatives de sons. Nos quatre chanteurs explorent le potentiel de leur timbre et ne sont pas seulement des voix mais aussi des guitares\, des basses\, des trompettes\, des claviers. Leurs cordes vocales deviennent ainsi un véritable orchestre et offrent un moment musical totalement à part. \nUn beatboxer\, véritable batterie humaine\nNotre beatboxer complète cet orchestre vocal. Le beatboxing est une forme de percussion vocale impliquant principalement l’art de produire des battements de batterie\, du rythme\, des sons musicaux et des bruitages sonores en utilisant la bouche\, les lèvres\, la langue et la voix. \nVoix : Valentine Uytterhoeven\, Oriane Simon\, Véronique Schotte et Philippe Lombet – Beatbox : Igor (alias G. Lord) * \nSon : Yves Schotte Lumière : Robin Van Bakel\n \n* Igor (alias G. Lord) rejoint JUST VOX comme beatboxer !  \nPlus d’infos
URL:https://www.woluwe1150.be/event/just-vox-nouveau-spectacle/
LOCATION:Centre culturel/cultureel centrum Whalll\, 93 avenue Charles Thielemanslaan\, WSP/SPW\, 1150
CATEGORIES:Musique
ATTACH;FMTTYPE=image/jpeg:https://www.woluwe1150.be/app/uploads/2025/09/Just_vox.jpg
ORGANIZER;CN="Whalll":MAILTO:billetterie@whalll.be
END:VEVENT
BEGIN:VEVENT
DTSTART;TZID=Europe/Brussels:20251012T150000
DTEND;TZID=Europe/Brussels:20251012T170000
DTSTAMP:20260424T094503
CREATED:20250926T073619Z
LAST-MODIFIED:20250926T073619Z
UID:83798-1760281200-1760288400@www.woluwe1150.be
SUMMARY:Concert festif à la paroisse Emmaüs
DESCRIPTION:À l’occasion du 50e anniversaire du centre communautaire de la paroisse Emmaüs\, un concert sera donné le dimanche 12 octobre à 15h par le Figuralchor köln (Cologne) sous la direction du professeur Richard Mailänder. \nAu programme\, des œuvres sacrées de William Byrd\, Arvo Pärt\, Jean-Sébastien Bach\, Joseph Gabriel Rheinberger\, Albert Becker\, Oliver Sperling\, Motshwane Pege et Rihards Dubra. \nEntrée : 20€ le jour-même / 10€ jusqu’à 16 ans / 19€ en prévente : info@degb.be – 02 762 40 62. \nAdresse : église protestante germanophone Emmaüs\, avenue Salomé 7. \nInfos sur la chorale : https://figuralchor-koeln.de \nAvant ou après le concert\, vous êtes invité à visiter l’exposition commémorant les 50 ans du bâtiment\, érigé en 1975\, la même année que Sportcity. L’exposition restera visible jusqu’au 15 novembre\, aux horaires d’ouverture de la paroisse (dimanche matin + mardi et jeudi 9-12h).
URL:https://www.woluwe1150.be/event/concert-festif-a-la-paroisse-emmaus/
LOCATION:Eglise germanophone de Woluwe-Saint-Pierre\, Avenue Salomé 7\, Woluwe-Saint-Pierre\, 1150
CATEGORIES:Musique
ATTACH;FMTTYPE=image/jpeg:https://www.woluwe1150.be/app/uploads/2025/09/2025-10-12_Festgottesdienst-Brussel_Digital-Flyer-Kopie-scaled.jpg
END:VEVENT
BEGIN:VEVENT
DTSTART;TZID=Europe/Brussels:20251014T200000
DTEND;TZID=Europe/Brussels:20251014T220000
DTSTAMP:20260424T094503
CREATED:20250922T125713Z
LAST-MODIFIED:20250922T125713Z
UID:83123-1760472000-1760479200@www.woluwe1150.be
SUMMARY:Notre-Dame de Paris
DESCRIPTION:Ciné-concert pour un film centenaire ! Une grande fresque historique ! 30 musiciens au pied de l’écran ! Plongez-vous dans l’ambiance d’une salle de projection dans les années 1920. \nIl ne s’agit donc pas du célèbre film de Jean Delannoy sorti en 1956 avec Gina Lollobrigida\, Anthony Quinn\, Alain Cuny\, Robert Hirsch et Jean Danet dans les rôles principaux. \nC’est la version de 1923 que nous vous présentons cinq ans après l’incendie de la cathédrale et alors que l’édifice rénové vient d’être rouvert. \nCe projet est en prise directe avec l’actualité. Il l’est également par les thèmes abordés : l’ostracisme\, les luttes sociales\, la différence\, les amours impossibles\,… \nAprès le succès de La Ville sans Juifs présenté dans une quinzaine de lieux en Belgique et en France\, nous avons exhumé cet autre film muet tourné aux Etats-Unis en 1923.\nNotre-Dame de Paris\, le plus fameux roman de Victor Hugo\, avait déjà été transposé à l’écran au début du 20ème siècle. Cette version-ci bénéficie des dernières avancées techniques quelques années avant l’avènement du cinéma parlant. Les mouvements de caméras\, les scènes de foule\, le rythme général rendent cette œuvre parfaitement abordable aux spectateurs d’aujourd’hui habitués aux effets spéciaux et travellings spectaculaires. \nL’accompagnement musical ‘live’ est assuré par les musiciens de l’ensemble L’heure de Musique par Pierre Quiriny. Ils jouent une partition conçue par Pierre Dubuisson puisant largement dans le répertoire classique de Purcell à Stravinsky en passant par Enesco\,Boccherini\, Saint-Saëns\, Brahms\, Verdi\, Mahler\, Stravinski\, Offenbach\,Tchaikovsky\, Strauss\, Bizet\, Purcell\, Haydn\, Gounod\, Ravel\, Mozart\,Chostakovitch\, Schubert\,… \nPlus d’infos
URL:https://www.woluwe1150.be/event/notre-dame-de-paris/
LOCATION:Centre culturel/cultureel centrum Whalll\, 93 avenue Charles Thielemanslaan\, WSP/SPW\, 1150
CATEGORIES:Cinéma,Musique
ATTACH;FMTTYPE=image/png:https://www.woluwe1150.be/app/uploads/2025/09/notre_dame.png
ORGANIZER;CN="Whalll":MAILTO:billetterie@whalll.be
END:VEVENT
END:VCALENDAR