BEGIN:VCALENDAR
VERSION:2.0
PRODID:-//Woluwe Saint Pierre - ECPv6.13.2//NONSGML v1.0//EN
CALSCALE:GREGORIAN
METHOD:PUBLISH
X-WR-CALNAME:Woluwe Saint Pierre
X-ORIGINAL-URL:https://www.woluwe1150.be
X-WR-CALDESC:Évènements pour Woluwe Saint Pierre
REFRESH-INTERVAL;VALUE=DURATION:PT1H
X-Robots-Tag:noindex
X-PUBLISHED-TTL:PT1H
BEGIN:VTIMEZONE
TZID:Europe/Brussels
BEGIN:DAYLIGHT
TZOFFSETFROM:+0100
TZOFFSETTO:+0200
TZNAME:CEST
DTSTART:20250330T010000
END:DAYLIGHT
BEGIN:STANDARD
TZOFFSETFROM:+0200
TZOFFSETTO:+0100
TZNAME:CET
DTSTART:20251026T010000
END:STANDARD
END:VTIMEZONE
BEGIN:VEVENT
DTSTART;TZID=Europe/Brussels:20251102T110000
DTEND;TZID=Europe/Brussels:20251102T120000
DTSTAMP:20260424T082946
CREATED:20251023T122315Z
LAST-MODIFIED:20251023T122315Z
UID:85848-1762081200-1762084800@www.woluwe1150.be
SUMMARY:Bébé Concert
DESCRIPTION:Concert classique pour bébés de 0 à 2 ans et leur famille. \nTarif : 7€/personne \nInscription : villafrancoisgay@gmail.com
URL:https://www.woluwe1150.be/event/bebe-concert-2/
LOCATION:Villa François Gay\, 326 rue François Gay\, Woluwe-Saint-Pierre\, 1150
CATEGORIES:Enfants,Musique
ATTACH;FMTTYPE=image/jpeg:https://www.woluwe1150.be/app/uploads/2025/09/bebe_concert_villa_fg.jpg
ORGANIZER;CN="Villa Fran%C3%A7ois Gay":MAILTO:villafrancoisgay@gmail.com
END:VEVENT
BEGIN:VEVENT
DTSTART;TZID=Europe/Brussels:20251113T200000
DTEND;TZID=Europe/Brussels:20251113T220000
DTSTAMP:20260424T082946
CREATED:20251020T115715Z
LAST-MODIFIED:20251020T115715Z
UID:85699-1763064000-1763071200@www.woluwe1150.be
SUMMARY:Régina de Chatonville
DESCRIPTION:Un concert de Régina de Chatonville\, c’est un voyage dans l’espace-temps. Vous êtes en 1955\, Paris Match pleure la mort de Germaine Coty\, vous écoutez la RTF et Radio Luxembourg en buvant un Byrrh ou une tasse de Boldoflorine. Au volant d’une Renault Dauphine sortie des ateliers de Billancourt\, des femmes au chic bien parisien en jupe droite sous le genou arborent une cape de chinchilla et des clips en strass. \nAprès avoir jeté son célèbre « Chers amis bonjour ! »\, Régina de Chatonville enchaîne anecdotes et chansons improbables délicieusement obsolètes\, toujours amusantes\, avec ce raffinement d’une époque aujourd’hui révolue. Alors ? Régina pièce de musée ? Non ! Car elle est bien vivante\, parlante et chantante … et en relief ! Accompagnée au piano par Xavier-Edouard Horemans. \nLe jeudi 13 novembre à 20h au WHalll. Tarif unique : 20€. \nRéservation en ligne ou par téléphone : 0476/87 02 12.
URL:https://www.woluwe1150.be/event/regina-de-chatonville/
LOCATION:Centre culturel/cultureel centrum Whalll\, 93 avenue Charles Thielemanslaan\, WSP/SPW\, 1150
CATEGORIES:Musique
ATTACH;FMTTYPE=image/png:https://www.woluwe1150.be/app/uploads/2025/10/regina.png
ORGANIZER;CN="Blue Poppy":MAILTO:info@bluepoppy.be
END:VEVENT
BEGIN:VEVENT
DTSTART;TZID=Europe/Brussels:20251116T180000
DTEND;TZID=Europe/Brussels:20251116T200000
DTSTAMP:20260424T082946
CREATED:20251020T102233Z
LAST-MODIFIED:20251020T102233Z
UID:85663-1763316000-1763323200@www.woluwe1150.be
SUMMARY:Stéphane Stas « Ces années-là… »
DESCRIPTION:Claude François occupe indéniablement une place de choix dans l’inconscient collectif francophone… \nQui n’a donc pas dans l’oreille ces emblématiques refrains: « Ça s’en va et ça revient\, Le lundi au soleil\, Je vais à Rio\, Cette année-là\, Alexandrie\, Comme d’habitude… »? \nDu haut de ses 12 ans\, il y a tout juste 50 ans\, Stéphane Stas le découvre sur scène à Bruxelles…et c’est le choc! Il saura désormais ce qu’il veut faire dans la vie! \nChopin et Michel Berger sont les premiers à l’inspirer dans ses créations pianistiques et vocales\, mais il était temps d’un jour remonter à ses premières amours! \nNombre d’imitateurs ont rendu hommage à « Cloclo » à grand renfort de paillettes et Clodettes…mais rien de tout cela ici: Stéphane Stas nous fait revivre la magie des chansons mythiques et intemporelles de Claude François\, seul au piano\, pour d’autant mieux en restituer leur douce et bienfaisante légèreté. \nInfos et réservations
URL:https://www.woluwe1150.be/event/stephane-stas-ces-annees-la/
LOCATION:Centre culturel/cultureel centrum Whalll\, 93 avenue Charles Thielemanslaan\, WSP/SPW\, 1150
CATEGORIES:Musique
ATTACH;FMTTYPE=image/jpeg:https://www.woluwe1150.be/app/uploads/2025/10/cloclo.jpg
ORGANIZER;CN="Whalll":MAILTO:billetterie@whalll.be
END:VEVENT
BEGIN:VEVENT
DTSTART;TZID=Europe/Brussels:20251120T200000
DTEND;TZID=Europe/Brussels:20251120T220000
DTSTAMP:20260424T082946
CREATED:20251020T102520Z
LAST-MODIFIED:20251020T102520Z
UID:85665-1763668800-1763676000@www.woluwe1150.be
SUMMARY:Mois du Doc : volcan
DESCRIPTION:Réalisatrice Stefanne Prijot – Belgique – VO/ST FR \nAu Chili\, les forêts s’enflamment\, les glaciers fondent\, les violences et les inégalités sont de plus en plus marquées… Camila est danseuse et chinchinera à Valparaiso et\, à 35 ans\, elle questionne la raison de donner naissance à un enfant dans le monde d’aujourd’hui. Elle part à la quête d’éléments de réponses auprès de ses amies\, de sa famille\, de personnes d’autres cultures et ira jusqu’à partir en voyage vers la Patagonie pour rejoindre une amie écologiste qui y étudie les glaciers et Veronica\, une femme mapuche qui lui propose un regard différent sur l’existence. \n \n\n\n\n\nEn résonnance avec le film de Stéphanne Prijot\, un salon d’écoute précèdera la projection. Celui-ci se tiendra à 18h30 jusqu’à 19h30 et est gratuit. \nInfos et réservations
URL:https://www.woluwe1150.be/event/mois-du-doc-volcan/
LOCATION:Centre culturel/cultureel centrum Whalll\, 93 avenue Charles Thielemanslaan\, WSP/SPW\, 1150
CATEGORIES:Cinéma,Musique
ATTACH;FMTTYPE=image/jpeg:https://www.woluwe1150.be/app/uploads/2025/10/volcan.jpg
ORGANIZER;CN="Whalll":MAILTO:billetterie@whalll.be
END:VEVENT
BEGIN:VEVENT
DTSTART;TZID=Europe/Brussels:20251124T200000
DTEND;TZID=Europe/Brussels:20251124T220000
DTSTAMP:20260424T082946
CREATED:20251020T102726Z
LAST-MODIFIED:20251020T102746Z
UID:85670-1764014400-1764021600@www.woluwe1150.be
SUMMARY:Dick Annegarn : chansons agricoles
DESCRIPTION:50 ans de poésie naturaliste. Qui en France a écrit autant de chansons pour honorer la terre? « Sacré géranium »\, « Bébé éléphant »\, « Mireille »\, « Vélo va »\, « L’Orage »\, « Quelle Belle Vallée » Dick Annegarn ne chante pas que « Bruxelles ». L’auteur-compositeur-interprète vit depuis longtemps dans une ferme au pied des Pyrénées. Étudiant en agronomie néerlandais et francophone il a fait fleurir dans les consciences des chansons à chanter simples et émouvantes. La nature est un souci et une joie. \nGuitariste émérite\, le compositeur a été interprété par nombreux célébrités contemporaines : -M-\, Calogéro\, Raphaël\, Nolwenn Leroy\, Bashung\, Souchon\, Arno\, Bénabar\, Dany Boon et leurs enfants. Faire ainsi perdurer ce patrimoine poétique et populaire. Les spectateurs sont invités à apporter plantes\, arbustes ou fleurs pour garnir et décorer la scène. À la fin du spectacle poétique ils ramèneront leurs verdures à leurs domiciles. Prêter ainsi main forte à l’installation. Le musicien est allé jusqu’à se faire fabriquer une guitare verte par un des meilleurs luthiers du pays Thomas Fejoz. Harmonica\, percussions et quelques chants a cappella pour illustrer la variété et la diversité de son art. La musique\, c’est le vent entre les arbres. Soigner la nature dont nous sommes les enfants et qui est notre enfant. Chanter. \nPhoto ©Thierry Rajic \nInfos et réservations
URL:https://www.woluwe1150.be/event/dick-annegarn-chansons-agricoles/
LOCATION:Centre culturel/cultureel centrum Whalll\, 93 avenue Charles Thielemanslaan\, WSP/SPW\, 1150
CATEGORIES:Musique
ATTACH;FMTTYPE=image/jpeg:https://www.woluwe1150.be/app/uploads/2025/10/dick_annegarn.jpg
ORGANIZER;CN="Whalll":MAILTO:billetterie@whalll.be
END:VEVENT
END:VCALENDAR