BEGIN:VCALENDAR
VERSION:2.0
PRODID:-//Woluwe Saint Pierre - ECPv6.13.2//NONSGML v1.0//EN
CALSCALE:GREGORIAN
METHOD:PUBLISH
X-WR-CALNAME:Woluwe Saint Pierre
X-ORIGINAL-URL:https://www.woluwe1150.be
X-WR-CALDESC:Évènements pour Woluwe Saint Pierre
REFRESH-INTERVAL;VALUE=DURATION:PT1H
X-Robots-Tag:noindex
X-PUBLISHED-TTL:PT1H
BEGIN:VTIMEZONE
TZID:Europe/Brussels
BEGIN:DAYLIGHT
TZOFFSETFROM:+0100
TZOFFSETTO:+0200
TZNAME:CEST
DTSTART:20260329T010000
END:DAYLIGHT
BEGIN:STANDARD
TZOFFSETFROM:+0200
TZOFFSETTO:+0100
TZNAME:CET
DTSTART:20261025T010000
END:STANDARD
END:VTIMEZONE
BEGIN:VEVENT
DTSTART;TZID=Europe/Brussels:20260201T160000
DTEND;TZID=Europe/Brussels:20260201T180000
DTSTAMP:20260424T042143
CREATED:20251208T120255Z
LAST-MODIFIED:20260119T110811Z
UID:88191-1769961600-1769968800@www.woluwe1150.be
SUMMARY:Lay this drum ! « Glass »
DESCRIPTION:Percussions 100 % féminines \nAprès 5 ans de succès en tournée et un passage remarqué au Festival d’Avignon 2022\, Lay This Drum\, le show percussif 100 % féminin\, revient avec un nouveau spectacle encore plus explosif ! Toujours engagé\, il interroge les stéréotypes de genre et le plafond de verre\, avec un dispositif scénique éblouissant. \nCes 5 percussionnistes mettent leur énergie et leur talent au service d’un spectacle tout public\, vibrant et rassembleur. A ne manquer sous aucun prétexte ! \nMusiciennes : Olympia Boyle\, Brigit Eecloo\, Sara Moonen\, Aurélie Simenel\, Gaëlle Swann  \nInfos et réservations
URL:https://www.woluwe1150.be/event/lay-this-drum-glass/
LOCATION:Centre culturel/cultureel centrum Whalll\, 93 avenue Charles Thielemanslaan\, WSP/SPW\, 1150
CATEGORIES:Musique
ATTACH;FMTTYPE=image/jpeg:https://www.woluwe1150.be/app/uploads/2026/01/glass.jpg
ORGANIZER;CN="Whalll":MAILTO:billetterie@whalll.be
END:VEVENT
BEGIN:VEVENT
DTSTART;TZID=Europe/Brussels:20260205T200000
DTEND;TZID=Europe/Brussels:20260205T220000
DTSTAMP:20260424T042143
CREATED:20260119T111503Z
LAST-MODIFIED:20260119T111503Z
UID:90467-1770321600-1770328800@www.woluwe1150.be
SUMMARY:Concert de musiques de films
DESCRIPTION:Le 5 février prochain aura lieu au WHalll – Centre Culturel de Woluwe-Saint-Pierre un magnifique Concert de Musiques de films avec projections vidéo.\n150 choristes\, adultes et enfants\, accompagnés par l’Ensemble Orchestral de Bruxelles sous la direction du talentueux chef Romain Verbeeren nous feront voyager au cœur des plus belles pages des musiques de films.\nSi vous voulez passer un magnifique moment musical tout en soutenant la mission des Femmes d’Europe\, alors n’hésitez pas à vous inscrire sur le site de Femmes d’Europe.’’ \nRéservation
URL:https://www.woluwe1150.be/event/concert-de-musiques-de-films/
LOCATION:Centre culturel/cultureel centrum Whalll\, 93 avenue Charles Thielemanslaan\, WSP/SPW\, 1150
CATEGORIES:Musique
ATTACH;FMTTYPE=image/jpeg:https://www.woluwe1150.be/app/uploads/2026/01/vox_anima.jpeg
END:VEVENT
BEGIN:VEVENT
DTSTART;TZID=Europe/Brussels:20260206T200000
DTEND;TZID=Europe/Brussels:20260206T220000
DTSTAMP:20260424T042143
CREATED:20260119T111643Z
LAST-MODIFIED:20260119T111643Z
UID:90469-1770408000-1770415200@www.woluwe1150.be
SUMMARY:Victorien
DESCRIPTION:Dans son premier album Il faudra le faire\, qui est sorti le 31 octobre 2025\, Victorien transforme les instants du quotidien en émotions partagées\, tissant des morceaux de vie sur des mélodies simples et sincères. Entre le temps qui file et l’amour persistant\, il célèbre la nostalgie comme une manière de faire durer l’éphémère. \nEt si Victorien avait inventé la pop proustienne ? Une musique où l’anecdotique devient éternité\, où les souvenirs respirent encore\, où l’homme se dévoile simplement\, main tendue vers le monde. \nSa voix\, parfois rejointe par celle\, envoûtante\, d’Eulalie\, tisse un fil entre pop\, slam\, folk et chanson\, sans jamais se laisser enfermer. \nEntre mélancolie lumineuse et pudeur bouleversante\, il chante les fantômes familiers\, les émotions vraies\, les petits riens qui font nos vies.\nVictorien se livre sans fard\, avec un art du dépouillement rare. \nUn premier album célébré comme une naissance\, fragile et ardente\, où Victorien partage ses histoires\, celles qui nous ressemblent… \nRéservation
URL:https://www.woluwe1150.be/event/victorien/
LOCATION:Centre culturel/cultureel centrum Whalll\, 93 avenue Charles Thielemanslaan\, WSP/SPW\, 1150
CATEGORIES:Musique
ATTACH;FMTTYPE=image/jpeg:https://www.woluwe1150.be/app/uploads/2026/01/victorien.jpg
ORGANIZER;CN="Whalll":MAILTO:billetterie@whalll.be
END:VEVENT
BEGIN:VEVENT
DTSTART;TZID=Europe/Brussels:20260207T190000
DTEND;TZID=Europe/Brussels:20260207T210000
DTSTAMP:20260424T042143
CREATED:20260108T103831Z
LAST-MODIFIED:20260108T103831Z
UID:90201-1770490800-1770498000@www.woluwe1150.be
SUMMARY:Concert de piano
DESCRIPTION:Par Donatella Fedeli et ses deux petites filles\, Cléo (11 ans) et Nina (9 ans).  \nDe Bach à Katchaturian en passant par Mozart\, Chopin\, Debussy\, etc.  \nCe projet est dédié à l’association Madaquatre qui\, depuis 15 ans\, oeuvre pour la scolarisation des enfants dans la région reculée de Morondava à Madagascar. Actuellement\, plus de 700 enfants peuvent en bénéficier.  \nRéservations indispensables : 0476 91 92 98 ou espace4saisons@gmail.com
URL:https://www.woluwe1150.be/event/concert-de-piano-2/
LOCATION:Espace des 4 Saisons\, 147 rue François Desmedt\, Woluwe-Saint-Pierre\, 1150\, Belgium
CATEGORIES:Musique
ATTACH;FMTTYPE=image/jpeg:https://www.woluwe1150.be/app/uploads/2026/01/concert_bach.jpg
ORGANIZER;CN="Espace des 4 Saisons":MAILTO:espace4saisons@gmail.com﻿
END:VEVENT
BEGIN:VEVENT
DTSTART;TZID=Europe/Brussels:20260208T160000
DTEND;TZID=Europe/Brussels:20260208T180000
DTSTAMP:20260424T042143
CREATED:20260126T091101Z
LAST-MODIFIED:20260126T091101Z
UID:90609-1770566400-1770573600@www.woluwe1150.be
SUMMARY:Concert Solid'Airs
DESCRIPTION:Quatre formidables chorales au style dynamique\, original et varié : Barberpeis\, Clever Kitsch\, La Balladine Éphémère et Ribambelge. Des chants pour rêver et un monde à changer. \nAu profit de deux asbl : \n\nMergem\, qui fêtera ses 25 ans\, vient en aide aux jeunes et aux plus démunis en Roumanie.\nAction2day œuvre au Kenya pour rendre des femmes autonomes et pour l’accès à l’éducation et à la santé !\n\nDimanche 8 février 2026 à 16h. \nInfos pratiques : \n\nThéâtre du Collège Don Bosco – Chaussée de Stockel 270\, 1200 Bruxelles\nBar ouvert dès 15h ainsi qu’à l’entracte et après le spectacle.\nPréventes : 20€ (sur place : 24€). -18 ans et Art.60 : 10€.\nInfos : solidairs@gmail.com\n\nRéservation
URL:https://www.woluwe1150.be/event/concert-solidairs/
LOCATION:Théâtre du Collège Don Bosco\, Chaussée de Stockel 270\, Woluwe-Saint-Lambert\, 1200
CATEGORIES:Musique
ATTACH;FMTTYPE=image/png:https://www.woluwe1150.be/app/uploads/2026/01/Affiche-SolidAirs-A6.png
END:VEVENT
BEGIN:VEVENT
DTSTART;TZID=Europe/Brussels:20260212T200000
DTEND;TZID=Europe/Brussels:20260212T220000
DTSTAMP:20260424T042143
CREATED:20260119T111955Z
LAST-MODIFIED:20260119T111955Z
UID:90474-1770926400-1770933600@www.woluwe1150.be
SUMMARY:The beatles Factory - Days in a life
DESCRIPTION:Au-delà d’un concert\, entrez dans notre histoire !  \nThe Beatles Factory vous invite pour un voyage au cœur de l’œuvre du\ngroupe légendaire mais pas seulement ! \nLe public est emporté dans une histoire\, un tourbillon déclencheur de souvenirs !\nDes chansons mythiques réorchestrées et sublimées par une formation de haut\nvol dont un trio à cordes composé de deux violonistes et d’une violoncelliste. \nÀ la croisée du rock et de la musique classique\, venez passer une soirée hors du temps pour danser\, chanter et raviver les souvenirs de ces mélodies qui ont marqué l’histoire de la musique! \nRéservation
URL:https://www.woluwe1150.be/event/the-beatles-factory-days-in-a-life/
LOCATION:Centre culturel/cultureel centrum Whalll\, 93 avenue Charles Thielemanslaan\, WSP/SPW\, 1150
CATEGORIES:Musique
ATTACH;FMTTYPE=image/jpeg:https://www.woluwe1150.be/app/uploads/2026/01/beatles_factory.jpg
ORGANIZER;CN="Whalll":MAILTO:billetterie@whalll.be
END:VEVENT
BEGIN:VEVENT
DTSTART;TZID=Europe/Brussels:20260213T203000
DTEND;TZID=Europe/Brussels:20260213T223000
DTSTAMP:20260424T042143
CREATED:20260119T121951Z
LAST-MODIFIED:20260119T121951Z
UID:90480-1771014600-1771021800@www.woluwe1150.be
SUMMARY:Concert de Lemon Straw
DESCRIPTION:Lemon Straw\, c’est déjà plus de 15 ans de carrière\, 4 albums\, des singles imparables et un nombre incalculable de concerts. \nC’est aussi une voix\, celle de Giani Sabia\, magnifiée par des musiciens de talent. \nLaissez-vous envoûter par ce délicieux mélange pop/folk teinté d’éléments rock. \nUn must de la scène musicale belge à (re)découvrir. \nRéservation
URL:https://www.woluwe1150.be/event/concert-de-lemon-straw/
LOCATION:centre communautaire de Joli-Bois\, 15 drève des Shetlands\, Woluwe-Saint-Pierre\, 1150
CATEGORIES:Musique
ATTACH;FMTTYPE=image/png:https://www.woluwe1150.be/app/uploads/2026/01/lemon_straw.png
ORGANIZER;CN="Centre communautaire de Joli-Bois":MAILTO:event.jolibois@gmail.com
END:VEVENT
BEGIN:VEVENT
DTSTART;TZID=Europe/Brussels:20260222T110000
DTEND;TZID=Europe/Brussels:20260222T120000
DTSTAMP:20260424T042143
CREATED:20260211T103949Z
LAST-MODIFIED:20260211T103949Z
UID:92221-1771758000-1771761600@www.woluwe1150.be
SUMMARY:Concert classique pour bébés de 0 à 2 ans
DESCRIPTION:Par le duo « Violinstree » avec Jennifer Smith au violon et Constance Schwarzer à l’accordéon\, qui vous proposent un voyage musical et invitent les petits et les grands auditeurs à se laisser emporter dans l’univers de la musique classique. \nAu programme : un mélange de musique classique\, de chants collectifs et d’espace pour bouger en musique sur des thèmes connus. La joie et l’expérience commune de la musique sont au premier plan.  \nInfos pratiques: \n\nQui : bébés de 0 à 2 ans et leur famille\nQuand : dimanches 22 février et 29 mars à 11h (durée 40 min)\nOù : Villa François Gay\, 326 rue François Gay\, 1er étage\nS’inscrire par mail à constanzeschwarzer@netcologne.de – PAF : 7€/personne 20/famille
URL:https://www.woluwe1150.be/event/concert-classique-pour-bebes-de-0-a-2-ans/
LOCATION:Villa François Gay\, 326 rue François Gay\, Woluwe-Saint-Pierre\, 1150
CATEGORIES:Enfants,Musique
ATTACH;FMTTYPE=image/png:https://www.woluwe1150.be/app/uploads/2026/02/bebe_concert_villa.png
END:VEVENT
BEGIN:VEVENT
DTSTART;TZID=Europe/Brussels:20260227T193000
DTEND;TZID=Europe/Brussels:20260227T203000
DTSTAMP:20260424T042143
CREATED:20260205T105334Z
LAST-MODIFIED:20260205T105334Z
UID:91804-1772220600-1772224200@www.woluwe1150.be
SUMMARY:Concert de violon 2- Astrid Rios
DESCRIPTION:Lors du concert 2 “Vibration à la Cambre” Astrid Rios interprétera des oeuvres de Bach\, Saint-Saëns\, Kreisler\, Paganini\, Messenet\, et bien d’autres. \nInfos et réservations
URL:https://www.woluwe1150.be/event/concert-de-violon-2-astrid-rios/
LOCATION:Cambre Expo\, Rue de la Cambre 175\, Woluwe-Saint-Pierre\, 1150
CATEGORIES:Musique
ATTACH;FMTTYPE=image/jpeg:https://www.woluwe1150.be/app/uploads/2026/02/concert_astrid_rios.jpg
END:VEVENT
END:VCALENDAR