BEGIN:VCALENDAR
VERSION:2.0
PRODID:-//Woluwe Saint Pierre - ECPv6.13.2//NONSGML v1.0//EN
CALSCALE:GREGORIAN
METHOD:PUBLISH
X-WR-CALNAME:Woluwe Saint Pierre
X-ORIGINAL-URL:https://www.woluwe1150.be
X-WR-CALDESC:Évènements pour Woluwe Saint Pierre
REFRESH-INTERVAL;VALUE=DURATION:PT1H
X-Robots-Tag:noindex
X-PUBLISHED-TTL:PT1H
BEGIN:VTIMEZONE
TZID:Europe/Brussels
BEGIN:DAYLIGHT
TZOFFSETFROM:+0100
TZOFFSETTO:+0200
TZNAME:CEST
DTSTART:20260329T010000
END:DAYLIGHT
BEGIN:STANDARD
TZOFFSETFROM:+0200
TZOFFSETTO:+0100
TZNAME:CET
DTSTART:20261025T010000
END:STANDARD
END:VTIMEZONE
BEGIN:VEVENT
DTSTART;TZID=Europe/Brussels:20260313T200000
DTEND;TZID=Europe/Brussels:20260313T220000
DTSTAMP:20260423T230230
CREATED:20260119T122333Z
LAST-MODIFIED:20260119T122450Z
UID:90485-1773432000-1773439200@www.woluwe1150.be
SUMMARY:Coverplay
DESCRIPTION:Coverplay est un tribute band formé en 2010 à l’initiative d’Antonio\, le batteur du groupe. Cette formation composée de cinq musiciens aux influences rock et pop\, vous invite dans l’univers du groupe anglais COLDPLAY mais en y ajoutant leur personnalité\, leur couleur musicale et surtout leur dynamisme.\n \nOn (re)découvre les mélodies\, on goûte au son aérien de la guitare\, on se laisse emporter par l’émotion des paroles. Un groupe habitué des scènes des « tributes festivals » qui grâce à leur talent et leur enthousiasme vous emmèneront dans l’univers « cover-coldplay ».\n \nPrix : 22€ sur Billetweb ou 25€ sur place.\n  \nRéservation
URL:https://www.woluwe1150.be/event/coverplay/
LOCATION:centre communautaire de Joli-Bois\, 15 drève des Shetlands\, Woluwe-Saint-Pierre\, 1150
CATEGORIES:Musique
ATTACH;FMTTYPE=image/png:https://www.woluwe1150.be/app/uploads/2026/01/coverplay.png
ORGANIZER;CN="Centre communautaire de Joli-Bois":MAILTO:event.jolibois@gmail.com
END:VEVENT
BEGIN:VEVENT
DTSTART;TZID=Europe/Brussels:20260328T180000
DTEND;TZID=Europe/Brussels:20260328T200000
DTSTAMP:20260423T230230
CREATED:20260213T125422Z
LAST-MODIFIED:20260213T125422Z
UID:92403-1774720800-1774728000@www.woluwe1150.be
SUMMARY:Concert à l'Eglise Protestante allemande
DESCRIPTION:L’Église protestante d’expression allemande Emmaus organise un concert dans ses locaux\, le samedi 28 mars à 18h. \nMembra Jesu Nostri : le cycle de 7 cantates est une contemplation mystique des parties du corps du Crucifié\, des pieds au visage\, d’après un texte d‘Arnolphe de Louvain. Œuvre pour chœur – Ökumenische Kantorei\, solistes et instruments. \nEntrée libre\, les dons contribueront à couvrir les frais du concert. \nAdresse : avenue Salomé 7.
URL:https://www.woluwe1150.be/event/concert-a-leglise-protestante-allemande/
LOCATION:Eglise germanophone de Woluwe-Saint-Pierre\, Avenue Salomé 7\, Woluwe-Saint-Pierre\, 1150
CATEGORIES:Musique
ATTACH;FMTTYPE=image/jpeg:https://www.woluwe1150.be/app/uploads/2026/02/Membra2026Fr.jpg
END:VEVENT
BEGIN:VEVENT
DTSTART;TZID=Europe/Brussels:20260329T110000
DTEND;TZID=Europe/Brussels:20260329T120000
DTSTAMP:20260423T230230
CREATED:20260211T104051Z
LAST-MODIFIED:20260211T104051Z
UID:92226-1774782000-1774785600@www.woluwe1150.be
SUMMARY:Concert classique pour bébés de 0 à 2 ans
DESCRIPTION:Par le duo « Violinstree » avec Jennifer Smith au violon et Constance Schwarzer à l’accordéon\, qui vous proposent un voyage musical et invitent les petits et les grands auditeurs à se laisser emporter dans l’univers de la musique classique. \nAu programme : un mélange de musique classique\, de chants collectifs et d’espace pour bouger en musique sur des thèmes connus. La joie et l’expérience commune de la musique sont au premier plan.  \nInfos pratiques: \n\nQui : bébés de 0 à 2 ans et leur famille\nQuand : dimanches 22 février et 29 mars à 11h (durée 40 min)\nOù : Villa François Gay\, 326 rue François Gay\, 1er étage\nS’inscrire par mail à constanzeschwarzer@netcologne.de – PAF : 7€/personne 20/famille
URL:https://www.woluwe1150.be/event/concert-classique-pour-bebes-de-0-a-2-ans-2/
LOCATION:Villa François Gay\, 326 rue François Gay\, Woluwe-Saint-Pierre\, 1150
CATEGORIES:Enfants,Musique
ATTACH;FMTTYPE=image/png:https://www.woluwe1150.be/app/uploads/2026/02/bebe_concert_villa.png
END:VEVENT
END:VCALENDAR