BEGIN:VCALENDAR
VERSION:2.0
PRODID:-//Woluwe Saint Pierre - ECPv6.13.2//NONSGML v1.0//EN
CALSCALE:GREGORIAN
METHOD:PUBLISH
X-ORIGINAL-URL:https://www.woluwe1150.be
X-WR-CALDESC:Évènements pour Woluwe Saint Pierre
REFRESH-INTERVAL;VALUE=DURATION:PT1H
X-Robots-Tag:noindex
X-PUBLISHED-TTL:PT1H
BEGIN:VTIMEZONE
TZID:Europe/Brussels
BEGIN:DAYLIGHT
TZOFFSETFROM:+0100
TZOFFSETTO:+0200
TZNAME:CEST
DTSTART:20250330T010000
END:DAYLIGHT
BEGIN:STANDARD
TZOFFSETFROM:+0200
TZOFFSETTO:+0100
TZNAME:CET
DTSTART:20251026T010000
END:STANDARD
END:VTIMEZONE
BEGIN:VEVENT
DTSTART;TZID=Europe/Brussels:20250425T200000
DTEND;TZID=Europe/Brussels:20250425T220000
DTSTAMP:20260424T213703
CREATED:20250324T125303Z
LAST-MODIFIED:20250324T125737Z
UID:78553-1745611200-1745618400@www.woluwe1150.be
SUMMARY:Concert de Stéphane Stas
DESCRIPTION:Bien que jeune chambriste apprécié\, Stéphane Stas se tourne rapidement vers la chanson française.\nAuteur-compositeur-interprète\, c’est dans un tout autre genre qu’il se fera vraiment remarquer du public : le chant sans paroles. \nCertes\, ce ne sont pas des chants religieux\, mais c’est pourtant la voix des anges qu’on a l’impression d’entendre\, une vibration qui fait du bien.  \nUtilisant sa voix de contre-ténor comme un instrument\, ses « Sine Nomine Cantus » touchent et apaisent les cœurs…et les âmes. \nVendredi 25 avril à 20h à l’Eglise Saint-Pierre (parvis Saint-Pierre). \nTarif : 20€. Réservations : bluepoppy.be – 0476/870.212.  \n 
URL:https://www.woluwe1150.be/event/concert-de-stephane-stas/
LOCATION:Eglise Saint-Pierre\, Parvis Saint-Pierre\, Woluwe-Saint-Pierre\, 1150
CATEGORIES:Musique
ATTACH;FMTTYPE=image/png:https://www.woluwe1150.be/app/uploads/2025/03/affiche-concert-Stas.png
END:VEVENT
BEGIN:VEVENT
DTSTART;TZID=Europe/Brussels:20250425T200000
DTEND;TZID=Europe/Brussels:20250425T223000
DTSTAMP:20260424T213703
CREATED:20250324T123543Z
LAST-MODIFIED:20250324T123543Z
UID:78543-1745611200-1745620200@www.woluwe1150.be
SUMMARY:F.L.O.Y.D - Belgian Pink Floyd Tribute
DESCRIPTION:Plongez dans le monde fascinant de Pink Floyd avec F.L.O.Y.D – Belgian Pink Floyd Tribute\, le groupe qui redonne vie aux spectacles emblématiques de ce groupe mythique. \nAvec 10 musiciens d’exception sur scène\, chaque performance est une célébration vibrante de l’héritage musical de Pink Floyd. Portée par des projections visuelles spectaculaires et des interprétations d’une fidélité remarquable\, cette expérience vous transporte au cœur de l’intensité et de la magie de leurs concerts. \nFermez les yeux\, ouvrez votre esprit et laissez la musique vous emporter. \nEntre énergie transcendante et moments d’émotion pure\, préparez-vous à une soirée qui ravira autant les nostalgiques que les amateurs de sensations fortes. \nVendredi 25 avril à 20h au Centre Joli-Bois (salle Agora)\, avenue du Haras 100. \nTarif : 22€ en prévente. \nRéservations sur le site Billetweb 
URL:https://www.woluwe1150.be/event/f-l-o-y-d-belgian-pink-floyd-tribute/
LOCATION:centre communautaire de Joli-Bois\, 15 drève des Shetlands\, Woluwe-Saint-Pierre\, 1150
CATEGORIES:Musique
ATTACH;FMTTYPE=image/png:https://www.woluwe1150.be/app/uploads/2025/03/floyd.png
ORGANIZER;CN="Centre communautaire de Joli-Bois":MAILTO:event.jolibois@gmail.com
END:VEVENT
END:VCALENDAR