BEGIN:VCALENDAR
VERSION:2.0
PRODID:-//Woluwe Saint Pierre - ECPv6.13.2//NONSGML v1.0//EN
CALSCALE:GREGORIAN
METHOD:PUBLISH
X-ORIGINAL-URL:https://www.woluwe1150.be
X-WR-CALDESC:Évènements pour Woluwe Saint Pierre
REFRESH-INTERVAL;VALUE=DURATION:PT1H
X-Robots-Tag:noindex
X-PUBLISHED-TTL:PT1H
BEGIN:VTIMEZONE
TZID:Europe/Brussels
BEGIN:DAYLIGHT
TZOFFSETFROM:+0100
TZOFFSETTO:+0200
TZNAME:CEST
DTSTART:20250330T010000
END:DAYLIGHT
BEGIN:STANDARD
TZOFFSETFROM:+0200
TZOFFSETTO:+0100
TZNAME:CET
DTSTART:20251026T010000
END:STANDARD
END:VTIMEZONE
BEGIN:VEVENT
DTSTART;TZID=Europe/Brussels:20250517T190000
DTEND;TZID=Europe/Brussels:20250517T210000
DTSTAMP:20260424T200117
CREATED:20250429T094505Z
LAST-MODIFIED:20250429T094505Z
UID:79424-1747508400-1747515600@www.woluwe1150.be
SUMMARY:Concert : Du féminin au masculin
DESCRIPTION:Après avoir revisité les répertoires de Georges Moustaki\, Serge Reggiani et Maxime Le Forestier\, Philippe Quevauviller (chant) vous invite pour une soirée en chansons où il passera du masculin au féminin avec des reprises de chansons de Enzo Enzo\, Barbara\, Véronique Sanson\, Maurane\, Isabelle Mayereau…. \nAvec ses complices Nathalie Culot (piano)\, Alexandre Latora (guitare) et Vitor Garbelotto (guitare à sept cordes). \nRéservation indispensable : 0476 91 92 98 ou espace4saisons@gmail.com 
URL:https://www.woluwe1150.be/event/concert-du-feminin-au-masculin/
LOCATION:Espace des 4 Saisons\, 147 rue François Desmedt\, Woluwe-Saint-Pierre\, 1150\, Belgium
CATEGORIES:Musique
ATTACH;FMTTYPE=image/jpeg:https://www.woluwe1150.be/app/uploads/2025/04/feminin_masculin_espace_4_saisons-rotated.jpg
ORGANIZER;CN="Espace des 4 Saisons":MAILTO:espace4saisons@gmail.com﻿
END:VEVENT
END:VCALENDAR