BEGIN:VCALENDAR
VERSION:2.0
PRODID:-//Woluwe Saint Pierre - ECPv6.13.2//NONSGML v1.0//EN
CALSCALE:GREGORIAN
METHOD:PUBLISH
X-WR-CALNAME:Woluwe Saint Pierre
X-ORIGINAL-URL:https://www.woluwe1150.be
X-WR-CALDESC:Évènements pour Woluwe Saint Pierre
REFRESH-INTERVAL;VALUE=DURATION:PT1H
X-Robots-Tag:noindex
X-PUBLISHED-TTL:PT1H
BEGIN:VTIMEZONE
TZID:Europe/Brussels
BEGIN:DAYLIGHT
TZOFFSETFROM:+0100
TZOFFSETTO:+0200
TZNAME:CEST
DTSTART:20250330T010000
END:DAYLIGHT
BEGIN:STANDARD
TZOFFSETFROM:+0200
TZOFFSETTO:+0100
TZNAME:CET
DTSTART:20251026T010000
END:STANDARD
END:VTIMEZONE
BEGIN:VEVENT
DTSTART;TZID=Europe/Brussels:20250518T170000
DTEND;TZID=Europe/Brussels:20250518T190000
DTSTAMP:20260424T200015
CREATED:20250428T081834Z
LAST-MODIFIED:20250428T081946Z
UID:79345-1747587600-1747594800@www.woluwe1150.be
SUMMARY:Requiem de Fauré avec 100 choristes
DESCRIPTION:Les chorales Chorus Erasmus d’Anderlecht et Canta Ludens de Drongen ont uni leurs forces pour un concert classique spécial. Une centaine de choristes interpréteront le Requiem de Gabriel Fauré dans une version pour orgue. Ce requiem est l’un des plus beaux jamais écrits et est plein d’espoir. Le programme comprend également des œuvres accompagnées à l’orgue de César Franck\, Charles Gounod et Camille Saint-Saëns. \nAprès le concert\, vous pourrez vous remémorer les souvenirs autour d’un verre et de toutes sortes de délices\, préparés et servis par Cosmos asbl. Cosmos offre une formation en restauration à des demandeurs d’emploi peu qualifiés à Anderlecht. \nOù ? Eglise Notre-Dame des Grâces du Chant d’Oiseau\, 2 avenue du Chant d’Oiseau. \nQuand ? Dimanche 18 mai à 17h. \nQui ? Chorus Erasmus\, Canta Ludens\, Emilie De Voght (dir)\, Sven Weyens (baryton)\, Helmut De Backe (organiste). \nBillets (20 €) : www.choruserasmus.be ou à l’entrée. \nAprès le concert : Réception dans les locaux de l’église.
URL:https://www.woluwe1150.be/event/requiem-de-faure-avec-100-choristes/
LOCATION:Eglise Notre-Dame du Chant d’Oiseau/Onze-Lieve-Vrouw van Genadekerk\, 2 avenue du Chant d'Oiseau\, Woluwe-Saint-Pierre\, 1150
CATEGORIES:Musique
ATTACH;FMTTYPE=image/png:https://www.woluwe1150.be/app/uploads/2025/04/requiem-faure.png
END:VEVENT
BEGIN:VEVENT
DTSTART;TZID=Europe/Brussels:20250518T180000
DTEND;TZID=Europe/Brussels:20250518T200000
DTSTAMP:20260424T200015
CREATED:20250429T100035Z
LAST-MODIFIED:20250429T100121Z
UID:79435-1747591200-1747598400@www.woluwe1150.be
SUMMARY:Nougaro et moi
DESCRIPTION:Anne Fievez (récit\, chant) \nPierrot Debiesme (guitare\, chant) \n« Les chansons de Claude Nougaro m’ont révélé le possible des mots : mettre en forme et en couleur des sentiments confus et contradictoires\, leur apporter une intelligibilité nouvelle. Pour l’évoquer\, je déroulerai des bribes autobiographiques d’une gamine en cavale sur fond d’événements qui\, d’un continent à l’autre\, ont engagé nos destins. » \nUn moment poétique et intimiste qui vous ravira ! \nPAF : 15€ adultes ; 10€ étudiants \nInfos : www.vayuprojet.com     \nRéservations souhaitées : 0476/ 91 92 98 – espace4saisons@gmail.com   \n© Djamel Merbah \n 
URL:https://www.woluwe1150.be/event/nougaro-et-moi/
LOCATION:Espace des 4 Saisons\, 147 rue François Desmedt\, Woluwe-Saint-Pierre\, 1150\, Belgium
CATEGORIES:Musique
ATTACH;FMTTYPE=image/jpeg:https://www.woluwe1150.be/app/uploads/2025/04/nougarro_espace_4_saisons.jpg
ORGANIZER;CN="Espace des 4 Saisons":MAILTO:espace4saisons@gmail.com﻿
END:VEVENT
END:VCALENDAR