BEGIN:VCALENDAR
VERSION:2.0
PRODID:-//Woluwe Saint Pierre - ECPv6.13.2//NONSGML v1.0//EN
CALSCALE:GREGORIAN
METHOD:PUBLISH
X-WR-CALNAME:Woluwe Saint Pierre
X-ORIGINAL-URL:https://www.woluwe1150.be
X-WR-CALDESC:Évènements pour Woluwe Saint Pierre
REFRESH-INTERVAL;VALUE=DURATION:PT1H
X-Robots-Tag:noindex
X-PUBLISHED-TTL:PT1H
BEGIN:VTIMEZONE
TZID:Europe/Brussels
BEGIN:DAYLIGHT
TZOFFSETFROM:+0100
TZOFFSETTO:+0200
TZNAME:CEST
DTSTART:20250330T010000
END:DAYLIGHT
BEGIN:STANDARD
TZOFFSETFROM:+0200
TZOFFSETTO:+0100
TZNAME:CET
DTSTART:20251026T010000
END:STANDARD
END:VTIMEZONE
BEGIN:VEVENT
DTSTART;TZID=Europe/Brussels:20250618T200000
DTEND;TZID=Europe/Brussels:20250618T220000
DTSTAMP:20260424T180126
CREATED:20250528T114450Z
LAST-MODIFIED:20250528T114450Z
UID:80305-1750276800-1750284000@www.woluwe1150.be
SUMMARY:Concert en plein air de Manneken Pan
DESCRIPTION:Ce duo de joueurs de handpan vous emmènera dans un univers tantôt acoustique\, tantôt teinté de sonorités électro. Venez découvrir les sonorités atypiques et envoûtantes de cet instrument hors norme. \nPAF libre. Un verre est offert. \nRéservation souhaitée via villafrancoisgay@gmail.com
URL:https://www.woluwe1150.be/event/concert-en-plein-air-de-manneken-pan/
LOCATION:Villa François Gay\, 326 rue François Gay\, Woluwe-Saint-Pierre\, 1150
CATEGORIES:Musique
ATTACH;FMTTYPE=image/jpeg:https://www.woluwe1150.be/app/uploads/2025/05/villa_manneken_pan.jpg
ORGANIZER;CN="Villa Fran%C3%A7ois Gay":MAILTO:villafrancoisgay@gmail.com
END:VEVENT
END:VCALENDAR