BEGIN:VCALENDAR
VERSION:2.0
PRODID:-//Woluwe Saint Pierre - ECPv6.13.2//NONSGML v1.0//EN
CALSCALE:GREGORIAN
METHOD:PUBLISH
X-WR-CALNAME:Woluwe Saint Pierre
X-ORIGINAL-URL:https://www.woluwe1150.be
X-WR-CALDESC:Évènements pour Woluwe Saint Pierre
REFRESH-INTERVAL;VALUE=DURATION:PT1H
X-Robots-Tag:noindex
X-PUBLISHED-TTL:PT1H
BEGIN:VTIMEZONE
TZID:Europe/Brussels
BEGIN:DAYLIGHT
TZOFFSETFROM:+0100
TZOFFSETTO:+0200
TZNAME:CEST
DTSTART:20250330T010000
END:DAYLIGHT
BEGIN:STANDARD
TZOFFSETFROM:+0200
TZOFFSETTO:+0100
TZNAME:CET
DTSTART:20251026T010000
END:STANDARD
END:VTIMEZONE
BEGIN:VEVENT
DTSTART;TZID=Europe/Brussels:20250620T200000
DTEND;TZID=Europe/Brussels:20250620T220000
DTSTAMP:20260424T181111
CREATED:20250527T141003Z
LAST-MODIFIED:20250527T141003Z
UID:80242-1750449600-1750456800@www.woluwe1150.be
SUMMARY:Concert solidaire de Vox Anima
DESCRIPTION:Un concert solidaire est organisé le vendredi 20 juin à 20h\, en l’église Sainte-Alix\, par la chorale Vox Anima\, au profit de l’association « Une Note Pour Chacun« . \nLe répertoire va du classique au moderne en passant par les musiques du monde et de films. \nL’association « Une Note Pour Chacun »\, propose des activités musicales variées aux enfants et jeunes hospitalisés (du bébé au grand ado) dans quatre hôpitaux universitaire bruxellois : Saint-Pierre\, Saint-Luc\, Erasme et l’Hôpital des Enfants Reine Fabiola. \nRéservation via tickets.voxanima.be Info: concertsolidaire@voxanima.be
URL:https://www.woluwe1150.be/event/concert-solidaire-de-vox-anima/
LOCATION:Eglise Sainte-Alix\, Parvis Sainte-Alix\, Woluwe-Saint-Pierre\, 1150
CATEGORIES:Musique
ATTACH;FMTTYPE=image/png:https://www.woluwe1150.be/app/uploads/2025/05/concert_solidaire_vox_anima.png
END:VEVENT
BEGIN:VEVENT
DTSTART;TZID=Europe/Brussels:20250620T200000
DTEND;TZID=Europe/Brussels:20250621T190000
DTSTAMP:20260424T181111
CREATED:20250526T103434Z
LAST-MODIFIED:20250526T103434Z
UID:80177-1750449600-1750532400@www.woluwe1150.be
SUMMARY:Concert de Piano
DESCRIPTION:Les vendredi 20 juin à 20h et samedi 21 juin à 17h. \nBenoît de Menten vous invite à partager un moment musical autour d’œuvres post-romantiques et impressionnistes du 20ème siècle. \nAu programme : la 2ème sonate d’Alexander Glazunov\, Cordes à vide de György Ligeti et les 5 Miroirs de Maurice Ravel. \nLe concert est organisé au profit de l’association Madaquatre (www.madaquatre.be) et sera suivi d’un petit verre convivial. \nParticipation libre.
URL:https://www.woluwe1150.be/event/concert-de-piano/
LOCATION:Espace des 4 Saisons\, 147 rue François Desmedt\, Woluwe-Saint-Pierre\, 1150\, Belgium
CATEGORIES:Musique
ATTACH;FMTTYPE=image/jpeg:https://www.woluwe1150.be/app/uploads/2025/05/concert_piano_4saisons.jpg
ORGANIZER;CN="Espace des 4 Saisons":MAILTO:espace4saisons@gmail.com﻿
END:VEVENT
END:VCALENDAR