BEGIN:VCALENDAR
VERSION:2.0
PRODID:-//Woluwe Saint Pierre - ECPv6.13.2//NONSGML v1.0//EN
CALSCALE:GREGORIAN
METHOD:PUBLISH
X-WR-CALNAME:Woluwe Saint Pierre
X-ORIGINAL-URL:https://www.woluwe1150.be
X-WR-CALDESC:Évènements pour Woluwe Saint Pierre
REFRESH-INTERVAL;VALUE=DURATION:PT1H
X-Robots-Tag:noindex
X-PUBLISHED-TTL:PT1H
BEGIN:VTIMEZONE
TZID:Europe/Brussels
BEGIN:DAYLIGHT
TZOFFSETFROM:+0100
TZOFFSETTO:+0200
TZNAME:CEST
DTSTART:20250330T010000
END:DAYLIGHT
BEGIN:STANDARD
TZOFFSETFROM:+0200
TZOFFSETTO:+0100
TZNAME:CET
DTSTART:20251026T010000
END:STANDARD
END:VTIMEZONE
BEGIN:VEVENT
DTSTART;TZID=Europe/Brussels:20250629T104500
DTEND;TZID=Europe/Brussels:20250629T123000
DTSTAMP:20260424T181114
CREATED:20250528T115314Z
LAST-MODIFIED:20250528T115314Z
UID:80311-1751193900-1751200200@www.woluwe1150.be
SUMMARY:Visite guidée musicale du quartier Vandendriessche
DESCRIPTION:Vous êtes-vous déjà demandé qui était Vandendriessche\, dont une rue porte le nom ? Connaissez-vous les anciens sentiers campagnards qui ont donné certaines des rues d’aujourd’hui de la commune ? Venez profiter de quelques explications historiques et anecdotes sur le quartier\, accompagnées par une musicienne professionnelle. \nInscriptions : ccco@woluwe1150.be \nVisite guidée par l’asbl Clap Culture asbl
URL:https://www.woluwe1150.be/event/visite-guidee-musicale-du-quartier-vandendriessche/
LOCATION:Centre communautaire du Chant d’Oiseau\, 40 avenue du Chant d'Oiseau\, 1150 Woluwe-Saint-Pierre\, 1150\, Belgique
CATEGORIES:Animation,Musique,Visite guidée
ORGANIZER;CN="Centre communautaire du Chant d'Oiseau":MAILTO:ccco@woluwe1150.be
END:VEVENT
END:VCALENDAR