BEGIN:VCALENDAR
VERSION:2.0
PRODID:-//Woluwe Saint Pierre - ECPv6.13.2//NONSGML v1.0//EN
CALSCALE:GREGORIAN
METHOD:PUBLISH
X-ORIGINAL-URL:https://www.woluwe1150.be
X-WR-CALDESC:Évènements pour Woluwe Saint Pierre
REFRESH-INTERVAL;VALUE=DURATION:PT1H
X-Robots-Tag:noindex
X-PUBLISHED-TTL:PT1H
BEGIN:VTIMEZONE
TZID:Europe/Brussels
BEGIN:DAYLIGHT
TZOFFSETFROM:+0100
TZOFFSETTO:+0200
TZNAME:CEST
DTSTART:20250330T010000
END:DAYLIGHT
BEGIN:STANDARD
TZOFFSETFROM:+0200
TZOFFSETTO:+0100
TZNAME:CET
DTSTART:20251026T010000
END:STANDARD
END:VTIMEZONE
BEGIN:VEVENT
DTSTART;TZID=Europe/Brussels:20250705T200000
DTEND;TZID=Europe/Brussels:20250705T220000
DTSTAMP:20260424T163304
CREATED:20250528T115922Z
LAST-MODIFIED:20250528T115922Z
UID:80318-1751745600-1751752800@www.woluwe1150.be
SUMMARY:Birdland Café Jazz Duo
DESCRIPTION:Le Centre Crousse vous convie à une soirée swing conviviale avec deux musiciens de renom\, Ervin Szabo (guitare) et Tamàs Zsári (saxophone). \nPAF : 5 € par participant (1 boisson comprise) \nOuvert à tous sur inscription par mail : asblcentrecrousse@skynet.be
URL:https://www.woluwe1150.be/event/birdland-cafe-jazz-duo/
LOCATION:Centre Crousse\, 11 rue au Bois\, Woluwe-Saint-Pierre\, 1150
CATEGORIES:Musique
ATTACH;FMTTYPE=image/jpeg:https://www.woluwe1150.be/app/uploads/2025/05/Crousse-birdland.jpg
ORGANIZER;CN="Centre Crousse":MAILTO:asblcentrecrousse@skynet.be
END:VEVENT
END:VCALENDAR