BEGIN:VCALENDAR
VERSION:2.0
PRODID:-//Woluwe Saint Pierre - ECPv6.13.2//NONSGML v1.0//EN
CALSCALE:GREGORIAN
METHOD:PUBLISH
X-ORIGINAL-URL:https://www.woluwe1150.be
X-WR-CALDESC:Évènements pour Woluwe Saint Pierre
REFRESH-INTERVAL;VALUE=DURATION:PT1H
X-Robots-Tag:noindex
X-PUBLISHED-TTL:PT1H
BEGIN:VTIMEZONE
TZID:Europe/Brussels
BEGIN:DAYLIGHT
TZOFFSETFROM:+0100
TZOFFSETTO:+0200
TZNAME:CEST
DTSTART:20250330T010000
END:DAYLIGHT
BEGIN:STANDARD
TZOFFSETFROM:+0200
TZOFFSETTO:+0100
TZNAME:CET
DTSTART:20251026T010000
END:STANDARD
END:VTIMEZONE
BEGIN:VEVENT
DTSTART;TZID=Europe/Brussels:20250706T163000
DTEND;TZID=Europe/Brussels:20250831T180000
DTSTAMP:20260424T144110
CREATED:20250623T083456Z
LAST-MODIFIED:20250623T083456Z
UID:80806-1751819400-1756663200@www.woluwe1150.be
SUMMARY:Mini-festival d'orgue d'été
DESCRIPTION:L’ASBL Musique au Chant d’Oiseau propose à nouveau des concerts d’orgue tous les dimanches de l’été à 16h30\, à l’église du Chant d’Oiseau. \nProgramme complet sur www.mco-asbl.be ou via l’affiche.  \nAdresse : avenue du Chant d’Oiseau 2. Tarif : 5€.
URL:https://www.woluwe1150.be/event/mini-festival-dorgue-dete-2/
LOCATION:Eglise Notre-Dame du Chant d’Oiseau/Onze-Lieve-Vrouw van Genadekerk\, 2 avenue du Chant d'Oiseau\, Woluwe-Saint-Pierre\, 1150
CATEGORIES:Musique
ATTACH;FMTTYPE=image/jpeg:https://www.woluwe1150.be/app/uploads/2025/06/festival_orgue_2025.jpg
END:VEVENT
END:VCALENDAR