BEGIN:VCALENDAR
VERSION:2.0
PRODID:-//Woluwe Saint Pierre - ECPv6.13.2//NONSGML v1.0//EN
CALSCALE:GREGORIAN
METHOD:PUBLISH
X-WR-CALNAME:Woluwe Saint Pierre
X-ORIGINAL-URL:https://www.woluwe1150.be
X-WR-CALDESC:Évènements pour Woluwe Saint Pierre
REFRESH-INTERVAL;VALUE=DURATION:PT1H
X-Robots-Tag:noindex
X-PUBLISHED-TTL:PT1H
BEGIN:VTIMEZONE
TZID:Europe/Brussels
BEGIN:DAYLIGHT
TZOFFSETFROM:+0100
TZOFFSETTO:+0200
TZNAME:CEST
DTSTART:20250330T010000
END:DAYLIGHT
BEGIN:STANDARD
TZOFFSETFROM:+0200
TZOFFSETTO:+0100
TZNAME:CET
DTSTART:20251026T010000
END:STANDARD
END:VTIMEZONE
BEGIN:VEVENT
DTSTART;TZID=Europe/Brussels:20250923T200000
DTEND;TZID=Europe/Brussels:20250923T220000
DTSTAMP:20260424T125248
CREATED:20250825T125207Z
LAST-MODIFIED:20250825T125207Z
UID:82026-1758657600-1758664800@www.woluwe1150.be
SUMMARY:Ouverture du Musical Club à Joli-Bois
DESCRIPTION:Une scène qui accueille tous les nouveaux talents du monde de la musique\, le mardi 23 septembre à 20h. \nEnsuite\, à partir d’octobre\, rendez-vous tous les premiers mardis du mois. \nL’épicerie « Chez Julien” proposera des sélections de vins\, fromages et charcuteries. \nEntrée libre. Info : centrejolibois.be
URL:https://www.woluwe1150.be/event/ouverture-du-musical-club-a-joli-bois/
LOCATION:centre communautaire de Joli-Bois\, 15 drève des Shetlands\, Woluwe-Saint-Pierre\, 1150
CATEGORIES:Musique
ATTACH;FMTTYPE=image/png:https://www.woluwe1150.be/app/uploads/2025/08/joli_bois_musical_club.png
ORGANIZER;CN="Centre communautaire de Joli-Bois":MAILTO:event.jolibois@gmail.com
END:VEVENT
END:VCALENDAR