BEGIN:VCALENDAR
VERSION:2.0
PRODID:-//Woluwe Saint Pierre - ECPv6.13.2//NONSGML v1.0//EN
CALSCALE:GREGORIAN
METHOD:PUBLISH
X-WR-CALNAME:Woluwe Saint Pierre
X-ORIGINAL-URL:https://www.woluwe1150.be
X-WR-CALDESC:Évènements pour Woluwe Saint Pierre
REFRESH-INTERVAL;VALUE=DURATION:PT1H
X-Robots-Tag:noindex
X-PUBLISHED-TTL:PT1H
BEGIN:VTIMEZONE
TZID:Europe/Brussels
BEGIN:DAYLIGHT
TZOFFSETFROM:+0100
TZOFFSETTO:+0200
TZNAME:CEST
DTSTART:20250330T010000
END:DAYLIGHT
BEGIN:STANDARD
TZOFFSETFROM:+0200
TZOFFSETTO:+0100
TZNAME:CET
DTSTART:20251026T010000
END:STANDARD
END:VTIMEZONE
BEGIN:VEVENT
DTSTART;TZID=Europe/Brussels:20251207T110000
DTEND;TZID=Europe/Brussels:20251207T120000
DTSTAMP:20260424T083304
CREATED:20251114T122719Z
LAST-MODIFIED:20251114T122836Z
UID:86797-1765105200-1765108800@www.woluwe1150.be
SUMMARY:Bébé concert
DESCRIPTION:Concert classique pour bébés de 0 à 2 ans et leur famille. \nPar le duo « Violinstree » avec Maya Grünebach au violon et Constance Schwarzer à l’accordéon. \nElles vous proposent un voyage musical de Bach jusque Pärt et invitent les petits et les grands auditeurs à se laisser emporter dans l’univers de la musique classique. \nInscription : mayagruenebach@gmail.com \n7€/personne\, 20€/famille.
URL:https://www.woluwe1150.be/event/bebe-concert-a-la-villa/
LOCATION:Villa François Gay\, 326 rue François Gay\, Woluwe-Saint-Pierre\, 1150
CATEGORIES:Enfants,Musique
ATTACH;FMTTYPE=image/jpeg:https://www.woluwe1150.be/app/uploads/2025/11/concert_bebe_vila_fg-scaled.jpg
ORGANIZER;CN="Villa Fran%C3%A7ois Gay":MAILTO:villafrancoisgay@gmail.com
END:VEVENT
END:VCALENDAR