BEGIN:VCALENDAR
VERSION:2.0
PRODID:-//Woluwe Saint Pierre - ECPv6.13.2//NONSGML v1.0//EN
CALSCALE:GREGORIAN
METHOD:PUBLISH
X-WR-CALNAME:Woluwe Saint Pierre
X-ORIGINAL-URL:https://www.woluwe1150.be
X-WR-CALDESC:Évènements pour Woluwe Saint Pierre
REFRESH-INTERVAL;VALUE=DURATION:PT1H
X-Robots-Tag:noindex
X-PUBLISHED-TTL:PT1H
BEGIN:VTIMEZONE
TZID:Europe/Brussels
BEGIN:DAYLIGHT
TZOFFSETFROM:+0100
TZOFFSETTO:+0200
TZNAME:CEST
DTSTART:20260329T010000
END:DAYLIGHT
BEGIN:STANDARD
TZOFFSETFROM:+0200
TZOFFSETTO:+0100
TZNAME:CET
DTSTART:20261025T010000
END:STANDARD
END:VTIMEZONE
BEGIN:VEVENT
DTSTART;TZID=Europe/Brussels:20260113T200000
DTEND;TZID=Europe/Brussels:20260113T220000
DTSTAMP:20260424T071621
CREATED:20251208T114918Z
LAST-MODIFIED:20251208T114918Z
UID:88176-1768334400-1768341600@www.woluwe1150.be
SUMMARY:100 Voltas Quartet
DESCRIPTION:100 Voltas n’est autre que le résultat surprenant d’une rencontre évidente\, festive et vivifiante entre la voix\, tantôt en finesse\, tantôt en puissance\, de la chanteuse galicienne Verónica Codesal (Urban Trad\, Ialma)\, l’accordéon diatonique du toujours virtuose Didier Laloy\, le violon pop/rock du créatif Damien Chierici et le groove sans pareil du batteur et percussionniste togolais Boris Tchango. \nUn répertoire de chansons traditionnelles galiciennes et de compositions originales. \nUne voix qui livre des textes originaux puissants\, spécialement écrits pour 100 Voltas par des poètesses galiciennes contemporaines telles que Yolanda Castaño – Premio Nacional 2023 de Poesia -\, Lucia Aldao\, Rosalia Fernández Rial et Brais Fernández. \nIl y a également des textes originaux écrits de la main de Verónica dans lesquels elle se raconte en tant que femme\, épouse\, partenaire\, mère\, fille\, amie\, artiste\, activiste… \nInfos et réservations\nPhoto: ©Dyod
URL:https://www.woluwe1150.be/event/100-voltas-quartet/
LOCATION:Centre culturel/cultureel centrum Whalll\, 93 avenue Charles Thielemanslaan\, WSP/SPW\, 1150
CATEGORIES:Musique
ATTACH;FMTTYPE=image/jpeg:https://www.woluwe1150.be/app/uploads/2025/12/100-VOLTAS.jpg
ORGANIZER;CN="Whalll":MAILTO:billetterie@whalll.be
END:VEVENT
END:VCALENDAR