BEGIN:VCALENDAR
VERSION:2.0
PRODID:-//Woluwe Saint Pierre - ECPv6.13.2//NONSGML v1.0//EN
CALSCALE:GREGORIAN
METHOD:PUBLISH
X-ORIGINAL-URL:https://www.woluwe1150.be
X-WR-CALDESC:Évènements pour Woluwe Saint Pierre
REFRESH-INTERVAL;VALUE=DURATION:PT1H
X-Robots-Tag:noindex
X-PUBLISHED-TTL:PT1H
BEGIN:VTIMEZONE
TZID:Europe/Brussels
BEGIN:DAYLIGHT
TZOFFSETFROM:+0100
TZOFFSETTO:+0200
TZNAME:CEST
DTSTART:20260329T010000
END:DAYLIGHT
BEGIN:STANDARD
TZOFFSETFROM:+0200
TZOFFSETTO:+0100
TZNAME:CET
DTSTART:20261025T010000
END:STANDARD
END:VTIMEZONE
BEGIN:VEVENT
DTSTART;TZID=Europe/Brussels:20260131T000000
DTEND;TZID=Europe/Brussels:20260201T000000
DTSTAMP:20260424T054749
CREATED:20260105T101059Z
LAST-MODIFIED:20260105T101202Z
UID:89646-1769817600-1769904000@www.woluwe1150.be
SUMMARY:Concert du chœur Cantus Firmus
DESCRIPTION:Le choeur Cantus Firmus (basé à Woluwe-Saint-Pierre) organise les 31 janvier et 1er février 2026 un grand concert (cantates de Bach) à la salle Novum (Etterbeek).  \nUne partie des bénéfices sera reversée à l’association L’Escalpade\, engagée dans l’accompagnement de personnes en situation de handicap. \nInfos et réservations
URL:https://www.woluwe1150.be/event/concert-du-choeur-cantus-firmus/
LOCATION:Espace Novum\, Rue Père Eudore Devroye 2\, Etterbeek\, 1040
CATEGORIES:Musique
ATTACH;FMTTYPE=image/jpeg:https://www.woluwe1150.be/app/uploads/2026/01/concert_escalpade.jpg
END:VEVENT
END:VCALENDAR