BEGIN:VCALENDAR
VERSION:2.0
PRODID:-//Woluwe Saint Pierre - ECPv6.13.2//NONSGML v1.0//EN
CALSCALE:GREGORIAN
METHOD:PUBLISH
X-WR-CALNAME:Woluwe Saint Pierre
X-ORIGINAL-URL:https://www.woluwe1150.be
X-WR-CALDESC:Évènements pour Woluwe Saint Pierre
REFRESH-INTERVAL;VALUE=DURATION:PT1H
X-Robots-Tag:noindex
X-PUBLISHED-TTL:PT1H
BEGIN:VTIMEZONE
TZID:Europe/Brussels
BEGIN:DAYLIGHT
TZOFFSETFROM:+0100
TZOFFSETTO:+0200
TZNAME:CEST
DTSTART:20260329T010000
END:DAYLIGHT
BEGIN:STANDARD
TZOFFSETFROM:+0200
TZOFFSETTO:+0100
TZNAME:CET
DTSTART:20261025T010000
END:STANDARD
END:VTIMEZONE
BEGIN:VEVENT
DTSTART;TZID=Europe/Brussels:20260201T160000
DTEND;TZID=Europe/Brussels:20260201T180000
DTSTAMP:20260424T071602
CREATED:20251208T120255Z
LAST-MODIFIED:20260119T110811Z
UID:88191-1769961600-1769968800@www.woluwe1150.be
SUMMARY:Lay this drum ! « Glass »
DESCRIPTION:Percussions 100 % féminines \nAprès 5 ans de succès en tournée et un passage remarqué au Festival d’Avignon 2022\, Lay This Drum\, le show percussif 100 % féminin\, revient avec un nouveau spectacle encore plus explosif ! Toujours engagé\, il interroge les stéréotypes de genre et le plafond de verre\, avec un dispositif scénique éblouissant. \nCes 5 percussionnistes mettent leur énergie et leur talent au service d’un spectacle tout public\, vibrant et rassembleur. A ne manquer sous aucun prétexte ! \nMusiciennes : Olympia Boyle\, Brigit Eecloo\, Sara Moonen\, Aurélie Simenel\, Gaëlle Swann  \nInfos et réservations
URL:https://www.woluwe1150.be/event/lay-this-drum-glass/
LOCATION:Centre culturel/cultureel centrum Whalll\, 93 avenue Charles Thielemanslaan\, WSP/SPW\, 1150
CATEGORIES:Musique
ATTACH;FMTTYPE=image/jpeg:https://www.woluwe1150.be/app/uploads/2026/01/glass.jpg
ORGANIZER;CN="Whalll":MAILTO:billetterie@whalll.be
END:VEVENT
END:VCALENDAR