BEGIN:VCALENDAR
VERSION:2.0
PRODID:-//Woluwe Saint Pierre - ECPv6.13.2//NONSGML v1.0//EN
CALSCALE:GREGORIAN
METHOD:PUBLISH
X-ORIGINAL-URL:https://www.woluwe1150.be
X-WR-CALDESC:Évènements pour Woluwe Saint Pierre
REFRESH-INTERVAL;VALUE=DURATION:PT1H
X-Robots-Tag:noindex
X-PUBLISHED-TTL:PT1H
BEGIN:VTIMEZONE
TZID:Europe/Brussels
BEGIN:DAYLIGHT
TZOFFSETFROM:+0100
TZOFFSETTO:+0200
TZNAME:CEST
DTSTART:20260329T010000
END:DAYLIGHT
BEGIN:STANDARD
TZOFFSETFROM:+0200
TZOFFSETTO:+0100
TZNAME:CET
DTSTART:20261025T010000
END:STANDARD
END:VTIMEZONE
BEGIN:VEVENT
DTSTART;TZID=Europe/Brussels:20260205T200000
DTEND;TZID=Europe/Brussels:20260205T220000
DTSTAMP:20260424T054749
CREATED:20260119T111503Z
LAST-MODIFIED:20260119T111503Z
UID:90467-1770321600-1770328800@www.woluwe1150.be
SUMMARY:Concert de musiques de films
DESCRIPTION:Le 5 février prochain aura lieu au WHalll – Centre Culturel de Woluwe-Saint-Pierre un magnifique Concert de Musiques de films avec projections vidéo.\n150 choristes\, adultes et enfants\, accompagnés par l’Ensemble Orchestral de Bruxelles sous la direction du talentueux chef Romain Verbeeren nous feront voyager au cœur des plus belles pages des musiques de films.\nSi vous voulez passer un magnifique moment musical tout en soutenant la mission des Femmes d’Europe\, alors n’hésitez pas à vous inscrire sur le site de Femmes d’Europe.’’ \nRéservation
URL:https://www.woluwe1150.be/event/concert-de-musiques-de-films/
LOCATION:Centre culturel/cultureel centrum Whalll\, 93 avenue Charles Thielemanslaan\, WSP/SPW\, 1150
CATEGORIES:Musique
ATTACH;FMTTYPE=image/jpeg:https://www.woluwe1150.be/app/uploads/2026/01/vox_anima.jpeg
END:VEVENT
END:VCALENDAR