BEGIN:VCALENDAR
VERSION:2.0
PRODID:-//Woluwe Saint Pierre - ECPv6.13.2//NONSGML v1.0//EN
CALSCALE:GREGORIAN
METHOD:PUBLISH
X-WR-CALNAME:Woluwe Saint Pierre
X-ORIGINAL-URL:https://www.woluwe1150.be
X-WR-CALDESC:Évènements pour Woluwe Saint Pierre
REFRESH-INTERVAL;VALUE=DURATION:PT1H
X-Robots-Tag:noindex
X-PUBLISHED-TTL:PT1H
BEGIN:VTIMEZONE
TZID:Europe/Brussels
BEGIN:DAYLIGHT
TZOFFSETFROM:+0100
TZOFFSETTO:+0200
TZNAME:CEST
DTSTART:20260329T010000
END:DAYLIGHT
BEGIN:STANDARD
TZOFFSETFROM:+0200
TZOFFSETTO:+0100
TZNAME:CET
DTSTART:20261025T010000
END:STANDARD
END:VTIMEZONE
BEGIN:VEVENT
DTSTART;TZID=Europe/Brussels:20260206T200000
DTEND;TZID=Europe/Brussels:20260206T220000
DTSTAMP:20260424T054605
CREATED:20260119T111643Z
LAST-MODIFIED:20260119T111643Z
UID:90469-1770408000-1770415200@www.woluwe1150.be
SUMMARY:Victorien
DESCRIPTION:Dans son premier album Il faudra le faire\, qui est sorti le 31 octobre 2025\, Victorien transforme les instants du quotidien en émotions partagées\, tissant des morceaux de vie sur des mélodies simples et sincères. Entre le temps qui file et l’amour persistant\, il célèbre la nostalgie comme une manière de faire durer l’éphémère. \nEt si Victorien avait inventé la pop proustienne ? Une musique où l’anecdotique devient éternité\, où les souvenirs respirent encore\, où l’homme se dévoile simplement\, main tendue vers le monde. \nSa voix\, parfois rejointe par celle\, envoûtante\, d’Eulalie\, tisse un fil entre pop\, slam\, folk et chanson\, sans jamais se laisser enfermer. \nEntre mélancolie lumineuse et pudeur bouleversante\, il chante les fantômes familiers\, les émotions vraies\, les petits riens qui font nos vies.\nVictorien se livre sans fard\, avec un art du dépouillement rare. \nUn premier album célébré comme une naissance\, fragile et ardente\, où Victorien partage ses histoires\, celles qui nous ressemblent… \nRéservation
URL:https://www.woluwe1150.be/event/victorien/
LOCATION:Centre culturel/cultureel centrum Whalll\, 93 avenue Charles Thielemanslaan\, WSP/SPW\, 1150
CATEGORIES:Musique
ATTACH;FMTTYPE=image/jpeg:https://www.woluwe1150.be/app/uploads/2026/01/victorien.jpg
ORGANIZER;CN="Whalll":MAILTO:billetterie@whalll.be
END:VEVENT
END:VCALENDAR