BEGIN:VCALENDAR
VERSION:2.0
PRODID:-//Woluwe Saint Pierre - ECPv6.13.2//NONSGML v1.0//EN
CALSCALE:GREGORIAN
METHOD:PUBLISH
X-ORIGINAL-URL:https://www.woluwe1150.be
X-WR-CALDESC:Évènements pour Woluwe Saint Pierre
REFRESH-INTERVAL;VALUE=DURATION:PT1H
X-Robots-Tag:noindex
X-PUBLISHED-TTL:PT1H
BEGIN:VTIMEZONE
TZID:Europe/Brussels
BEGIN:DAYLIGHT
TZOFFSETFROM:+0100
TZOFFSETTO:+0200
TZNAME:CEST
DTSTART:20260329T010000
END:DAYLIGHT
BEGIN:STANDARD
TZOFFSETFROM:+0200
TZOFFSETTO:+0100
TZNAME:CET
DTSTART:20261025T010000
END:STANDARD
END:VTIMEZONE
BEGIN:VEVENT
DTSTART;TZID=Europe/Brussels:20260227T193000
DTEND;TZID=Europe/Brussels:20260227T203000
DTSTAMP:20260424T003133
CREATED:20260205T105334Z
LAST-MODIFIED:20260205T105334Z
UID:91804-1772220600-1772224200@www.woluwe1150.be
SUMMARY:Concert de violon 2- Astrid Rios
DESCRIPTION:Lors du concert 2 “Vibration à la Cambre” Astrid Rios interprétera des oeuvres de Bach\, Saint-Saëns\, Kreisler\, Paganini\, Messenet\, et bien d’autres. \nInfos et réservations
URL:https://www.woluwe1150.be/event/concert-de-violon-2-astrid-rios/
LOCATION:Cambre Expo\, Rue de la Cambre 175\, Woluwe-Saint-Pierre\, 1150
CATEGORIES:Musique
ATTACH;FMTTYPE=image/jpeg:https://www.woluwe1150.be/app/uploads/2026/02/concert_astrid_rios.jpg
END:VEVENT
END:VCALENDAR