BEGIN:VCALENDAR
VERSION:2.0
PRODID:-//Woluwe Saint Pierre - ECPv6.13.2//NONSGML v1.0//EN
CALSCALE:GREGORIAN
METHOD:PUBLISH
X-WR-CALNAME:Woluwe Saint Pierre
X-ORIGINAL-URL:https://www.woluwe1150.be
X-WR-CALDESC:Évènements pour Woluwe Saint Pierre
REFRESH-INTERVAL;VALUE=DURATION:PT1H
X-Robots-Tag:noindex
X-PUBLISHED-TTL:PT1H
BEGIN:VTIMEZONE
TZID:Europe/Brussels
BEGIN:DAYLIGHT
TZOFFSETFROM:+0100
TZOFFSETTO:+0200
TZNAME:CEST
DTSTART:20250330T010000
END:DAYLIGHT
BEGIN:STANDARD
TZOFFSETFROM:+0200
TZOFFSETTO:+0100
TZNAME:CET
DTSTART:20251026T010000
END:STANDARD
END:VTIMEZONE
BEGIN:VEVENT
DTSTART;TZID=Europe/Brussels:20251210T190000
DTEND;TZID=Europe/Brussels:20251210T200000
DTSTAMP:20260424T155247
CREATED:20251128T082019Z
LAST-MODIFIED:20251128T082019Z
UID:87558-1765393200-1765396800@www.woluwe1150.be
SUMMARY:Spectacle de magie avec Emmanuel Priels
DESCRIPTION:Un spectacle de magie avec Emmanuel Priels\, magicien du hasard. \n\nPublic familial à partir de 8 ans.\nInscription obligatoire : 02/435.59.22 ou bib.jb.jeunesse@woluwe1150.be\nLieu : salle « La Taverne » du CCJB\, drève des Shetlands 15. 
URL:https://www.woluwe1150.be/event/spectacle-de-magie-avec-emmanuel-priels/
LOCATION:centre communautaire de Joli-Bois\, 15 drève des Shetlands\, Woluwe-Saint-Pierre\, 1150
CATEGORIES:Spectacle,Enfants
ATTACH;FMTTYPE=image/png:https://www.woluwe1150.be/app/uploads/2025/11/spectacle-magie-jb-1350x550-1.png
ORGANIZER;CN="Biblioth%C3%A8que de Joli-Bois - Jeunesse":MAILTO:bib.jb.jeunesse@woluwe1150.be
END:VEVENT
BEGIN:VEVENT
DTSTART;TZID=Europe/Brussels:20251220T150000
DTEND;TZID=Europe/Brussels:20251220T160000
DTSTAMP:20260424T155247
CREATED:20251128T084506Z
LAST-MODIFIED:20251128T084506Z
UID:87585-1766242800-1766246400@www.woluwe1150.be
SUMMARY:Spectacle de magie « Le souffle des secrets » avec Olivier Prestant
DESCRIPTION:Un spectacle de magie avec Olivier Prestant\, illusionniste. \n\n\nPublic familial à partir de 6 ans. \n\nInscription obligatoire :\n\n02/773.05.83 ou bib.centre.jeunesse@woluwe1150.be
URL:https://www.woluwe1150.be/event/spectacle-de-magie-le-souffle-des-secrets-avec-olivier-prestant/
LOCATION:Bibliothèque du Centre\, 93 avenue Charles Thielemans\, 1150 Woluwe-Saint-Pierre\, 1150\, Belgique
CATEGORIES:Spectacle,Enfants
ATTACH;FMTTYPE=image/png:https://www.woluwe1150.be/app/uploads/2025/11/spectacle_magie_souffle.png
ORGANIZER;CN="Biblioth%C3%A8que du Centre - Jeunesse":MAILTO:bib.centre.jeunesse@woluwe1150.be
END:VEVENT
END:VCALENDAR