BEGIN:VCALENDAR
VERSION:2.0
PRODID:-//Woluwe Saint Pierre - ECPv6.13.2//NONSGML v1.0//EN
CALSCALE:GREGORIAN
METHOD:PUBLISH
X-ORIGINAL-URL:https://www.woluwe1150.be
X-WR-CALDESC:Évènements pour Woluwe Saint Pierre
REFRESH-INTERVAL;VALUE=DURATION:PT1H
X-Robots-Tag:noindex
X-PUBLISHED-TTL:PT1H
BEGIN:VTIMEZONE
TZID:Europe/Brussels
BEGIN:DAYLIGHT
TZOFFSETFROM:+0100
TZOFFSETTO:+0200
TZNAME:CEST
DTSTART:20260329T010000
END:DAYLIGHT
BEGIN:STANDARD
TZOFFSETFROM:+0200
TZOFFSETTO:+0100
TZNAME:CET
DTSTART:20261025T010000
END:STANDARD
END:VTIMEZONE
BEGIN:VEVENT
DTSTART;TZID=Europe/Brussels:20260508T200000
DTEND;TZID=Europe/Brussels:20260508T220000
DTSTAMP:20260424T105613
CREATED:20260317T112837Z
LAST-MODIFIED:20260317T112837Z
UID:93283-1778270400-1778277600@www.woluwe1150.be
SUMMARY:Simon Lepers en spectacle
DESCRIPTION:Adepte de notre Comedy Club\, c’est en solo que Simon Lepers débarque à Joli Bois le vendredi 8 mai pour une soirée stand-up déjantée ! Il viendra nous présenter son spectacle  » Le soulèvement des beaufs ». \n \n\nAu début du millénaire\, sentant leur disparition proche\, des scientifiques beaufs cryogénisent un des leurs dans un congélateur de friterie afin de perpétuer leur race bénie. 20 ans plus tard\, suite à un blackout engendré par le peuple qui n’a pas écouté Elio (di Rupo) leur demandant de couper le wifi\, il se décongèle comme une fricandelle.\nEvoluant aujourd’hui dans un monde apocalyptique où les brunchs à 35 euros\, les cures détox à base de pissenlit et les « dry january » sont omniprésents\, il organise la résistance pour restaurer la grandeur de sa civilisation perdue.\n \nSon combat\, il va le vivre avec vous pendant une heure à travers sa légende\, ses anecdotes sur sa vie devant Beverly Hills et Alerte à Malibu. Et il risque bien de vous rallier à sa cause car nous sommes toutes et tous le beauf de quelqu’un ! »\n\n \nInfos pratiques :\n \n\nPlaces limitées. Entrée : 15€\nRéservation des places en ligne obligatoire.\nOuverture des portes à 19h30. Spectacle à 20h. Bar prévu sur place. \nSalle de la Taverne. Drève des Shetlands 15\, 1150 Woluwe-Saint-Pierre.\nSpectacle déconseillé au moins de 12 ans.\n\n\n \n \nInfos et réservations
URL:https://www.woluwe1150.be/event/simon-lepers-en-spectacle/
LOCATION:centre communautaire de Joli-Bois\, 15 drève des Shetlands\, Woluwe-Saint-Pierre\, 1150
CATEGORIES:Spectacle,Humour
ATTACH;FMTTYPE=image/png:https://www.woluwe1150.be/app/uploads/2026/03/simon_lepers-scaled.png
END:VEVENT
BEGIN:VEVENT
DTSTART;TZID=Europe/Brussels:20260521T190000
DTEND;TZID=Europe/Brussels:20260521T213000
DTSTAMP:20260424T105613
CREATED:20260416T135204Z
LAST-MODIFIED:20260416T135411Z
UID:94371-1779390000-1779399000@www.woluwe1150.be
SUMMARY:Soirée de soutien aux droits des personnes LGBTQIA+ : concert de la chorale Tapalanote
DESCRIPTION:Chaque année\, autour du 17 mai – Journée mondiale contre l’homophobie\, la transphobie et la biphobie – la commune de Woluwe-Saint-Pierre organise une soirée de soutien et de sensibilisation. \nCette année\, rendez-vous le jeudi 21 mai au Whalll (salle Fabry) pour un moment de rencontres\, de culture et d’échanges : \n\nDès 19h : rencontres avec des associations engagées dans la défense des droits des personnes LGBTQIA+.\n20h : concert de la chorale Tapalanote. Fondée en 2006 et aujourd’hui dirigée par Vic Cano\, elle interprète de la pop et du rock\, en mettant à l’honneur des hymnes LGBTQIA+ emblématiques. Portée par des valeurs d’ouverture\, de diversité et de tolérance\, la chorale allie exigence musicale et esprit convivial\, comme l’indique son nom.\n21h – 21h30 : échanges avec les artistes.\n\nEntrée gratuite. Réservation souhaitée à l’adresse : dh-mr@woluwe1150.be \nUne belle occasion de se rassembler\, de célébrer la diversité et de faire entendre des voix engagées.
URL:https://www.woluwe1150.be/event/soiree-de-soutien-aux-droits-des-personnes-lgbtqia-concert-de-la-chorale-tapalanote/
LOCATION:Centre culturel/cultureel centrum Whalll\, 93 avenue Charles Thielemanslaan\, WSP/SPW\, 1150
CATEGORIES:Spectacle,Droits humains
ATTACH;FMTTYPE=image/jpeg:https://www.woluwe1150.be/app/uploads/2026/04/A6401399-scaled.jpg
ORGANIZER;CN="Service des Droits Humains":MAILTO:dh-mr@woluwe1150.be
END:VEVENT
BEGIN:VEVENT
DTSTART;TZID=Europe/Brussels:20260522T000000
DTEND;TZID=Europe/Brussels:20260606T000000
DTSTAMP:20260424T105613
CREATED:20260416T134407Z
LAST-MODIFIED:20260416T134407Z
UID:94363-1779408000-1780704000@www.woluwe1150.be
SUMMARY:Les Copains d’Abord présentent « Faut-il tuer le clown ? »
DESCRIPTION:Une comédie touchante et grinçante de Jean-François Champion. \nRésumé de la pièce \nDésabusé\, cynique et malicieux\, Ferdinand Bracoulier\, ancien clown autrefois très célèbre\, vit en ermite dans sa propriété normande. Pour une raison qu’il garde secrète\, il a soigneusement organisé son suicide et a recruté un tueur à gages. Ce soi-disant professionnel du crime se révélera n’être qu’un jeune homme totalement inexpérimenté\, de surcroît\, fan inconditionnel de sa victime… Débarquent alors la fille de Ferdinand et son fiancé. Elle est juge\, lui\, capitaine de police… Une comédie policière qui nous entraîne dans une série de rebondissements et de quiproquos ! \nAvec Vinciane Baesens\, Olivier Dardenne\, Olivier Goletti\, Valentine Lambillon\, Jérôme Sarrazin\, Michaël Van Damme et Charles Verrue\, dans une mise en scène de Cédric Van Walleghem. \nDu 22 mai au 6 juin au théâtre de Joli-Bois\, avenue du Haras 100.  \nInfos et réservations : www.copains-dabord.be – 0497/67.35.35.
URL:https://www.woluwe1150.be/event/les-copains-dabord-presentent-faut-il-tuer-le-clown/
LOCATION:centre communautaire de Joli-Bois\, 15 drève des Shetlands\, Woluwe-Saint-Pierre\, 1150
CATEGORIES:Spectacle,Théâtre
ATTACH;FMTTYPE=image/jpeg:https://www.woluwe1150.be/app/uploads/2026/04/copains_clown.jpg
END:VEVENT
END:VCALENDAR