BEGIN:VCALENDAR
VERSION:2.0
PRODID:-//Woluwe Saint Pierre - ECPv6.13.2//NONSGML v1.0//EN
CALSCALE:GREGORIAN
METHOD:PUBLISH
X-WR-CALNAME:Woluwe Saint Pierre
X-ORIGINAL-URL:https://www.woluwe1150.be
X-WR-CALDESC:Évènements pour Woluwe Saint Pierre
REFRESH-INTERVAL;VALUE=DURATION:PT1H
X-Robots-Tag:noindex
X-PUBLISHED-TTL:PT1H
BEGIN:VTIMEZONE
TZID:Europe/Brussels
BEGIN:DAYLIGHT
TZOFFSETFROM:+0100
TZOFFSETTO:+0200
TZNAME:CEST
DTSTART:20250330T010000
END:DAYLIGHT
BEGIN:STANDARD
TZOFFSETFROM:+0200
TZOFFSETTO:+0100
TZNAME:CET
DTSTART:20251026T010000
END:STANDARD
END:VTIMEZONE
BEGIN:VEVENT
DTSTART;TZID=Europe/Brussels:20250618T190000
DTEND;TZID=Europe/Brussels:20250618T210000
DTSTAMP:20260425T052326
CREATED:20250526T101538Z
LAST-MODIFIED:20250526T101538Z
UID:80168-1750273200-1750280400@www.woluwe1150.be
SUMMARY:Soirée de présentation de la nouvelle saison du Whalll
DESCRIPTION:La soirée de présentation de la saison 2025-2026 se profile avec son lot de surprises et d’émerveillement ! \nAprès une courte présentation de la saison rythmée d’extraits vidéos reprenant les temps forts de cette nouvelle programmation haute en couleurs\, nous aurons le plaisir d’assister à 20h00 au concert de Bini. \nBini\, c’est une jeune femme\, adepte de la chanson française à l’ancienne\, qui voyage entre théâtre\, musique et poésie. La voix presque nue\, si ce n’était pour une guitare serrée contre un cœur qui aurait tendance à déborder\, elle chante la beauté qui ne s’aime pas\, la laideur de ce qu’on voudrait beau\, la pluie\, l’espoir et les allumettes. \nConcert acoustique Pop/folk. \nSoirée gratuite\, réservation souhaitée. \nInfos et réservations
URL:https://www.woluwe1150.be/event/soiree-de-presentation-de-la-nouvelle-saison-du-whalll/
LOCATION:Centre culturel/cultureel centrum Whalll\, 93 avenue Charles Thielemanslaan\, WSP/SPW\, 1150
CATEGORIES:Spectacle
ATTACH;FMTTYPE=image/jpeg:https://www.woluwe1150.be/app/uploads/2025/05/presentation_saison_2025_2026-scaled.jpg
ORGANIZER;CN="Whalll":MAILTO:billetterie@whalll.be
END:VEVENT
END:VCALENDAR