BEGIN:VCALENDAR
VERSION:2.0
PRODID:-//Woluwe Saint Pierre - ECPv6.13.2//NONSGML v1.0//EN
CALSCALE:GREGORIAN
METHOD:PUBLISH
X-ORIGINAL-URL:https://www.woluwe1150.be
X-WR-CALDESC:Évènements pour Woluwe Saint Pierre
REFRESH-INTERVAL;VALUE=DURATION:PT1H
X-Robots-Tag:noindex
X-PUBLISHED-TTL:PT1H
BEGIN:VTIMEZONE
TZID:Europe/Brussels
BEGIN:DAYLIGHT
TZOFFSETFROM:+0100
TZOFFSETTO:+0200
TZNAME:CEST
DTSTART:20250330T010000
END:DAYLIGHT
BEGIN:STANDARD
TZOFFSETFROM:+0200
TZOFFSETTO:+0100
TZNAME:CET
DTSTART:20251026T010000
END:STANDARD
END:VTIMEZONE
BEGIN:VEVENT
DTSTART;TZID=Europe/Brussels:20250824T100000
DTEND;TZID=Europe/Brussels:20250824T190000
DTSTAMP:20260425T004235
CREATED:20250729T072652Z
LAST-MODIFIED:20250729T072652Z
UID:81504-1756029600-1756062000@www.woluwe1150.be
SUMMARY:Événement culturel et caritatif organisé par Justin Kevin
DESCRIPTION:Justin Kevin\, originaire d’Inde\, a été adopté en Belgique à l’âge de 4 ans en 1980. Devenu comédien\, il partage son histoire et a mis sur pied une association dans le but d’aider les enfants démunis en aide.  \nJustin organise un événement culturel et caritatif le 24 août de 10h à 19h aux Fraternités du Bon Pasteur (365B rue au Bois).  \nAu programme :  \n\nBrocante le matin (au profit de projets caritatifs)\nLecture de spectacle en fin de matinée\nFood truck le midi\nGlacier l’après-midi\nLecture de spectacle en fin d’après-midi\n\nAccès libre\, tout le monde est le bienvenu. Ambiance familiale.  \nInfos : 0478/05.87.08. \n 
URL:https://www.woluwe1150.be/event/evenement-culturel-et-caritatif-organise-par-justin-kevin/
LOCATION:Fraternités du Bon Pasteur\, 365b rue au Bois\, Woluwe-Saint-Pierre\, 1150
CATEGORIES:Spectacle,Brocante,Animation
ATTACH;FMTTYPE=image/jpeg:https://www.woluwe1150.be/app/uploads/2025/07/Justin-Kevin-photo.jpeg
END:VEVENT
END:VCALENDAR