BEGIN:VCALENDAR
VERSION:2.0
PRODID:-//Woluwe Saint Pierre - ECPv6.13.2//NONSGML v1.0//EN
CALSCALE:GREGORIAN
METHOD:PUBLISH
X-ORIGINAL-URL:https://www.woluwe1150.be
X-WR-CALDESC:Évènements pour Woluwe Saint Pierre
REFRESH-INTERVAL;VALUE=DURATION:PT1H
X-Robots-Tag:noindex
X-PUBLISHED-TTL:PT1H
BEGIN:VTIMEZONE
TZID:Europe/Brussels
BEGIN:DAYLIGHT
TZOFFSETFROM:+0100
TZOFFSETTO:+0200
TZNAME:CEST
DTSTART:20250330T010000
END:DAYLIGHT
BEGIN:STANDARD
TZOFFSETFROM:+0200
TZOFFSETTO:+0100
TZNAME:CET
DTSTART:20251026T010000
END:STANDARD
END:VTIMEZONE
BEGIN:VEVENT
DTSTART;TZID=Europe/Brussels:20251004T150000
DTEND;TZID=Europe/Brussels:20251004T170000
DTSTAMP:20260424T213430
CREATED:20250825T131349Z
LAST-MODIFIED:20250825T131349Z
UID:82032-1759590000-1759597200@www.woluwe1150.be
SUMMARY:On se poêle
DESCRIPTION:Spectacle humoristique pour les enfants de 6 à 12 ans. \nLa Cheffe Lo et ses acolytes présentent aux enfants des légumes rigolos et racontent des histoires incroyables à leur sujet ! De courts extraits vidéos sont projetés sur un écran pour découvrir la culture des légumes en Belgique. Les enfants sont invités à amener un légume de leur choix pour inspirer les impros. \nRéservation sur billetweb
URL:https://www.woluwe1150.be/event/on-se-poele/
LOCATION:centre communautaire de Joli-Bois\, 15 drève des Shetlands\, Woluwe-Saint-Pierre\, 1150
CATEGORIES:Enfants,Spectacle
ATTACH;FMTTYPE=image/jpeg:https://www.woluwe1150.be/app/uploads/2025/08/joli_bois_onsepoele.jpg
ORGANIZER;CN="Centre communautaire de Joli-Bois":MAILTO:event.jolibois@gmail.com
END:VEVENT
END:VCALENDAR