BEGIN:VCALENDAR
VERSION:2.0
PRODID:-//Woluwe Saint Pierre - ECPv6.13.2//NONSGML v1.0//EN
CALSCALE:GREGORIAN
METHOD:PUBLISH
X-ORIGINAL-URL:https://www.woluwe1150.be
X-WR-CALDESC:Évènements pour Woluwe Saint Pierre
REFRESH-INTERVAL;VALUE=DURATION:PT1H
X-Robots-Tag:noindex
X-PUBLISHED-TTL:PT1H
BEGIN:VTIMEZONE
TZID:Europe/Brussels
BEGIN:DAYLIGHT
TZOFFSETFROM:+0100
TZOFFSETTO:+0200
TZNAME:CEST
DTSTART:20250330T010000
END:DAYLIGHT
BEGIN:STANDARD
TZOFFSETFROM:+0200
TZOFFSETTO:+0100
TZNAME:CET
DTSTART:20251026T010000
END:STANDARD
END:VTIMEZONE
BEGIN:VEVENT
DTSTART;TZID=Europe/Brussels:20251015T183000
DTEND;TZID=Europe/Brussels:20251015T193000
DTSTAMP:20260424T214305
CREATED:20250926T074810Z
LAST-MODIFIED:20250926T074810Z
UID:83820-1760553000-1760556600@www.woluwe1150.be
SUMMARY:Un soir en Afrique : spectacle de contes africains - Fureur de Lire
DESCRIPTION:Spectacle familial de contes africains avec l’asbl EJO Belgique\, dans le cadre de la Fureur de Lire. \nPour les enfants à partir de 6 ans et les adultes.  \nInscription obligatoire : 02/773.05.82 ou bib.centre.jeunesse@woluwe1150.be
URL:https://www.woluwe1150.be/event/un-soir-en-afrique-spectacle-de-contes-africains-fureur-de-lire/
LOCATION:Bibliothèque du Centre\, 93 avenue Charles Thielemans\, 1150 Woluwe-Saint-Pierre\, 1150\, Belgique
CATEGORIES:Enfants,Spectacle,Littérature
ATTACH;FMTTYPE=image/png:https://www.woluwe1150.be/app/uploads/2025/09/fureur_afrique.png
ORGANIZER;CN="Biblioth%C3%A8que du Centre - Jeunesse":MAILTO:bib.centre.jeunesse@woluwe1150.be
END:VEVENT
END:VCALENDAR