BEGIN:VCALENDAR
VERSION:2.0
PRODID:-//Woluwe Saint Pierre - ECPv6.13.2//NONSGML v1.0//EN
CALSCALE:GREGORIAN
METHOD:PUBLISH
X-ORIGINAL-URL:https://www.woluwe1150.be
X-WR-CALDESC:Évènements pour Woluwe Saint Pierre
REFRESH-INTERVAL;VALUE=DURATION:PT1H
X-Robots-Tag:noindex
X-PUBLISHED-TTL:PT1H
BEGIN:VTIMEZONE
TZID:Europe/Brussels
BEGIN:DAYLIGHT
TZOFFSETFROM:+0100
TZOFFSETTO:+0200
TZNAME:CEST
DTSTART:20260329T010000
END:DAYLIGHT
BEGIN:STANDARD
TZOFFSETFROM:+0200
TZOFFSETTO:+0100
TZNAME:CET
DTSTART:20261025T010000
END:STANDARD
END:VTIMEZONE
BEGIN:VEVENT
DTSTART;TZID=Europe/Brussels:20260210T200000
DTEND;TZID=Europe/Brussels:20260211T200000
DTSTAMP:20260424T140438
CREATED:20260126T092323Z
LAST-MODIFIED:20260126T092404Z
UID:90619-1770753600-1770840000@www.woluwe1150.be
SUMMARY:Tamtam Quidam
DESCRIPTION:Hélène et Stéphanie l’ont dit mille fois : « Des jumelles\, c’est toujours deux. »  Sauf quand des accidents de la vie passent par là. \nDominique et Francis racontent 4 mariages et un inattendu. \nSarah et Felipe. Encore et toujours\, aller s’allonger sous les vieux arbres. \nThierry et Alexandra. A deux. Ailleurs. \nLes mardi 10 et mercredi 11 février\, 4 duos croisent leurs voix sur la scène de Joli Bois pour vous partager leur histoire d’amour. \nInfos et réservations
URL:https://www.woluwe1150.be/event/tamtam-quidam/
LOCATION:centre communautaire de Joli-Bois\, 15 drève des Shetlands\, Woluwe-Saint-Pierre\, 1150
CATEGORIES:Spectacle,Théâtre
ATTACH;FMTTYPE=image/webp:https://www.woluwe1150.be/app/uploads/2026/01/tamtam_quidam.webp
END:VEVENT
END:VCALENDAR