BEGIN:VCALENDAR
VERSION:2.0
PRODID:-//Woluwe Saint Pierre - ECPv6.13.2//NONSGML v1.0//EN
CALSCALE:GREGORIAN
METHOD:PUBLISH
X-WR-CALNAME:Woluwe Saint Pierre
X-ORIGINAL-URL:https://www.woluwe1150.be
X-WR-CALDESC:Évènements pour Woluwe Saint Pierre
REFRESH-INTERVAL;VALUE=DURATION:PT1H
X-Robots-Tag:noindex
X-PUBLISHED-TTL:PT1H
BEGIN:VTIMEZONE
TZID:Europe/Brussels
BEGIN:DAYLIGHT
TZOFFSETFROM:+0100
TZOFFSETTO:+0200
TZNAME:CEST
DTSTART:20250330T010000
END:DAYLIGHT
BEGIN:STANDARD
TZOFFSETFROM:+0200
TZOFFSETTO:+0100
TZNAME:CET
DTSTART:20251026T010000
END:STANDARD
END:VTIMEZONE
BEGIN:VEVENT
DTSTART;TZID=Europe/Brussels:20251106T000000
DTEND;TZID=Europe/Brussels:20251109T000000
DTSTAMP:20260424T231628
CREATED:20251023T091233Z
LAST-MODIFIED:20251023T091716Z
UID:85810-1762387200-1762646400@www.woluwe1150.be
SUMMARY:Un air de Famille
DESCRIPTION:Par la compagnie théâtrale Le Tournesol.  \nUne pièce d’Agnès Jaoui & Jean-Pierre Bacri\, dans une mise en scène de Cédric Lombard. \n« Chaque vendredi soir\, Henri reçoit sa famille dans son café.\nUne routine bien rodée… Mais ce soir-là\, l’anniversaire de Yolande\, sa belle-sœur\, vient tout bouleverser.\nSous l’œil sévère d’Yvette\, la mère\, et les piques acérées de Philippe\, le frère cadet\, les rancunes ressurgissent. Betty\, la sœur\, règle ses comptes\, tandis que Denis\, le serveur\, observe et commente avec humour.\nEntre éclats de rire et tensions enfouies\, cette comédie culte révèle avec tendresse les drames ordinaires d’une famille pas si ordinaire. » \nRéservation en ligne ou par mail : tournesol@gmail.com
URL:https://www.woluwe1150.be/event/un-air-de-famille/
LOCATION:centre communautaire de Joli-Bois\, 15 drève des Shetlands\, Woluwe-Saint-Pierre\, 1150
CATEGORIES:Théâtre
ATTACH;FMTTYPE=image/jpeg:https://www.woluwe1150.be/app/uploads/2025/10/tournesol.jpg
END:VEVENT
BEGIN:VEVENT
DTSTART;TZID=Europe/Brussels:20251112T000000
DTEND;TZID=Europe/Brussels:20251121T000000
DTSTAMP:20260424T231628
CREATED:20251020T115253Z
LAST-MODIFIED:20251020T115253Z
UID:85690-1762905600-1763683200@www.woluwe1150.be
SUMMARY:« Pyjama pour six »
DESCRIPTION:La troupe Jeux d’Rôles présente « Pyjama pour six » de Marc Camoletti (auteur de la pièce bien connue « Boeing Boeing »). \n« Pyjama pour six » vous entraîne dans une série de malentendus aussi infernaux qu’hilarants où les couples se font et se défont : l’amant se cache\, le mari a un plan\, la femme de ménage essuie les plâtres et la maîtresse de maison s’y perd ! « Un pyjama pour six » leur permettra de se rhabiller lors d’une soirée confortable comme des pantoufles. \nAvec Priscilla Casterman\, Valentine de le Court\, Corinne Siaens\, Alexis Vercruysse\, Entoux de la Rue (Tanguy Verstraeten) et Gilles Van der Borght. \nMise en scène : Cécile de Changy \nAu Théâtre de Joli-Bois (avenue du Haras 100)\, les 12\, 13\, 14 et 15/11 + les 18\, 19\, 20 et 21/11 à 20h. \nAu profit de trois œuvres : Rise for Kids\, MamaBW et Cap Event \nRéservations : Billetweb.fr/Pyjama6
URL:https://www.woluwe1150.be/event/pyjama-pour-six/
LOCATION:centre communautaire de Joli-Bois\, 15 drève des Shetlands\, Woluwe-Saint-Pierre\, 1150
CATEGORIES:Théâtre
ATTACH;FMTTYPE=image/png:https://www.woluwe1150.be/app/uploads/2025/10/pyjama-pour-6.png
END:VEVENT
BEGIN:VEVENT
DTSTART;TZID=Europe/Brussels:20251115T200000
DTEND;TZID=Europe/Brussels:20251115T220000
DTSTAMP:20260424T231628
CREATED:20251020T101638Z
LAST-MODIFIED:20251020T101638Z
UID:85659-1763236800-1763244000@www.woluwe1150.be
SUMMARY:L’Amour sous algorithme
DESCRIPTION:Une création de la Tricoterie d’après le récit de Judith Duportail\n\n\n\n\nAprès une rupture amoureuse\, une journaliste s’inscrit sur la célèbre application de rencontre Tinder. En quelques jours à peine\, elle match avec des hommes\, reçoit des messages\, son ego est boosté au maximum. \nUn jour\, elle apprend une information qui va la laisser bouche bée. L’application délivre une notre secrète de « désirabilité » (Elo score) à chaque utilisateur. \nS’engage pour elle une course effrénée pour s’orienter dans ce labyrinthe des Big Data. \nUne plongée vertigineuse dans le monde secret des algorithmes\, qui questionne nos relations amoureuses à l’ère du numérique. \n\n\n\n\nInterprétation: Alexia Depicker\, Mise en scène: Xavier Campion\, Adaptation et dramaturgie: Claude Enuset\, Création sonore et vidéo: Sébastien Fernandez\, Création Lumières: Joseph Lavicoli\, Assistanat mise en scène: Zoé Pauwels\, Régie: Colin Petit- Bain\, Illustration: Marie Campion\, Diffusion: MTP memap ASBL. \nInfos et réservations
URL:https://www.woluwe1150.be/event/lamour-sous-algorithme/
LOCATION:Centre culturel/cultureel centrum Whalll\, 93 avenue Charles Thielemanslaan\, WSP/SPW\, 1150
CATEGORIES:Spectacle,Théâtre
ATTACH;FMTTYPE=image/jpeg:https://www.woluwe1150.be/app/uploads/2025/10/amour_algorithme.jpg
ORGANIZER;CN="Whalll":MAILTO:billetterie@whalll.be
END:VEVENT
BEGIN:VEVENT
DTSTART;TZID=Europe/Brussels:20251128T000000
DTEND;TZID=Europe/Brussels:20251207T000000
DTSTAMP:20260424T231628
CREATED:20251023T091602Z
LAST-MODIFIED:20251023T091602Z
UID:85815-1764288000-1765065600@www.woluwe1150.be
SUMMARY:Les Passagers de l'aube
DESCRIPTION:Par la compagnie théâtrale Les Trouvères.  \nde Violaine Arsac\, dans une mise en scène de Bernadette Mouzon. \n« Et si toutes vos certitudes volaient en éclats ? \n\nLà où les certitudes vacillent\, l’amour s’invente de nouveaux chemins. Les Passagers de l’aube nous entraînent dans un voyage intime et troublant\, où la lumière perce l’invisible et ouvre l’horizon de tous les possibles. » \nInfos et réservations
URL:https://www.woluwe1150.be/event/les-passagers-de-laube/
LOCATION:centre communautaire de Joli-Bois\, 15 drève des Shetlands\, Woluwe-Saint-Pierre\, 1150
CATEGORIES:Théâtre
ATTACH;FMTTYPE=image/avif:https://www.woluwe1150.be/app/uploads/2025/10/trouveres_passagers.avif
END:VEVENT
END:VCALENDAR