BEGIN:VCALENDAR
VERSION:2.0
PRODID:-//Woluwe Saint Pierre - ECPv6.13.2//NONSGML v1.0//EN
CALSCALE:GREGORIAN
METHOD:PUBLISH
X-WR-CALNAME:Woluwe Saint Pierre
X-ORIGINAL-URL:https://www.woluwe1150.be
X-WR-CALDESC:Évènements pour Woluwe Saint Pierre
REFRESH-INTERVAL;VALUE=DURATION:PT1H
X-Robots-Tag:noindex
X-PUBLISHED-TTL:PT1H
BEGIN:VTIMEZONE
TZID:Europe/Brussels
BEGIN:DAYLIGHT
TZOFFSETFROM:+0100
TZOFFSETTO:+0200
TZNAME:CEST
DTSTART:20260329T010000
END:DAYLIGHT
BEGIN:STANDARD
TZOFFSETFROM:+0200
TZOFFSETTO:+0100
TZNAME:CET
DTSTART:20261025T010000
END:STANDARD
END:VTIMEZONE
BEGIN:VEVENT
DTSTART;TZID=Europe/Brussels:20260303T000000
DTEND;TZID=Europe/Brussels:20260329T000000
DTSTAMP:20260424T162303
CREATED:20260213T122248Z
LAST-MODIFIED:20260213T122248Z
UID:92387-1772496000-1774742400@www.woluwe1150.be
SUMMARY:Sarah et le cri de la langouste
DESCRIPTION:« SARAH ET LE CRI DE LA LANGOUSTE »   \nDE JOHN MURRELL  \nVolontairement exilée à Belle-Île-en-Mer\, Sarah Bernhardt\, vieillissante\, rassemble une dernière fois ses souvenirs. \nFace à ses humeurs et ses extravagances\, tourbillonne Georges Pitou\, son fidèle secrétaire\, qui joue tous les personnages ayant compté dans la vie de sa maîtresse pour revigorer sa mémoire. \nUne des pièces les plus attachantes\, les plus gaies et les plus sensibles. \nInfos et réservations
URL:https://www.woluwe1150.be/event/sarah-et-le-cri-de-la-langouste/
LOCATION:Comédie Claude Volter\, 98 avenue des Frères Legrain\, Woluwe-Saint-Pierre\, 1150
CATEGORIES:Théâtre
ATTACH;FMTTYPE=image/jpeg:https://www.woluwe1150.be/app/uploads/2026/02/sarah-et-le-cri-de-la-langouste.jpg
ORGANIZER;CN="Com%C3%A9die Claude Volter":MAILTO:secretariat@comedievolter.be
END:VEVENT
BEGIN:VEVENT
DTSTART;TZID=Europe/Brussels:20260311T200000
DTEND;TZID=Europe/Brussels:20260311T220000
DTSTAMP:20260424T162303
CREATED:20260213T104316Z
LAST-MODIFIED:20260213T104316Z
UID:92352-1773259200-1773266400@www.woluwe1150.be
SUMMARY:Pépée\, une histoire sans chute
DESCRIPTION:De Josepha Sini et Laurène Hurst avec Josepha Sini.\n\n\n\n\nPépée\, c’était le surnom qu’on lui donnait toutes et tous\, moi\, ma famille\, son entourage et tout le barreau liégeois. « Le loup blanc parmi les loups noirs » me disait Frédéric\, son grand confrère et ami avocat.\nPépée menait une grande carrière d’avocate. Ma mère… un peu moins. Cette femme était multiple. \nPépée enchaînait les procès\, ma mère les verres de vin. Le jour à la barre\, la nuit dans les bars. « Tu finiras conne mais sympa » me disait-elle\, une après-midi\, vissée  comme à son habitude sur son vieux fauteuil en osier\, cartes en main en pleine partie de réussite. \nC’est cette histoire que je raconte ici. L’histoire de Pépée\, avocate au barreau de liège\, qui fut aussi ma mère. Une mère paradoxale\, flamboyante mais torturée\, terriblement brillante mais tout autant négligente\, absente mais ô combien omniprésente dans ma vie. Elle était autant ma plus grande fierté que ma plus grosse honte. \nInfos et réservations
URL:https://www.woluwe1150.be/event/pepee-une-histoire-sans-chute/
LOCATION:Centre culturel/cultureel centrum Whalll\, 93 avenue Charles Thielemanslaan\, WSP/SPW\, 1150
CATEGORIES:Théâtre,Spectacle
ATTACH;FMTTYPE=image/jpeg:https://www.woluwe1150.be/app/uploads/2026/02/Pepee.jpg
ORGANIZER;CN="Whalll":MAILTO:billetterie@whalll.be
END:VEVENT
BEGIN:VEVENT
DTSTART;TZID=Europe/Brussels:20260318T140000
DTEND;TZID=Europe/Brussels:20260318T160000
DTSTAMP:20260424T162303
CREATED:20260213T104717Z
LAST-MODIFIED:20260213T104717Z
UID:92356-1773842400-1773849600@www.woluwe1150.be
SUMMARY:Visite des coulisses & atelier d’impro à la Comédie Claude Volter
DESCRIPTION:Dans le cadre de la Langue Française en Fête\n\n\n\n\nLa Comédie royale Claude Volter vous propose une visite des coulisses de son théâtre suivie d’un atelier d’improvisation sur base des dix mots choisis pour la langue française en fête 2026 : alunir\, anticipation\, continuum\, dystopique\, humanoïde\, particule\, programmer\, sidéral\, théorie et transmuter. \nPour les enfants de 8 à 12 ans.  \nPlus d’infos
URL:https://www.woluwe1150.be/event/visite-des-coulisses-atelier-dimpro-a-la-comedie-claude-volter/
LOCATION:Comédie Claude Volter\, 98 avenue des Frères Legrain\, Woluwe-Saint-Pierre\, 1150
CATEGORIES:Théâtre,Enfants
ATTACH;FMTTYPE=image/jpeg:https://www.woluwe1150.be/app/uploads/2026/02/visite_volter.jpg
ORGANIZER;CN="Com%C3%A9die Claude Volter":MAILTO:secretariat@comedievolter.be
END:VEVENT
BEGIN:VEVENT
DTSTART;TZID=Europe/Brussels:20260320T000000
DTEND;TZID=Europe/Brussels:20260329T000000
DTSTAMP:20260424T162303
CREATED:20260223T125039Z
LAST-MODIFIED:20260223T125039Z
UID:92537-1773964800-1774742400@www.woluwe1150.be
SUMMARY:Les Trouvères : "Jusqu'à ce que la mort nous sépare"
DESCRIPTION:De Dominique Bréda dans une mise en scène de Victor Scheffer. \nLa famille et le médecin sont réunis autour de la vieille tante Eugénie qui se meurt. Les discussions au sujet de l’héritage vont bon train et la famille se déchire sous nos yeux dans une succession de prises de bec et de règlements de compte sur un ton tragi-comique. \nLes 20\, 21\, 25\, 27\, 28 mars à 20h15. Les 22 et 29 mars à 15h. \nRéservation
URL:https://www.woluwe1150.be/event/les-trouveres-jusqua-ce-que-la-mort-nous-separe/
LOCATION:centre communautaire de Joli-Bois\, 15 drève des Shetlands\, Woluwe-Saint-Pierre\, 1150
CATEGORIES:Théâtre
ATTACH;FMTTYPE=image/jpeg:https://www.woluwe1150.be/app/uploads/2026/02/trouvere_theatre_0326.jpg
END:VEVENT
BEGIN:VEVENT
DTSTART;TZID=Europe/Brussels:20260326T200000
DTEND;TZID=Europe/Brussels:20260326T220000
DTSTAMP:20260424T162303
CREATED:20260213T110026Z
LAST-MODIFIED:20260213T110026Z
UID:92372-1774555200-1774562400@www.woluwe1150.be
SUMMARY:Motamo : Voyage dans l’imaginaire
DESCRIPTION:Chaque spectateur est invité à écrire un seul mot sur une jolie carte postale. Pas de temps de réflexion\, pas de temps mort\, inspirés par ces simples mots\, les comédiens improvisateurs se jettent immédiatement dans une aventure improvisée et sont maîtres du temps. \nLa présentatrice sollicite régulièrement le public pour rendre le voyage encore plus croustillant et parfois pour pousser la chansonnette ! \nAvec Thierry de Coster\, Christelle Delbrouck\, François-Xaviez Fiévez\, Dominique Pattuelli et Caroline Veyt. \nInfos et réservations
URL:https://www.woluwe1150.be/event/motamo-voyage-dans-limaginaire/
LOCATION:Centre culturel/cultureel centrum Whalll\, 93 avenue Charles Thielemanslaan\, WSP/SPW\, 1150
CATEGORIES:Théâtre,Spectacle
ATTACH;FMTTYPE=image/jpeg:https://www.woluwe1150.be/app/uploads/2026/02/motamo.jpg
ORGANIZER;CN="Whalll":MAILTO:billetterie@whalll.be
END:VEVENT
END:VCALENDAR