BEGIN:VCALENDAR
VERSION:2.0
PRODID:-//Woluwe Saint Pierre - ECPv6.13.2//NONSGML v1.0//EN
CALSCALE:GREGORIAN
METHOD:PUBLISH
X-ORIGINAL-URL:https://www.woluwe1150.be
X-WR-CALDESC:Évènements pour Woluwe Saint Pierre
REFRESH-INTERVAL;VALUE=DURATION:PT1H
X-Robots-Tag:noindex
X-PUBLISHED-TTL:PT1H
BEGIN:VTIMEZONE
TZID:Europe/Brussels
BEGIN:DAYLIGHT
TZOFFSETFROM:+0100
TZOFFSETTO:+0200
TZNAME:CEST
DTSTART:20260329T010000
END:DAYLIGHT
BEGIN:STANDARD
TZOFFSETFROM:+0200
TZOFFSETTO:+0100
TZNAME:CET
DTSTART:20261025T010000
END:STANDARD
END:VTIMEZONE
BEGIN:VEVENT
DTSTART;TZID=Europe/Brussels:20260522T000000
DTEND;TZID=Europe/Brussels:20260606T000000
DTSTAMP:20260424T180918
CREATED:20260416T134407Z
LAST-MODIFIED:20260416T134407Z
UID:94363-1779408000-1780704000@www.woluwe1150.be
SUMMARY:Les Copains d’Abord présentent « Faut-il tuer le clown ? »
DESCRIPTION:Une comédie touchante et grinçante de Jean-François Champion. \nRésumé de la pièce \nDésabusé\, cynique et malicieux\, Ferdinand Bracoulier\, ancien clown autrefois très célèbre\, vit en ermite dans sa propriété normande. Pour une raison qu’il garde secrète\, il a soigneusement organisé son suicide et a recruté un tueur à gages. Ce soi-disant professionnel du crime se révélera n’être qu’un jeune homme totalement inexpérimenté\, de surcroît\, fan inconditionnel de sa victime… Débarquent alors la fille de Ferdinand et son fiancé. Elle est juge\, lui\, capitaine de police… Une comédie policière qui nous entraîne dans une série de rebondissements et de quiproquos ! \nAvec Vinciane Baesens\, Olivier Dardenne\, Olivier Goletti\, Valentine Lambillon\, Jérôme Sarrazin\, Michaël Van Damme et Charles Verrue\, dans une mise en scène de Cédric Van Walleghem. \nDu 22 mai au 6 juin au théâtre de Joli-Bois\, avenue du Haras 100.  \nInfos et réservations : www.copains-dabord.be – 0497/67.35.35.
URL:https://www.woluwe1150.be/event/les-copains-dabord-presentent-faut-il-tuer-le-clown/
LOCATION:centre communautaire de Joli-Bois\, 15 drève des Shetlands\, Woluwe-Saint-Pierre\, 1150
CATEGORIES:Théâtre,Spectacle
ATTACH;FMTTYPE=image/jpeg:https://www.woluwe1150.be/app/uploads/2026/04/copains_clown.jpg
END:VEVENT
BEGIN:VEVENT
DTSTART;TZID=Europe/Brussels:20260605T200000
DTEND;TZID=Europe/Brussels:20260605T220000
DTSTAMP:20260424T180918
CREATED:20260421T120456Z
LAST-MODIFIED:20260421T120456Z
UID:94495-1780689600-1780696800@www.woluwe1150.be
SUMMARY:Denis Richir en spectacle
DESCRIPTION:Denis Richir débarque à Joli Bois le vendredi 5 juin pour une soirée stand-up en solo ! Il viendra nous présenter son spectacle  » Trop bien ». Et ce sera trop bien. \n \nTarifs : \n\nPlaces limitées. Entrée : 15€\nRéservation des places en ligne obligatoire.\nOuverture des portes à 19h30. Spectacle à 20h. Bar prévu sur place. \nSalle de la Taverne. Drève des Shetlands 15\, 1150 Woluwe-Saint-Pierre\n\n  \nRéservation\n \nAu sujet du spectacle\nPas facile pour Denis Richir de faire du stand up. Sa vie est un peu…trop bien. De son enfance heureuse dans un milieu privilégié à son boulot épanouissant en passant par sa vie de famille comblée… Pas vraiment de quoi se plaindre. Et c’est bien là tout le problème quand on veut faire de la scène. Heureusement\, il lui en faudrait plus pour l’empêcher de parler de lui.\n \nAvec un nombrilisme décomplexé\, ce linguiste de formation nous fait vivre les coulisses de la construction de son spectacle tout en nous partageant son amour de la langue française\, des jeux de mots… et de lui-même. Le tout sans le moindre second degré\, bien entendu.
URL:https://www.woluwe1150.be/event/denis-richir-en-spectacle/
LOCATION:centre communautaire de Joli-Bois\, 15 drève des Shetlands\, Woluwe-Saint-Pierre\, 1150
CATEGORIES:Théâtre,Spectacle
ATTACH;FMTTYPE=image/png:https://www.woluwe1150.be/app/uploads/2026/04/deni_richir.png
ORGANIZER;CN="Centre communautaire de Joli-Bois":MAILTO:event.jolibois@gmail.com
END:VEVENT
END:VCALENDAR