BEGIN:VCALENDAR
VERSION:2.0
PRODID:-//Woluwe Saint Pierre - ECPv6.13.2//NONSGML v1.0//EN
CALSCALE:GREGORIAN
METHOD:PUBLISH
X-ORIGINAL-URL:https://www.woluwe1150.be
X-WR-CALDESC:Évènements pour Woluwe Saint Pierre
REFRESH-INTERVAL;VALUE=DURATION:PT1H
X-Robots-Tag:noindex
X-PUBLISHED-TTL:PT1H
BEGIN:VTIMEZONE
TZID:Europe/Brussels
BEGIN:DAYLIGHT
TZOFFSETFROM:+0100
TZOFFSETTO:+0200
TZNAME:CEST
DTSTART:20250330T010000
END:DAYLIGHT
BEGIN:STANDARD
TZOFFSETFROM:+0200
TZOFFSETTO:+0100
TZNAME:CET
DTSTART:20251026T010000
END:STANDARD
END:VTIMEZONE
BEGIN:VEVENT
DTSTART;TZID=Europe/Brussels:20250325T000000
DTEND;TZID=Europe/Brussels:20250419T000000
DTSTAMP:20260425T141148
CREATED:20250217T154940Z
LAST-MODIFIED:20250217T154940Z
UID:77606-1742860800-1745020800@www.woluwe1150.be
SUMMARY:Le malade imaginaire
DESCRIPTION:Michel de Warzée\, Stéphanie Moriau et leurs compères joueront ce grand classique de Molière du 25 mars au 19 avril. \nLe 10 février 1673\, Molière joue « Le Malade Imaginaire » et meurt à l’issue de la quatrième représentation. « Le poumon…\, le poumon\, vous dis-je. » Son œuvre grandiose s’achève sur cette puissante comédie où il se moque des médecins de son temps\, voyant en eux\, après Tartuffe\, de nouveaux imposteurs. Il est aussi question d’amour\, de mariage forcé\, de la condition de la femme\, de la faiblesse humaine… On se croirait au XXIe siècle\, non… ? \nInfos et réservations : https://comedieroyaleclaudevolter.be – secretariat@comedievolter.be – 02/762.09.63.
URL:https://www.woluwe1150.be/event/le-malade-imaginaire/
LOCATION:Comédie Claude Volter\, 98 avenue des Frères Legrain\, Woluwe-Saint-Pierre\, 1150
CATEGORIES:Théâtre
ATTACH;FMTTYPE=image/jpeg:https://www.woluwe1150.be/app/uploads/2025/02/Malade-imaginaire-Volter-scaled.jpg
ORGANIZER;CN="Com%C3%A9die Claude Volter":MAILTO:secretariat@comedievolter.be
END:VEVENT
BEGIN:VEVENT
DTSTART;TZID=Europe/Brussels:20250403T190000
DTEND;TZID=Europe/Brussels:20250403T220000
DTSTAMP:20260425T141148
CREATED:20240521T093023Z
LAST-MODIFIED:20250114T110036Z
UID:70759-1743706800-1743717600@www.woluwe1150.be
SUMMARY:Fast + Fringue Party
DESCRIPTION:Réflexion ludique et sans jugement sur une des industries les plus polluantes de la planète. Ensemble sur scène et en dialogue avec les spectateurs\, Fast  cherche à comprendre comment notre modèle économique influence nos désirs et fabrique de nouveaux besoins. \nEntre voyage intime\, travail documentaire et témoignages poignants\, Fast interroge notre manière de consommer et tente de faire co-exister notre « paraitre » au monde et le fait de prendre soin de celui-ci et de celle et ceux qui l’habitent. \n  \n\nSoirée précédée d’une Fringue Party. Apportez ce que vous ne portez plus\, repartez avec ce qui vous plait !  \n\nDans le cadre du Cycle Passerelle Transition \n\n\nInfos et réservation: whalll.be ou 02 435 59 99 (ouverture de la billetterie le 20.06)\n\n\n  \n  \n  \n  \n  \n 
URL:https://www.woluwe1150.be/event/fast-fringue-party/
LOCATION:Centre culturel/cultureel centrum Whalll\, 93 avenue Charles Thielemanslaan\, WSP/SPW\, 1150
CATEGORIES:Spectacle,Développement Durable,Théâtre
ATTACH;FMTTYPE=image/png:https://www.woluwe1150.be/app/uploads/2024/05/Woluwe1150_Fast.png
ORGANIZER;CN="Whalll":MAILTO:billetterie@whalll.be
END:VEVENT
END:VCALENDAR