BEGIN:VCALENDAR
VERSION:2.0
PRODID:-//Woluwe Saint Pierre - ECPv6.13.2//NONSGML v1.0//EN
CALSCALE:GREGORIAN
METHOD:PUBLISH
X-ORIGINAL-URL:https://www.woluwe1150.be
X-WR-CALDESC:Évènements pour Woluwe Saint Pierre
REFRESH-INTERVAL;VALUE=DURATION:PT1H
X-Robots-Tag:noindex
X-PUBLISHED-TTL:PT1H
BEGIN:VTIMEZONE
TZID:Europe/Brussels
BEGIN:DAYLIGHT
TZOFFSETFROM:+0100
TZOFFSETTO:+0200
TZNAME:CEST
DTSTART:20250330T010000
END:DAYLIGHT
BEGIN:STANDARD
TZOFFSETFROM:+0200
TZOFFSETTO:+0100
TZNAME:CET
DTSTART:20251026T010000
END:STANDARD
END:VTIMEZONE
BEGIN:VEVENT
DTSTART;TZID=Europe/Brussels:20250513T200000
DTEND;TZID=Europe/Brussels:20250513T223000
DTSTAMP:20260425T125111
CREATED:20250428T072507Z
LAST-MODIFIED:20250428T072507Z
UID:79311-1747166400-1747175400@www.woluwe1150.be
SUMMARY:Impr’ All Inclusive
DESCRIPTION:par la Cie Improposition\n\n\n\n\nSoleil\, cocktail\, aquagym et jeux apéro\, votre club de vacances préféré vous ouvre ses portes ! \nToute l’équipe d’Impr’All Inlusive va se donner à fond pour vous faire passer des vacances inoubliables dans un paradis de plaisir et de relaxation ! \nCinq comédiens vous emmènent et composent un spectacle à partir de VOS propositions sur la scène du WHalll ! \nInfos et réservations
URL:https://www.woluwe1150.be/event/impr-all-inclusive/
LOCATION:Centre culturel/cultureel centrum Whalll\, 93 avenue Charles Thielemanslaan\, WSP/SPW\, 1150
CATEGORIES:Spectacle,Théâtre
ATTACH;FMTTYPE=image/jpeg:https://www.woluwe1150.be/app/uploads/2025/04/impralinclusive.jpg
ORGANIZER;CN="Whalll":MAILTO:billetterie@whalll.be
END:VEVENT
END:VCALENDAR