BEGIN:VCALENDAR
VERSION:2.0
PRODID:-//Woluwe Saint Pierre - ECPv6.13.2//NONSGML v1.0//EN
CALSCALE:GREGORIAN
METHOD:PUBLISH
X-WR-CALNAME:Woluwe Saint Pierre
X-ORIGINAL-URL:https://www.woluwe1150.be
X-WR-CALDESC:Évènements pour Woluwe Saint Pierre
REFRESH-INTERVAL;VALUE=DURATION:PT1H
X-Robots-Tag:noindex
X-PUBLISHED-TTL:PT1H
BEGIN:VTIMEZONE
TZID:Europe/Brussels
BEGIN:DAYLIGHT
TZOFFSETFROM:+0100
TZOFFSETTO:+0200
TZNAME:CEST
DTSTART:20250330T010000
END:DAYLIGHT
BEGIN:STANDARD
TZOFFSETFROM:+0200
TZOFFSETTO:+0100
TZNAME:CET
DTSTART:20251026T010000
END:STANDARD
END:VTIMEZONE
BEGIN:VEVENT
DTSTART;TZID=Europe/Brussels:20250515T200000
DTEND;TZID=Europe/Brussels:20250515T223000
DTSTAMP:20260425T124934
CREATED:20250428T072806Z
LAST-MODIFIED:20250428T072806Z
UID:79315-1747339200-1747348200@www.woluwe1150.be
SUMMARY:Lune
DESCRIPTION:par la Compagnie Kaori\n\n\n\n\nLune Bogaert dépose plainte contre l’État belge pour inaction envers l’égalité hommes-femmes. Le jour même\, elle commence un sit-in devant le tribunal en signe de protestation. Elle entame ensuite une grève de la faim. \nSon acte politique\, largement médiatisé\, bouleverse l’intimité des autres personnages: la secrétaire qui a accueilli sa plainte et son avocat\, un maître du barreau qui a accepté de la défendre gratuitement. \nÀ travers le point de vue des trois personnages\, la pièce tisse une toile entre intime et politique autour d’une figure féminine centrale\, pilier au milieu du tumulte. \nMotrice du changement\, Lune Bogaert incarne un monde en mouvement\, qui pose question et nous emporte. \nUne production de la cie Kaori & du Rideau de bruxelles | Avec l’aide de la Fédération Wallonie-Bruxelles – service général de la création artistique et Futur pour la Culture\, de la Loterie Nationale et du Taxshelter.be | Avec le soutien de la SSA (Société Suisse des Auteur.e.s s)\, du Quartier Culturel Malévoz (Suisse)\, de la Bibliothèque Armand Gatti (France)\, du Pôle Conventionné (France)\, de\nla Cité Internationale des Arts de Paris (France)\, de Lansman Édition\, du BAMP\, du Cocq’Arts Festival\, du Théâtre Marni\, de la Province de Namur de l’Archipel 19\, du Théâtre national et du Théâtre Le Public.\nLe texte est édité et disponible aux éditions Lansman. Prix SACD 2023 de la dramaturgie francophone.
URL:https://www.woluwe1150.be/event/lune/
LOCATION:Centre culturel/cultureel centrum Whalll\, 93 avenue Charles Thielemanslaan\, WSP/SPW\, 1150
CATEGORIES:Théâtre
ATTACH;FMTTYPE=image/jpeg:https://www.woluwe1150.be/app/uploads/2025/04/Lune.jpg
ORGANIZER;CN="Whalll":MAILTO:billetterie@whalll.be
END:VEVENT
END:VCALENDAR