BEGIN:VCALENDAR
VERSION:2.0
PRODID:-//Woluwe Saint Pierre - ECPv6.13.2//NONSGML v1.0//EN
CALSCALE:GREGORIAN
METHOD:PUBLISH
X-ORIGINAL-URL:https://www.woluwe1150.be
X-WR-CALDESC:Évènements pour Woluwe Saint Pierre
REFRESH-INTERVAL;VALUE=DURATION:PT1H
X-Robots-Tag:noindex
X-PUBLISHED-TTL:PT1H
BEGIN:VTIMEZONE
TZID:Europe/Brussels
BEGIN:DAYLIGHT
TZOFFSETFROM:+0100
TZOFFSETTO:+0200
TZNAME:CEST
DTSTART:20250330T010000
END:DAYLIGHT
BEGIN:STANDARD
TZOFFSETFROM:+0200
TZOFFSETTO:+0100
TZNAME:CET
DTSTART:20251026T010000
END:STANDARD
END:VTIMEZONE
BEGIN:VEVENT
DTSTART;TZID=Europe/Brussels:20251001T000000
DTEND;TZID=Europe/Brussels:20251012T000000
DTSTAMP:20260425T022339
CREATED:20250729T141512Z
LAST-MODIFIED:20250729T141512Z
UID:81571-1759276800-1760227200@www.woluwe1150.be
SUMMARY:La perruche
DESCRIPTION:DE AUDREY SCHEBAT \nDans leur intérieur bourgeois\, apprêtés et impatients\, un couple attend des amis pour dîner. Ils attendront longtemps… \nCe « lapin » va pousser les deux protagonistes à se poser les bonnes questions sur leur couple. \nÀ la fois subtiles et diaboliques\, les vraies-fausses confidences s’enchaînent\, puis les révélations intimes et quiproquos absurdes\, pour un face à face mordant sur les relations amoureuses. \nUne pièce drôle et irrésistible et sans concession sur le couple. \nInfos et réservations
URL:https://www.woluwe1150.be/event/la-perruche/
LOCATION:Comédie Claude Volter\, 98 avenue des Frères Legrain\, Woluwe-Saint-Pierre\, 1150
CATEGORIES:Théâtre
ATTACH;FMTTYPE=image/jpeg:https://www.woluwe1150.be/app/uploads/2025/07/perruche.jpg
ORGANIZER;CN="Com%C3%A9die Claude Volter":MAILTO:secretariat@comedievolter.be
END:VEVENT
END:VCALENDAR